{"text_format":"3","workbook":"xlsx","n_sheets":23,"sheets":["Wstęp","Hierarchia_og","ho","Hierarchia_1","h1","Hierarchia_2","h2","Hierarchia_3","h3","Hierarchia_4","h4","Hierarchia_5","h5","Hierarchia_6","h6","Hierarchia_7","h7","Hierarchia_8","h8","Hierarchia_9","h9","Hierarchia_10","h10"],"not_rendered":{"images":26,"macros":1},"read":"whole","date_system":"1900"}

{"sheet":"Wstęp","index":0,"n_rows":18,"n_cols":3,"rows_kept":18,"merged":[[0,2,3,15],[6,0,6,15],[10,0,10,15],[11,0,11,15],[12,0,12,15],[16,0,16,15],[17,0,17,15]]}
[null,null,"System umożliwiający poznanie potrzeb osób \nz niepełnosprawnością lub barier, które utrudniają ich zaspokojenie"]
[]
[]
[]
["O SYSTEMIE"]
[]
["System jest dostępnym na stronie Urzędu Statystycznego we Wrocławiu narzędziem, wspierającym proces poznawania hierarchii potrzeb osób z niepełnosprawnością lub barier, które uniemożliwiają zaspokojenie potrzeb. \nSystem przygotowano w oparciu o kwestionariusz badania stworzony na potrzeby dysertacji pt. „Koncepcja pomiaru stopnia zaspokojenia potrzeb osób z niepełnosprawnością. Metodyka badania\". Kwestionariusz dostępny jest na stronie Urzędu. Dysertacja realizowana była w ramach Umowy trójstronnej o współpracy w zakresie prowadzenia doktoratu wdrożeniowego nr R-BP-SOP.0161.Z.69.2018 między Doktorantem (Panią Agatą Girul), Urzędem Statystycznym we Wrocławiu (podmiotem zatrudniającym Doktoranta) oraz Uniwersytetem Ekonomicznym we Wrocławiu. \n\nSystem wykorzystuje procedurę hierarchii potrzeb osób z niepełnosprawnością lub barier, które stoją na przeszkodzie w zaspokojeniu potrzeb, stworzoną na potrzeby wspomnianej wyżej dysertacji. Procedura bazuje na rozkładzie przydzielanych rang. \n\nW zastosowanej procedurze wyodrębnienia potrzeb wymagających najpilniejszego zaspokojenia oraz barier najbardziej uciążliwych, punktem odniesienia są potrzeby najbardziej pożądane przez respondentów. Oznacza to, że im częściej respondenci daną potrzebę lub przeszkodę wskazywali jako najważniejszą lub drugą w kolejności co do ważności, tym uzyskiwano większą szansę, że określona potrzeba lub bariera będzie wśród tych najważniejszych. W ten sposób była możliwość wytypowania potrzeb, które w sposób jednoznaczny uznawane były przez respondentów jako najważniejsze, nawet jeśli dotyczyły mniejszej grupy osób. "]
[]
["PROCEDURA WYODRĘBNIENIA POTRZEB LUB BARIER"]
[]
["Załóżmy, że mamy R potrzeb podlegających rangowaniu.\nNiech: r oznacza odpowiednio r -tą potrzebę dotyczącą określonego pytania badawczego, gdzie\nn oznacza liczbę wszystkich respondentów, którzy rangowali dane potrzeby\nPonadto:\nXr – zmienna losowa oznaczająca ważność potrzeby r, dla której zbiór wartości, funkcja prawdopodobieństwa i dystrybuanta określone są następująco:\n\n\n\nZmienna losowa przyjmuje wartość 6 jeśli respondent nie wskazał potrzeby wśród tych najważniejszych na pozycjach od 1 do 5.\n\nProcedura hierarchizacji potrzeb przebiega krokowo w następujący sposób:"]
["1) \tWyodrębnienie najpilniejszej potrzeby\nPierwsza w hierarchii potrzeba jest wybierana spośród zbioru potrzeb, których wskaza-nie na pierwszej lub drugiej pozycji jest dostatecznie wysokie przy jednoczesnym maksy-malnym wskazaniu jej na pierwszym miejscu. Procedurę wyboru najpilniejszej potrzeby można zapisać następująco:\n                                                                        oraz               osiąga maksimum,   gdzie                                                           oraz  \n\nW sytuacji, gdy istnieją dwie lub więcej potrzeb, dla których                                         to za najważniejszą potrzebę uznawana jest ta, dla której                 jest największa\n\nJeśli                              oraz                                              , wówczas wyznaczone potrzeby  k oraz  l  tratowane są jako równie ważne.\nWyodrębniona na danym poziomie hierarchii potrzeba jest eliminowana ze zbioru potrzeb podlegających dalszej hierarchizacji.\n"]
["2) \tWyodrębnienie  k kolejnych najpilniejszych potrzeb \nWybór  i-tej w kolejności potrzeby (          ) dokonywany jest spośród potrzeb, których wskazanie na maksymalnie (i+1)-szej pozycji jest dostatecznie wysokie jednocześnie przy maksymalnym wskazaniu jej na maksymalnie drugiej pozycji. \nZatem dla            ,  i-tą w hierarchii potrzebą jest ta, dla której: \n                                                                                         oraz                osiąga maksimum\n\ngdzie                                                                      oraz                                    \n\nW sytuacji, gdy istnieją dwie lub więcej potrzeb, dla których                                          to za najważniejszą potrzebę uznawana jest ta, dla której                  jest największa.\nJeśli                                    oraz                                           , to za najważniejszą potrzebę uznawana jest ta, dla której                        jest największa.\nJeśli                                 oraz                                oraz                                                       , wówczas wyznaczone potrzeby  k oraz  l tratowane są jako równie ważne."]
[]
["FUNKCJONALNOŚĆ SYSTEMU"]
[]
["Aby wykorzystać System należy przeprowadzić badanie w oparciu o skonstruowany kwestionariusz. Własne badanie można zrealizować bazując wyłącznie na pytaniach rankingowych. Są to pytania sformułowane w sposób następujący „Jakie Pana / Pani zdaniem bariery najbardziej utrudniają …” lub „Co jest najbardziej Panu / Pani potrzebne, aby zaspokoić potrzeby związane z …”.\nW kwestionariuszu są to pytania: \nPytania 3, 4 i 5 dział 6 , Pytanie 4 i 5 dział 1, Pytanie 4 dział 2, Pytanie 10 i 15 dział 3, Pytanie 7 i 20 dział 4, Pytanie 13 dział 5\n\nPo realizacji własnego badania i zebraniu danych można wykorzystać System do poznania hierarchii potrzeb. \nW tym celu należy:\n1. Wejść do zakładki odpowiadającej poszczególnym pytaniom w kwestionariuszu\nPytanie 3 dział 6 (zakładka Hierarchia_og)\nPytanie 4 dział 1 (zakładka Hierarchia_1)\nPytanie 5 dział 1 (zakładka Hierarchia_2)\nPytanie 4 dział 2 (zakładka Hierarchia_3)\nPytanie 10 dział 3 (zakładka Hierarchia_4)\nPytanie 15 dział 3 (zakładka Hierarchia_5)\nPytanie 7 dział 4 (zakładka Hierarchia_6)\nPytanie 20 dział 4 (zakładka Hierarchia_7)\nPytanie 13 dział 5 (zakładka Hierarchia_8)\nPytanie 4 dział 6 (zakładka Hierarchia_9)\nPytanie 5 dział 6 (zakładka Hierarchia_10) \n\n"]
["2. Wprowadzić dane zebrane od respondentów w przeznaczone miejsce zgodnie z legendą\n\n3. Wprowadzić w pole B4 ogólną liczbę respondentów ogółem biorących udział w badaniu\n\n4. Aby na podstawie własnych danych wygenerować hierarchię potrzeb/barier należy kliknąć myszą w ikonę piramidki \n\n5. Hierarchia potrzeb zostanie automatycznie wygenerowana w przeznaczonym do tego miejscu, \ngdzie potrzeba o numerze 1 oznacza potrzebę najważniejszą do zaspokojenia w hierarchii potrzeb, \na bariera o numerze 1 oznacza barierę najbardziej uciążliwą i wymagajacą najpilniejszej likwidacjii wśród hierarchii barier"]

{"sheet":"Hierarchia_og","index":1,"n_rows":1009,"n_cols":13,"rows_kept":1009,"merged":[[3,3,5,8],[6,11,6,12],[7,11,7,12],[23,10,23,12]]}
[]
["Hierarchia grup potrzeb osób z niepełnosprawnościami "]
[]
[{"$nulls":3},"Podaj liczbę wszystkich respondentów, którzy odpowiadali na pytanie 3 w dziale 6 kwestionariusza"]
[]
[]
["W poniższej tabeli uzupełnij odpowiedzi respondentów"]
["1 oznacza potrzebę najważniejszą, a 8 – najmniej ważną",{"$nulls":10},"Legenda:"]
["Nr respondenta","p1","p2","p3","p4","p5","p6","p7","p8",null,null,"p1","Potrzeby mieszkaniowe"]
[1,{"$nulls":10},"p2","Potrzeby architektoniczne w przestrzeni publicznej"]
[2,{"$nulls":10},"p3","Potrzeby związane z przemieszczaniem się przy użyciu środków transportu"]
[3,{"$nulls":10},"p4","Potrzeby w zakresie opieki zdrowotnej i rehabilitacyjnej"]
[4,{"$nulls":10},"p5","Potrzeby w zakresie edukacji i komunikacji"]
[5,{"$nulls":10},"p6","Potrzeby w zakresie zatrudnienia"]
[6,{"$nulls":10},"p7","Potrzeby związane z rozwijaniem zainteresowań i spędzaniem czasu wolnego"]
[7,{"$nulls":10},"p8","Potrzeby finansowe gospodarstwa domowego"]
[8]
[9]
[10,{"$nulls":10},"Kliknij aby poznać hierarchię"]
[11]
[12]
[13]
[14]
[15,{"$nulls":9},"Hierarchia  1 oznacza potrzebę najważniejszą, a 8 – najmniej ważną"]
[16]
[17,{"$nulls":9},1,{"$f":"ho!Z14","v":0},{"$f":"ho!AA14","v":0}]
[18,{"$nulls":9},2,{"$f":"ho!Z15","v":0},{"$f":"ho!AA15","v":0}]
[19,{"$nulls":9},3,{"$f":"ho!Z16","v":0},{"$f":"ho!AA16","v":0}]
[20,{"$nulls":9},4,{"$f":"ho!Z17","v":0},{"$f":"ho!AA17","v":0}]
[21,{"$nulls":9},5,{"$f":"ho!Z18","v":0},{"$f":"ho!AA18","v":0}]
[22,{"$nulls":9},6,{"$f":"ho!Z19","v":0},{"$f":"ho!AA19","v":0}]
[23,{"$nulls":9},7,{"$f":"ho!Z20","v":0},{"$f":"ho!AA20","v":0}]
[24,{"$nulls":9},8,{"$f":"ho!Z21","v":0},{"$f":"ho!AA21","v":0}]
[25]
[26]
[27]
[28]
[29]
[30]
[31]
[32]
[33]
[34]
[35]
[36]
[37]
[38]
[39]
[40]
[41]
[42]
[43]
[44]
[45]
[46]
[47]
[48]
[49]
[50]
[51]
[52]
[53]
[54]
[55]
[56]
[57]
[58]
[59]
[60]
[61]
[62]
[63]
[64]
[65]
[66]
[67]
[68]
[69]
[70]
[71]
[72]
[73]
[74]
[75]
[76]
[77]
[78]
[79]
[80]
[81]
[82]
[83]
[84]
[85]
[86]
[87]
[88]
[89]
[90]
[91]
[92]
[93]
[94]
[95]
[96]
[97]
[98]
[99]
[100]
[101]
[102]
[103]
[104]
[105]
[106]
[107]
[108]
[109]
[110]
[111]
[112]
[113]
[114]
[115]
[116]
[117]
[118]
[119]
[120]
[121]
[122]
[123]
[124]
[125]
[126]
[127]
[128]
[129]
[130]
[131]
[132]
[133]
[134]
[135]
[136]
[137]
[138]
[139]
[140]
[141]
[142]
[143]
[144]
[145]
[146]
[147]
[148]
[149]
[150]
[151]
[152]
[153]
[154]
[155]
[156]
[157]
[158]
[159]
[160]
[161]
[162]
[163]
[164]
[165]
[166]
[167]
[168]
[169]
[170]
[171]
[172]
[173]
[174]
[175]
[176]
[177]
[178]
[179]
[180]
[181]
[182]
[183]
[184]
[185]
[186]
[187]
[188]
[189]
[190]
[191]
[192]
[193]
[194]
[195]
[196]
[197]
[198]
[199]
[200]
[201]
[202]
[203]
[204]
[205]
[206]
[207]
[208]
[209]
[210]
[211]
[212]
[213]
[214]
[215]
[216]
[217]
[218]
[219]
[220]
[221]
[222]
[223]
[224]
[225]
[226]
[227]
[228]
[229]
[230]
[231]
[232]
[233]
[234]
[235]
[236]
[237]
[238]
[239]
[240]
[241]
[242]
[243]
[244]
[245]
[246]
[247]
[248]
[249]
[250]
[251]
[252]
[253]
[254]
[255]
[256]
[257]
[258]
[259]
[260]
[261]
[262]
[263]
[264]
[265]
[266]
[267]
[268]
[269]
[270]
[271]
[272]
[273]
[274]
[275]
[276]
[277]
[278]
[279]
[280]
[281]
[282]
[283]
[284]
[285]
[286]
[287]
[288]
[289]
[290]
[291]
[292]
[293]
[294]
[295]
[296]
[297]
[298]
[299]
[300]
[301]
[302]
[303]
[304]
[305]
[306]
[307]
[308]
[309]
[310]
[311]
[312]
[313]
[314]
[315]
[316]
[317]
[318]
[319]
[320]
[321]
[322]
[323]
[324]
[325]
[326]
[327]
[328]
[329]
[330]
[331]
[332]
[333]
[334]
[335]
[336]
[337]
[338]
[339]
[340]
[341]
[342]
[343]
[344]
[345]
[346]
[347]
[348]
[349]
[350]
[351]
[352]
[353]
[354]
[355]
[356]
[357]
[358]
[359]
[360]
[361]
[362]
[363]
[364]
[365]
[366]
[367]
[368]
[369]
[370]
[371]
[372]
[373]
[374]
[375]
[376]
[377]
[378]
[379]
[380]
[381]
[382]
[383]
[384]
[385]
[386]
[387]
[388]
[389]
[390]
[391]
[392]
[393]
[394]
[395]
[396]
[397]
[398]
[399]
[400]
[401]
[402]
[403]
[404]
[405]
[406]
[407]
[408]
[409]
[410]
[411]
[412]
[413]
[414]
[415]
[416]
[417]
[418]
[419]
[420]
[421]
[422]
[423]
[424]
[425]
[426]
[427]
[428]
[429]
[430]
[431]
[432]
[433]
[434]
[435]
[436]
[437]
[438]
[439]
[440]
[441]
[442]
[443]
[444]
[445]
[446]
[447]
[448]
[449]
[450]
[451]
[452]
[453]
[454]
[455]
[456]
[457]
[458]
[459]
[460]
[461]
[462]
[463]
[464]
[465]
[466]
[467]
[468]
[469]
[470]
[471]
[472]
[473]
[474]
[475]
[476]
[477]
[478]
[479]
[480]
[481]
[482]
[483]
[484]
[485]
[486]
[487]
[488]
[489]
[490]
[491]
[492]
[493]
[494]
[495]
[496]
[497]
[498]
[499]
[500]
[501]
[502]
[503]
[504]
[505]
[506]
[507]
[508]
[509]
[510]
[511]
[512]
[513]
[514]
[515]
[516]
[517]
[518]
[519]
[520]
[521]
[522]
[523]
[524]
[525]
[526]
[527]
[528]
[529]
[530]
[531]
[532]
[533]
[534]
[535]
[536]
[537]
[538]
[539]
[540]
[541]
[542]
[543]
[544]
[545]
[546]
[547]
[548]
[549]
[550]
[551]
[552]
[553]
[554]
[555]
[556]
[557]
[558]
[559]
[560]
[561]
[562]
[563]
[564]
[565]
[566]
[567]
[568]
[569]
[570]
[571]
[572]
[573]
[574]
[575]
[576]
[577]
[578]
[579]
[580]
[581]
[582]
[583]
[584]
[585]
[586]
[587]
[588]
[589]
[590]
[591]
[592]
[593]
[594]
[595]
[596]
[597]
[598]
[599]
[600]
[601]
[602]
[603]
[604]
[605]
[606]
[607]
[608]
[609]
[610]
[611]
[612]
[613]
[614]
[615]
[616]
[617]
[618]
[619]
[620]
[621]
[622]
[623]
[624]
[625]
[626]
[627]
[628]
[629]
[630]
[631]
[632]
[633]
[634]
[635]
[636]
[637]
[638]
[639]
[640]
[641]
[642]
[643]
[644]
[645]
[646]
[647]
[648]
[649]
[650]
[651]
[652]
[653]
[654]
[655]
[656]
[657]
[658]
[659]
[660]
[661]
[662]
[663]
[664]
[665]
[666]
[667]
[668]
[669]
[670]
[671]
[672]
[673]
[674]
[675]
[676]
[677]
[678]
[679]
[680]
[681]
[682]
[683]
[684]
[685]
[686]
[687]
[688]
[689]
[690]
[691]
[692]
[693]
[694]
[695]
[696]
[697]
[698]
[699]
[700]
[701]
[702]
[703]
[704]
[705]
[706]
[707]
[708]
[709]
[710]
[711]
[712]
[713]
[714]
[715]
[716]
[717]
[718]
[719]
[720]
[721]
[722]
[723]
[724]
[725]
[726]
[727]
[728]
[729]
[730]
[731]
[732]
[733]
[734]
[735]
[736]
[737]
[738]
[739]
[740]
[741]
[742]
[743]
[744]
[745]
[746]
[747]
[748]
[749]
[750]
[751]
[752]
[753]
[754]
[755]
[756]
[757]
[758]
[759]
[760]
[761]
[762]
[763]
[764]
[765]
[766]
[767]
[768]
[769]
[770]
[771]
[772]
[773]
[774]
[775]
[776]
[777]
[778]
[779]
[780]
[781]
[782]
[783]
[784]
[785]
[786]
[787]
[788]
[789]
[790]
[791]
[792]
[793]
[794]
[795]
[796]
[797]
[798]
[799]
[800]
[801]
[802]
[803]
[804]
[805]
[806]
[807]
[808]
[809]
[810]
[811]
[812]
[813]
[814]
[815]
[816]
[817]
[818]
[819]
[820]
[821]
[822]
[823]
[824]
[825]
[826]
[827]
[828]
[829]
[830]
[831]
[832]
[833]
[834]
[835]
[836]
[837]
[838]
[839]
[840]
[841]
[842]
[843]
[844]
[845]
[846]
[847]
[848]
[849]
[850]
[851]
[852]
[853]
[854]
[855]
[856]
[857]
[858]
[859]
[860]
[861]
[862]
[863]
[864]
[865]
[866]
[867]
[868]
[869]
[870]
[871]
[872]
[873]
[874]
[875]
[876]
[877]
[878]
[879]
[880]
[881]
[882]
[883]
[884]
[885]
[886]
[887]
[888]
[889]
[890]
[891]
[892]
[893]
[894]
[895]
[896]
[897]
[898]
[899]
[900]
[901]
[902]
[903]
[904]
[905]
[906]
[907]
[908]
[909]
[910]
[911]
[912]
[913]
[914]
[915]
[916]
[917]
[918]
[919]
[920]
[921]
[922]
[923]
[924]
[925]
[926]
[927]
[928]
[929]
[930]
[931]
[932]
[933]
[934]
[935]
[936]
[937]
[938]
[939]
[940]
[941]
[942]
[943]
[944]
[945]
[946]
[947]
[948]
[949]
[950]
[951]
[952]
[953]
[954]
[955]
[956]
[957]
[958]
[959]
[960]
[961]
[962]
[963]
[964]
[965]
[966]
[967]
[968]
[969]
[970]
[971]
[972]
[973]
[974]
[975]
[976]
[977]
[978]
[979]
[980]
[981]
[982]
[983]
[984]
[985]
[986]
[987]
[988]
[989]
[990]
[991]
[992]
[993]
[994]
[995]
[996]
[997]
[998]
[999]
[1000]

{"sheet":"ho","index":2,"n_rows":47,"n_cols":27,"rows_kept":47,"hidden":true}
[1,2,3,4,5,6,7,8,9,10,11,12,13,14,15,16,17,18,19,20,21,22,23,24,25,26,27]
[null,{"$f":"Hierarchia_og!B9","v":"p1"},{"$f":"Hierarchia_og!C9","v":"p2"},{"$f":"Hierarchia_og!D9","v":"p3"},{"$f":"Hierarchia_og!E9","v":"p4"},{"$f":"Hierarchia_og!F9","v":"p5"},{"$f":"Hierarchia_og!G9","v":"p6"},{"$f":"Hierarchia_og!H9","v":"p7"},{"$f":"Hierarchia_og!I9","v":"p8"}]
[1,{"$f":"COUNTIF(Hierarchia_og!B10:B5000,1)","v":0},{"$f":"COUNTIF(Hierarchia_og!C10:C5000,1)","v":0},{"$f":"COUNTIF(Hierarchia_og!D10:D5000,1)","v":0},{"$f":"COUNTIF(Hierarchia_og!E10:E5000,1)","v":0},{"$f":"COUNTIF(Hierarchia_og!F10:F5000,1)","v":0},{"$f":"COUNTIF(Hierarchia_og!G10:G5000,1)","v":0},{"$f":"COUNTIF(Hierarchia_og!H10:H5000,1)","v":0},{"$f":"COUNTIF(Hierarchia_og!I10:I5000,1)","v":0}]
[2,{"$f":"COUNTIF(Hierarchia_og!B10:B5000,2)","v":0},{"$f":"COUNTIF(Hierarchia_og!C10:C5000,2)","v":0},{"$f":"COUNTIF(Hierarchia_og!D10:D5000,2)","v":0},{"$f":"COUNTIF(Hierarchia_og!E10:E5000,2)","v":0},{"$f":"COUNTIF(Hierarchia_og!F10:F5000,2)","v":0},{"$f":"COUNTIF(Hierarchia_og!G10:G5000,2)","v":0},{"$f":"COUNTIF(Hierarchia_og!H10:H5000,2)","v":0},{"$f":"COUNTIF(Hierarchia_og!I10:I5000,2)","v":0}]
[3,{"$f":"COUNTIF(Hierarchia_og!B10:B5000,3)","v":0},{"$f":"COUNTIF(Hierarchia_og!C10:C5000,3)","v":0},{"$f":"COUNTIF(Hierarchia_og!D10:D5000,3)","v":0},{"$f":"COUNTIF(Hierarchia_og!E10:E5000,3)","v":0},{"$f":"COUNTIF(Hierarchia_og!F10:F5000,3)","v":0},{"$f":"COUNTIF(Hierarchia_og!G10:G5000,3)","v":0},{"$f":"COUNTIF(Hierarchia_og!H10:H5000,3)","v":0},{"$f":"COUNTIF(Hierarchia_og!I10:I5000,3)","v":0}]
[4,{"$f":"COUNTIF(Hierarchia_og!B10:B5000,4)","v":0},{"$f":"COUNTIF(Hierarchia_og!C10:C5000,4)","v":0},{"$f":"COUNTIF(Hierarchia_og!D10:D5000,4)","v":0},{"$f":"COUNTIF(Hierarchia_og!E10:E5000,4)","v":0},{"$f":"COUNTIF(Hierarchia_og!F10:F5000,4)","v":0},{"$f":"COUNTIF(Hierarchia_og!G10:G5000,4)","v":0},{"$f":"COUNTIF(Hierarchia_og!H10:H5000,4)","v":0},{"$f":"COUNTIF(Hierarchia_og!I10:I5000,4)","v":0}]
[5,{"$f":"COUNTIF(Hierarchia_og!B10:B5000,5)","v":0},{"$f":"COUNTIF(Hierarchia_og!C10:C5000,5)","v":0},{"$f":"COUNTIF(Hierarchia_og!D10:D5000,5)","v":0},{"$f":"COUNTIF(Hierarchia_og!E10:E5000,5)","v":0},{"$f":"COUNTIF(Hierarchia_og!F10:F5000,5)","v":0},{"$f":"COUNTIF(Hierarchia_og!G10:G5000,5)","v":0},{"$f":"COUNTIF(Hierarchia_og!H10:H5000,5)","v":0},{"$f":"COUNTIF(Hierarchia_og!I10:I5000,5)","v":0}]
[6,{"$f":"COUNTIF(Hierarchia_og!B10:B5000,6)","v":0},{"$f":"COUNTIF(Hierarchia_og!C10:C5000,6)","v":0},{"$f":"COUNTIF(Hierarchia_og!D10:D5000,6)","v":0},{"$f":"COUNTIF(Hierarchia_og!E10:E5000,6)","v":0},{"$f":"COUNTIF(Hierarchia_og!F10:F5000,6)","v":0},{"$f":"COUNTIF(Hierarchia_og!G10:G5000,6)","v":0},{"$f":"COUNTIF(Hierarchia_og!H10:H5000,6)","v":0},{"$f":"COUNTIF(Hierarchia_og!I10:I5000,6)","v":0}]
[7,{"$f":"COUNTIF(Hierarchia_og!B10:B5000,7)","v":0},{"$f":"COUNTIF(Hierarchia_og!C10:C5000,7)","v":0},{"$f":"COUNTIF(Hierarchia_og!D10:D5000,7)","v":0},{"$f":"COUNTIF(Hierarchia_og!E10:E5000,7)","v":0},{"$f":"COUNTIF(Hierarchia_og!F10:F5000,7)","v":0},{"$f":"COUNTIF(Hierarchia_og!G10:G5000,7)","v":0},{"$f":"COUNTIF(Hierarchia_og!H10:H5000,7)","v":0},{"$f":"COUNTIF(Hierarchia_og!I10:I5000,7)","v":0}]
[8,{"$f":"COUNTIF(Hierarchia_og!B10:B5000,8)","v":0},{"$f":"COUNTIF(Hierarchia_og!C10:C5000,8)","v":0},{"$f":"COUNTIF(Hierarchia_og!D10:D5000,8)","v":0},{"$f":"COUNTIF(Hierarchia_og!E10:E5000,8)","v":0},{"$f":"COUNTIF(Hierarchia_og!F10:F5000,8)","v":0},{"$f":"COUNTIF(Hierarchia_og!G10:G5000,8)","v":0},{"$f":"COUNTIF(Hierarchia_og!H10:H5000,8)","v":0},{"$f":"COUNTIF(Hierarchia_og!I10:I5000,8)","v":0}]
[]
["Skumulowane"]
[null,{"$f":"B2","v":"p1"},"p2","p3","p4","p5","p6","p7","p8",{"$nulls":11},"max-s_licz","s","max-s","max","max_licz"]
[1,{"$f":"B3","v":0},{"$f":"C3","v":0},0,0,0,0,0,0,{"$nulls":11},{"$f":"COUNTIF(B14:I14,\">=\"&W14)","v":8},{"$f":"_xlfn.STDEV.P(B14:I14)","v":{"v":0,"d":"0.0"}},{"$f":"MAX(B14:I14)-V14","v":{"v":0,"d":"0.0"}},{"$f":"MAX(B22:I22)","v":0},{"$f":"COUNTIF(B22:I22,X14)","v":0}]
[2,{"$nulls":19},{"$f":"COUNTIF(B15:I15,\">=\"&W15)","v":0},{"$f":"_xlfn.STDEV.P(B15:I15)","v":{"$error":"#DIV/0!"}},{"$f":"MAX(B15:I15)-V15","v":{"$error":"#DIV/0!"}},{"$f":"MAX(B23:I23)","v":0},{"$f":"COUNTIF(B23:I23,X15)","v":0}]
[3,{"$nulls":19},0,{"$error":"#DIV/0!"},{"$error":"#DIV/0!"},{"$f":"MAX(B24:I24)","v":0},{"$f":"COUNTIF(B24:I24,X16)","v":0}]
[4,{"$nulls":19},0,{"$error":"#DIV/0!"},{"$error":"#DIV/0!"},{"$f":"MAX(B25:I25)","v":0},0]
[5,{"$nulls":19},0,{"$error":"#DIV/0!"},{"$f":"MAX(B18:I18)-V18","v":{"$error":"#DIV/0!"}},{"$f":"MAX(B26:I26)","v":0},0]
[6,{"$nulls":19},0,{"$error":"#DIV/0!"},{"$error":"#DIV/0!"},0,0]
[7,{"$nulls":19},0,{"$error":"#DIV/0!"},{"$error":"#DIV/0!"},0,0]
[8,{"$nulls":19},{"$f":"COUNTIF(B21:I21,\">=\"&W21)","v":0},{"$error":"#DIV/0!"},{"$error":"#DIV/0!"},{"$f":"MAX(B29:I29)","v":0},0]
["max_1"]
["max_2"]
["max_3"]
["max_4"]
["max_5"]
["max_6"]
["max_7"]
["max_8"]
["p1","Potrzeby mieszkaniowe"]
["p2","Potrzeby architektoniczne w przestrzeni publicznej"]
["p3","Potrzeby związane z przemieszczaniem się przy użyciu środków transportu"]
["p4","Potrzeby w zakresie opieki zdrowotnej i rehabilitacyjnej"]
["p5","Potrzeby w zakresie edukacji i komunikacji"]
["p6","Potrzeby w zakresie zatrudnienia"]
["p7","Potrzeby związane z rozwijaniem zainteresowań i spędzaniem czasu wolnego"]
["p8","Potrzeby finansowe gospodarstwa domowego"]
[]
[null,"p1","p2","p3","p4","p5","p6","p7","p8"]
[1,{"$f":"B3","v":0},{"$f":"C3","v":0},0,0,0,0,0,0,{"$f":"_xlfn.STDEV.P(B40:I40)","v":{"v":0,"d":"0.0"}},{"$f":"MAX(B40:I40)-J40","v":{"v":0,"d":"0.0"}}]
[2,{"$f":"B40+B4","v":0},{"$f":"C40+C4","v":0},0,0,0,0,0,0,{"$f":"_xlfn.STDEV.P(B41:I41)","v":{"v":0,"d":"0.0"}},{"$f":"MAX(B41:I41)-J41","v":{"v":0,"d":"0.0"}}]
[3,{"$f":"B41+B5","v":0},{"$f":"C41+C5","v":0},0,null,0,0,0,0,{"v":0,"d":"0.0"},{"v":0,"d":"0.0"}]
[4,{"$f":"B42+B6","v":0},0,0,null,0,0,null,0,{"v":0,"d":"0.0"},{"v":0,"d":"0.0"}]
[5,0,0,0,null,0,0,null,null,{"v":0,"d":"0.0"},{"v":0,"d":"0.0"}]
[6,null,0,0,null,0,0,null,null,{"v":0,"d":"0.0"},{"v":0,"d":"0.0"}]
[7,null,0,null,null,0,0,null,null,{"v":0,"d":"0.0"},{"v":0,"d":"0.0"}]
[8,{"$nulls":4},0,0,null,null,{"v":0,"d":"0.0"},{"v":0,"d":"0.0"}]

{"sheet":"Hierarchia_1","index":3,"n_rows":1009,"n_cols":14,"rows_kept":1009,"merged":[[3,3,5,9],[6,12,6,13],[7,12,7,13],[23,11,23,13]]}
[]
["Hierarchia barier w budynku utrudniających osobom z niepełnosprawnościami dostęp do mieszkania i wychodzenia z niego "]
[]
[{"$nulls":3},"Podaj liczbę wszystkich respondentów, którzy odpowiadali \nna pytanie 4 w dziale 1 kwestionariusza, łącznie z tymi osobami, które nie miały barier"]
[]
[]
["W poniższej tabeli uzupełnij odpowiedzi respondentów"]
["1 oznacza barierę najbardziej uciążliwą, \na 5 – najmniej uciążliwą",{"$nulls":11},"Legenda:"]
["Nr respondenta","p1","p2","p3","p4","p5","p6","p7","p8","p9",null,null,"p1","Brak windy lub jest winda, która jest niedostosowana do moich potrzeb"]
[1,{"$nulls":11},"p2","Zbyt wysokie progi i schody"]
[2,{"$nulls":11},"p3","Brak podjazdów / pochylni"]
[3,{"$nulls":11},"p4","Brak oznaczeń głosowych / dotykowych, wizualnych w ciągach komunikacyjnych lub są oznaczenia, ale niedostosowane do moich potrzeb"]
[4,{"$nulls":11},"p5","Brak włączników na odpowiedniej wysokości"]
[5,{"$nulls":11},"p6","Brak automatycznego oświetlenia"]
[6,{"$nulls":11},"p7","Brak poręczy i uchwytów w ciągach komunikacyjnych lub są uchwyty i poręcze w ciągach komunikacyjnych, ale niedostosowane do moich potrzeb"]
[7,{"$nulls":11},"p8","Drzwi wejściowe nieprzystosowane do moich potrzeb"]
[8,{"$nulls":11},"p9","Inne utrudnienia, jakie? "]
[9]
[10,{"$nulls":11},"Kliknij aby poznać hierarchię"]
[11]
[12]
[13]
[14]
[15,{"$nulls":10},"Hierarchia  1 oznacza barierę najbardziej uciążliwą, a 5 – najmniej uciążliwą"]
[16]
[17,{"$nulls":10},1,{"$f":"'h1'!Z12","v":0},{"$f":"'h1'!AA12","v":0}]
[18,{"$nulls":10},2,{"$f":"'h1'!Z13","v":0},{"$f":"'h1'!AA13","v":0}]
[19,{"$nulls":10},3,{"$f":"'h1'!Z14","v":0},{"$f":"'h1'!AA14","v":0}]
[20,{"$nulls":10},4,{"$f":"'h1'!Z15","v":0},{"$f":"'h1'!AA15","v":0}]
[21,{"$nulls":10},5,{"$f":"'h1'!Z16","v":0},{"$f":"'h1'!AA16","v":0}]
[22]
[23]
[24]
[25]
[26]
[27]
[28]
[29]
[30]
[31]
[32]
[33]
[34]
[35]
[36]
[37]
[38]
[39]
[40]
[41]
[42]
[43]
[44]
[45]
[46]
[47]
[48]
[49]
[50]
[51]
[52]
[53]
[54]
[55]
[56]
[57]
[58]
[59]
[60]
[61]
[62]
[63]
[64]
[65]
[66]
[67]
[68]
[69]
[70]
[71]
[72]
[73]
[74]
[75]
[76]
[77]
[78]
[79]
[80]
[81]
[82]
[83]
[84]
[85]
[86]
[87]
[88]
[89]
[90]
[91]
[92]
[93]
[94]
[95]
[96]
[97]
[98]
[99]
[100]
[101]
[102]
[103]
[104]
[105]
[106]
[107]
[108]
[109]
[110]
[111]
[112]
[113]
[114]
[115]
[116]
[117]
[118]
[119]
[120]
[121]
[122]
[123]
[124]
[125]
[126]
[127]
[128]
[129]
[130]
[131]
[132]
[133]
[134]
[135]
[136]
[137]
[138]
[139]
[140]
[141]
[142]
[143]
[144]
[145]
[146]
[147]
[148]
[149]
[150]
[151]
[152]
[153]
[154]
[155]
[156]
[157]
[158]
[159]
[160]
[161]
[162]
[163]
[164]
[165]
[166]
[167]
[168]
[169]
[170]
[171]
[172]
[173]
[174]
[175]
[176]
[177]
[178]
[179]
[180]
[181]
[182]
[183]
[184]
[185]
[186]
[187]
[188]
[189]
[190]
[191]
[192]
[193]
[194]
[195]
[196]
[197]
[198]
[199]
[200]
[201]
[202]
[203]
[204]
[205]
[206]
[207]
[208]
[209]
[210]
[211]
[212]
[213]
[214]
[215]
[216]
[217]
[218]
[219]
[220]
[221]
[222]
[223]
[224]
[225]
[226]
[227]
[228]
[229]
[230]
[231]
[232]
[233]
[234]
[235]
[236]
[237]
[238]
[239]
[240]
[241]
[242]
[243]
[244]
[245]
[246]
[247]
[248]
[249]
[250]
[251]
[252]
[253]
[254]
[255]
[256]
[257]
[258]
[259]
[260]
[261]
[262]
[263]
[264]
[265]
[266]
[267]
[268]
[269]
[270]
[271]
[272]
[273]
[274]
[275]
[276]
[277]
[278]
[279]
[280]
[281]
[282]
[283]
[284]
[285]
[286]
[287]
[288]
[289]
[290]
[291]
[292]
[293]
[294]
[295]
[296]
[297]
[298]
[299]
[300]
[301]
[302]
[303]
[304]
[305]
[306]
[307]
[308]
[309]
[310]
[311]
[312]
[313]
[314]
[315]
[316]
[317]
[318]
[319]
[320]
[321]
[322]
[323]
[324]
[325]
[326]
[327]
[328]
[329]
[330]
[331]
[332]
[333]
[334]
[335]
[336]
[337]
[338]
[339]
[340]
[341]
[342]
[343]
[344]
[345]
[346]
[347]
[348]
[349]
[350]
[351]
[352]
[353]
[354]
[355]
[356]
[357]
[358]
[359]
[360]
[361]
[362]
[363]
[364]
[365]
[366]
[367]
[368]
[369]
[370]
[371]
[372]
[373]
[374]
[375]
[376]
[377]
[378]
[379]
[380]
[381]
[382]
[383]
[384]
[385]
[386]
[387]
[388]
[389]
[390]
[391]
[392]
[393]
[394]
[395]
[396]
[397]
[398]
[399]
[400]
[401]
[402]
[403]
[404]
[405]
[406]
[407]
[408]
[409]
[410]
[411]
[412]
[413]
[414]
[415]
[416]
[417]
[418]
[419]
[420]
[421]
[422]
[423]
[424]
[425]
[426]
[427]
[428]
[429]
[430]
[431]
[432]
[433]
[434]
[435]
[436]
[437]
[438]
[439]
[440]
[441]
[442]
[443]
[444]
[445]
[446]
[447]
[448]
[449]
[450]
[451]
[452]
[453]
[454]
[455]
[456]
[457]
[458]
[459]
[460]
[461]
[462]
[463]
[464]
[465]
[466]
[467]
[468]
[469]
[470]
[471]
[472]
[473]
[474]
[475]
[476]
[477]
[478]
[479]
[480]
[481]
[482]
[483]
[484]
[485]
[486]
[487]
[488]
[489]
[490]
[491]
[492]
[493]
[494]
[495]
[496]
[497]
[498]
[499]
[500]
[501]
[502]
[503]
[504]
[505]
[506]
[507]
[508]
[509]
[510]
[511]
[512]
[513]
[514]
[515]
[516]
[517]
[518]
[519]
[520]
[521]
[522]
[523]
[524]
[525]
[526]
[527]
[528]
[529]
[530]
[531]
[532]
[533]
[534]
[535]
[536]
[537]
[538]
[539]
[540]
[541]
[542]
[543]
[544]
[545]
[546]
[547]
[548]
[549]
[550]
[551]
[552]
[553]
[554]
[555]
[556]
[557]
[558]
[559]
[560]
[561]
[562]
[563]
[564]
[565]
[566]
[567]
[568]
[569]
[570]
[571]
[572]
[573]
[574]
[575]
[576]
[577]
[578]
[579]
[580]
[581]
[582]
[583]
[584]
[585]
[586]
[587]
[588]
[589]
[590]
[591]
[592]
[593]
[594]
[595]
[596]
[597]
[598]
[599]
[600]
[601]
[602]
[603]
[604]
[605]
[606]
[607]
[608]
[609]
[610]
[611]
[612]
[613]
[614]
[615]
[616]
[617]
[618]
[619]
[620]
[621]
[622]
[623]
[624]
[625]
[626]
[627]
[628]
[629]
[630]
[631]
[632]
[633]
[634]
[635]
[636]
[637]
[638]
[639]
[640]
[641]
[642]
[643]
[644]
[645]
[646]
[647]
[648]
[649]
[650]
[651]
[652]
[653]
[654]
[655]
[656]
[657]
[658]
[659]
[660]
[661]
[662]
[663]
[664]
[665]
[666]
[667]
[668]
[669]
[670]
[671]
[672]
[673]
[674]
[675]
[676]
[677]
[678]
[679]
[680]
[681]
[682]
[683]
[684]
[685]
[686]
[687]
[688]
[689]
[690]
[691]
[692]
[693]
[694]
[695]
[696]
[697]
[698]
[699]
[700]
[701]
[702]
[703]
[704]
[705]
[706]
[707]
[708]
[709]
[710]
[711]
[712]
[713]
[714]
[715]
[716]
[717]
[718]
[719]
[720]
[721]
[722]
[723]
[724]
[725]
[726]
[727]
[728]
[729]
[730]
[731]
[732]
[733]
[734]
[735]
[736]
[737]
[738]
[739]
[740]
[741]
[742]
[743]
[744]
[745]
[746]
[747]
[748]
[749]
[750]
[751]
[752]
[753]
[754]
[755]
[756]
[757]
[758]
[759]
[760]
[761]
[762]
[763]
[764]
[765]
[766]
[767]
[768]
[769]
[770]
[771]
[772]
[773]
[774]
[775]
[776]
[777]
[778]
[779]
[780]
[781]
[782]
[783]
[784]
[785]
[786]
[787]
[788]
[789]
[790]
[791]
[792]
[793]
[794]
[795]
[796]
[797]
[798]
[799]
[800]
[801]
[802]
[803]
[804]
[805]
[806]
[807]
[808]
[809]
[810]
[811]
[812]
[813]
[814]
[815]
[816]
[817]
[818]
[819]
[820]
[821]
[822]
[823]
[824]
[825]
[826]
[827]
[828]
[829]
[830]
[831]
[832]
[833]
[834]
[835]
[836]
[837]
[838]
[839]
[840]
[841]
[842]
[843]
[844]
[845]
[846]
[847]
[848]
[849]
[850]
[851]
[852]
[853]
[854]
[855]
[856]
[857]
[858]
[859]
[860]
[861]
[862]
[863]
[864]
[865]
[866]
[867]
[868]
[869]
[870]
[871]
[872]
[873]
[874]
[875]
[876]
[877]
[878]
[879]
[880]
[881]
[882]
[883]
[884]
[885]
[886]
[887]
[888]
[889]
[890]
[891]
[892]
[893]
[894]
[895]
[896]
[897]
[898]
[899]
[900]
[901]
[902]
[903]
[904]
[905]
[906]
[907]
[908]
[909]
[910]
[911]
[912]
[913]
[914]
[915]
[916]
[917]
[918]
[919]
[920]
[921]
[922]
[923]
[924]
[925]
[926]
[927]
[928]
[929]
[930]
[931]
[932]
[933]
[934]
[935]
[936]
[937]
[938]
[939]
[940]
[941]
[942]
[943]
[944]
[945]
[946]
[947]
[948]
[949]
[950]
[951]
[952]
[953]
[954]
[955]
[956]
[957]
[958]
[959]
[960]
[961]
[962]
[963]
[964]
[965]
[966]
[967]
[968]
[969]
[970]
[971]
[972]
[973]
[974]
[975]
[976]
[977]
[978]
[979]
[980]
[981]
[982]
[983]
[984]
[985]
[986]
[987]
[988]
[989]
[990]
[991]
[992]
[993]
[994]
[995]
[996]
[997]
[998]
[999]
[1000]

{"sheet":"h1","index":4,"n_rows":32,"n_cols":27,"rows_kept":32,"hidden":true}
[1,2,3,4,5,6,7,8,9,10,11,12,13,14,15,16,17,18,19,20,21,22,23,24,25,26,27]
[null,{"$f":"Hierarchia_1!B9","v":"p1"},{"$f":"Hierarchia_1!C9","v":"p2"},{"$f":"Hierarchia_1!D9","v":"p3"},{"$f":"Hierarchia_1!E9","v":"p4"},{"$f":"Hierarchia_1!F9","v":"p5"},{"$f":"Hierarchia_1!G9","v":"p6"},{"$f":"Hierarchia_1!H9","v":"p7"},{"$f":"Hierarchia_1!I9","v":"p8"},{"$f":"Hierarchia_1!J9","v":"p9"}]
[1,{"$f":"COUNTIF(Hierarchia_1!B10:B5000,1)","v":0},{"$f":"COUNTIF(Hierarchia_1!C10:C5000,1)","v":0},{"$f":"COUNTIF(Hierarchia_1!D10:D5000,1)","v":0},{"$f":"COUNTIF(Hierarchia_1!E10:E5000,1)","v":0},{"$f":"COUNTIF(Hierarchia_1!F10:F5000,1)","v":0},{"$f":"COUNTIF(Hierarchia_1!G10:G5000,1)","v":0},{"$f":"COUNTIF(Hierarchia_1!H10:H5000,1)","v":0},{"$f":"COUNTIF(Hierarchia_1!I10:I5000,1)","v":0},{"$f":"COUNTIF(Hierarchia_1!J10:J5000,1)","v":0}]
[2,{"$f":"COUNTIF(Hierarchia_1!B10:B5000,2)","v":0},{"$f":"COUNTIF(Hierarchia_1!C10:C5000,2)","v":0},{"$f":"COUNTIF(Hierarchia_1!D10:D5000,2)","v":0},{"$f":"COUNTIF(Hierarchia_1!E10:E5000,2)","v":0},{"$f":"COUNTIF(Hierarchia_1!F10:F5000,2)","v":0},{"$f":"COUNTIF(Hierarchia_1!G10:G5000,2)","v":0},{"$f":"COUNTIF(Hierarchia_1!H10:H5000,2)","v":0},{"$f":"COUNTIF(Hierarchia_1!I10:I5000,2)","v":0},{"$f":"COUNTIF(Hierarchia_1!J10:J5000,2)","v":0}]
[3,{"$f":"COUNTIF(Hierarchia_1!B10:B5000,3)","v":0},{"$f":"COUNTIF(Hierarchia_1!C10:C5000,3)","v":0},{"$f":"COUNTIF(Hierarchia_1!D10:D5000,3)","v":0},{"$f":"COUNTIF(Hierarchia_1!E10:E5000,3)","v":0},{"$f":"COUNTIF(Hierarchia_1!F10:F5000,3)","v":0},{"$f":"COUNTIF(Hierarchia_1!G10:G5000,3)","v":0},{"$f":"COUNTIF(Hierarchia_1!H10:H5000,3)","v":0},{"$f":"COUNTIF(Hierarchia_1!I10:I5000,3)","v":0},{"$f":"COUNTIF(Hierarchia_1!J10:J5000,3)","v":0}]
[4,{"$f":"COUNTIF(Hierarchia_1!B10:B5000,4)","v":0},{"$f":"COUNTIF(Hierarchia_1!C10:C5000,4)","v":0},{"$f":"COUNTIF(Hierarchia_1!D10:D5000,4)","v":0},{"$f":"COUNTIF(Hierarchia_1!E10:E5000,4)","v":0},{"$f":"COUNTIF(Hierarchia_1!F10:F5000,4)","v":0},{"$f":"COUNTIF(Hierarchia_1!G10:G5000,4)","v":0},{"$f":"COUNTIF(Hierarchia_1!H10:H5000,4)","v":0},{"$f":"COUNTIF(Hierarchia_1!I10:I5000,4)","v":0},{"$f":"COUNTIF(Hierarchia_1!J10:J5000,4)","v":0}]
[5,{"$f":"COUNTIF(Hierarchia_1!B10:B5000,5)","v":0},{"$f":"COUNTIF(Hierarchia_1!C10:C5000,5)","v":0},{"$f":"COUNTIF(Hierarchia_1!D10:D5000,5)","v":0},{"$f":"COUNTIF(Hierarchia_1!E10:E5000,5)","v":0},{"$f":"COUNTIF(Hierarchia_1!F10:F5000,5)","v":0},{"$f":"COUNTIF(Hierarchia_1!G10:G5000,5)","v":0},{"$f":"COUNTIF(Hierarchia_1!H10:H5000,5)","v":0},{"$f":"COUNTIF(Hierarchia_1!I10:I5000,5)","v":0},{"$f":"COUNTIF(Hierarchia_1!J10:J5000,5)","v":0}]
[6,{"$f":"Hierarchia_1!$B$4-SUM('h1'!B3:B7)","v":0},{"$f":"Hierarchia_1!$B$4-SUM('h1'!C3:C7)","v":0},{"$f":"Hierarchia_1!$B$4-SUM('h1'!D3:D7)","v":0},{"$f":"Hierarchia_1!$B$4-SUM('h1'!E3:E7)","v":0},{"$f":"Hierarchia_1!$B$4-SUM('h1'!F3:F7)","v":0},{"$f":"Hierarchia_1!$B$4-SUM('h1'!G3:G7)","v":0},{"$f":"Hierarchia_1!$B$4-SUM('h1'!H3:H7)","v":0},{"$f":"Hierarchia_1!$B$4-SUM('h1'!I3:I7)","v":0},{"$f":"Hierarchia_1!$B$4-SUM('h1'!J3:J7)","v":0}]
[]
["Skumulowane"]
[null,{"$f":"B2","v":"p1"},{"$f":"C2","v":"p2"},"p3","p4","p5","p6","p7","p8","p9",{"$nulls":10},"max-s_licz","s","max-s","max","max_licz"]
[1,{"$f":"B3","v":0},0,0,0,0,0,{"$f":"H3","v":0},0,0,{"$nulls":10},{"$f":"COUNTIF(B12:J12,\">=\"&W12)","v":9},{"$f":"_xlfn.STDEV.P(B12:J12)","v":{"v":0,"d":"0.0"}},{"$f":"MAX(B12:J12)-V12","v":{"v":0,"d":"0.0"}},{"$f":"MAX(B18:J18)","v":0},{"$f":"COUNTIF(B18:J18,X12)","v":0}]
[2,{"$nulls":19},{"$f":"COUNTIF(B13:J13,\">=\"&W13)","v":0},{"$f":"_xlfn.STDEV.P(B13:J13)","v":{"$error":"#DIV/0!"}},{"$f":"MAX(B13:J13)-V13","v":{"$error":"#DIV/0!"}},{"$f":"MAX(B19:J19)","v":0},{"$f":"COUNTIF(B19:J19,X13)","v":0}]
[3,{"$nulls":19},0,{"$error":"#DIV/0!"},{"$error":"#DIV/0!"},0,0]
[4,{"$nulls":19},0,{"$error":"#DIV/0!"},{"$error":"#DIV/0!"},0,0]
[5,{"$nulls":19},0,{"$error":"#DIV/0!"},{"$error":"#DIV/0!"},0,0]
[6,{"$nulls":19},0,{"$error":"#DIV/0!"},{"$error":"#DIV/0!"},0,0]
["max_1"]
["max_2"]
["max_3"]
["max_4"]
["max_5"]
["max_6"]
["p1","Brak windy lub jest winda, która jest niedostosowana do moich potrzeb"]
["p2","Zbyt wysokie progi i schody"]
["p3","Brak podjazdów / pochylni"]
["p4","Brak oznaczeń głosowych / dotykowych, wizualnych w ciągach komunikacyjnych lub są oznaczenia, ale niedostosowane do moich potrzeb"]
["p5","Brak włączników na odpowiedniej wysokości"]
["p6","Brak automatycznego oświetlenia"]
["p7","Brak poręczy i uchwytów w ciągach komunikacyjnych lub są uchwyty i poręcze w ciągach komunikacyjnych, ale niedostosowane do moich potrzeb"]
["p8","Drzwi wejściowe nieprzystosowane do moich potrzeb"]
["p9","Inne utrudnienia, jakie? "]

{"sheet":"Hierarchia_2","index":5,"n_rows":1009,"n_cols":18,"rows_kept":1009,"merged":[[3,3,5,9],[6,16,6,17],[7,16,7,17],[28,15,28,17]]}
[]
["Hierarchia potrzeb w mieszkaniu / domu aby było ono dostosowane do osób z niepełnosprawnościami "]
[]
[{"$nulls":3},"Podaj liczbę wszystkich respondentów, którzy odpowiadali \nna pytanie 5 w dziale 1 kwestionariusza, łącznie z tymi osobami, które nie wskazały potrzeb"]
[]
[]
["W poniższej tabeli uzupełnij odpowiedzi respondentów"]
["1 oznacza potrzebę najważniejszą, a 5 – najmniej ważną",{"$nulls":15},"Legenda:"]
["Nr respondenta","p1","p2","p3","p4","p5","p6","p7","p8","p9","p10","p11","p12","p13",null,null,"p1","Montaż poręczy i uchwytów w ciągach komunikacyjnych, w pokojach"]
[1,{"$nulls":15},"p2","Montaż poręczy i uchwytów ułatwiających korzystanie z urządzeń higieniczno-sanitarnych"]
[2,{"$nulls":15},"p3","Modernizacja łazienki"]
[3,{"$nulls":15},"p4","Modernizacja kuchni"]
[4,{"$nulls":15},"p5","Likwidacja progów lub zróżnicowania poziomu podłogi"]
[5,{"$nulls":15},"p6","Ułożenie wykładziny antypoślizgowej"]
[6,{"$nulls":15},"p7","Przystosowanie drzwi"]
[7,{"$nulls":15},"p8","Montaż łóżka rehabilitacyjnego"]
[8,{"$nulls":15},"p9","Automatyczne oświetlenie"]
[9,{"$nulls":15},"p10","Oznaczenia głosowe / dotykowe, wizualne"]
[10,{"$nulls":15},"p11","Większy metraż mieszkania / domu"]
[11,{"$nulls":15},"p12","Zakup specjalistycznego sprzętu, jakiego? "]
[12,{"$nulls":15},"p13","Inne, jakie?"]
[13]
[14]
[15,{"$nulls":15},"Kliknij aby poznać hierarchię"]
[16]
[17]
[18]
[19]
[20,{"$nulls":14},"Hierarchia  1 oznacza potrzebę najważniejszą, a 5 – najmniej ważną"]
[21]
[22,{"$nulls":14},1,{"$f":"'h2'!Z12","v":0},{"$f":"'h2'!AA12","v":0}]
[23,{"$nulls":14},2,{"$f":"'h2'!Z13","v":0},{"$f":"'h2'!AA13","v":0}]
[24,{"$nulls":14},3,{"$f":"'h2'!Z14","v":0},{"$f":"'h2'!AA14","v":0}]
[25,{"$nulls":14},4,{"$f":"'h2'!Z15","v":0},{"$f":"'h2'!AA15","v":0}]
[26,{"$nulls":14},5,{"$f":"'h2'!Z16","v":0},{"$f":"'h2'!AA16","v":0}]
[27]
[28]
[29]
[30]
[31]
[32]
[33]
[34]
[35]
[36]
[37]
[38]
[39]
[40]
[41]
[42]
[43]
[44]
[45]
[46]
[47]
[48]
[49]
[50]
[51]
[52]
[53]
[54]
[55]
[56]
[57]
[58]
[59]
[60]
[61]
[62]
[63]
[64]
[65]
[66]
[67]
[68]
[69]
[70]
[71]
[72]
[73]
[74]
[75]
[76]
[77]
[78]
[79]
[80]
[81]
[82]
[83]
[84]
[85]
[86]
[87]
[88]
[89]
[90]
[91]
[92]
[93]
[94]
[95]
[96]
[97]
[98]
[99]
[100]
[101]
[102]
[103]
[104]
[105]
[106]
[107]
[108]
[109]
[110]
[111]
[112]
[113]
[114]
[115]
[116]
[117]
[118]
[119]
[120]
[121]
[122]
[123]
[124]
[125]
[126]
[127]
[128]
[129]
[130]
[131]
[132]
[133]
[134]
[135]
[136]
[137]
[138]
[139]
[140]
[141]
[142]
[143]
[144]
[145]
[146]
[147]
[148]
[149]
[150]
[151]
[152]
[153]
[154]
[155]
[156]
[157]
[158]
[159]
[160]
[161]
[162]
[163]
[164]
[165]
[166]
[167]
[168]
[169]
[170]
[171]
[172]
[173]
[174]
[175]
[176]
[177]
[178]
[179]
[180]
[181]
[182]
[183]
[184]
[185]
[186]
[187]
[188]
[189]
[190]
[191]
[192]
[193]
[194]
[195]
[196]
[197]
[198]
[199]
[200]
[201]
[202]
[203]
[204]
[205]
[206]
[207]
[208]
[209]
[210]
[211]
[212]
[213]
[214]
[215]
[216]
[217]
[218]
[219]
[220]
[221]
[222]
[223]
[224]
[225]
[226]
[227]
[228]
[229]
[230]
[231]
[232]
[233]
[234]
[235]
[236]
[237]
[238]
[239]
[240]
[241]
[242]
[243]
[244]
[245]
[246]
[247]
[248]
[249]
[250]
[251]
[252]
[253]
[254]
[255]
[256]
[257]
[258]
[259]
[260]
[261]
[262]
[263]
[264]
[265]
[266]
[267]
[268]
[269]
[270]
[271]
[272]
[273]
[274]
[275]
[276]
[277]
[278]
[279]
[280]
[281]
[282]
[283]
[284]
[285]
[286]
[287]
[288]
[289]
[290]
[291]
[292]
[293]
[294]
[295]
[296]
[297]
[298]
[299]
[300]
[301]
[302]
[303]
[304]
[305]
[306]
[307]
[308]
[309]
[310]
[311]
[312]
[313]
[314]
[315]
[316]
[317]
[318]
[319]
[320]
[321]
[322]
[323]
[324]
[325]
[326]
[327]
[328]
[329]
[330]
[331]
[332]
[333]
[334]
[335]
[336]
[337]
[338]
[339]
[340]
[341]
[342]
[343]
[344]
[345]
[346]
[347]
[348]
[349]
[350]
[351]
[352]
[353]
[354]
[355]
[356]
[357]
[358]
[359]
[360]
[361]
[362]
[363]
[364]
[365]
[366]
[367]
[368]
[369]
[370]
[371]
[372]
[373]
[374]
[375]
[376]
[377]
[378]
[379]
[380]
[381]
[382]
[383]
[384]
[385]
[386]
[387]
[388]
[389]
[390]
[391]
[392]
[393]
[394]
[395]
[396]
[397]
[398]
[399]
[400]
[401]
[402]
[403]
[404]
[405]
[406]
[407]
[408]
[409]
[410]
[411]
[412]
[413]
[414]
[415]
[416]
[417]
[418]
[419]
[420]
[421]
[422]
[423]
[424]
[425]
[426]
[427]
[428]
[429]
[430]
[431]
[432]
[433]
[434]
[435]
[436]
[437]
[438]
[439]
[440]
[441]
[442]
[443]
[444]
[445]
[446]
[447]
[448]
[449]
[450]
[451]
[452]
[453]
[454]
[455]
[456]
[457]
[458]
[459]
[460]
[461]
[462]
[463]
[464]
[465]
[466]
[467]
[468]
[469]
[470]
[471]
[472]
[473]
[474]
[475]
[476]
[477]
[478]
[479]
[480]
[481]
[482]
[483]
[484]
[485]
[486]
[487]
[488]
[489]
[490]
[491]
[492]
[493]
[494]
[495]
[496]
[497]
[498]
[499]
[500]
[501]
[502]
[503]
[504]
[505]
[506]
[507]
[508]
[509]
[510]
[511]
[512]
[513]
[514]
[515]
[516]
[517]
[518]
[519]
[520]
[521]
[522]
[523]
[524]
[525]
[526]
[527]
[528]
[529]
[530]
[531]
[532]
[533]
[534]
[535]
[536]
[537]
[538]
[539]
[540]
[541]
[542]
[543]
[544]
[545]
[546]
[547]
[548]
[549]
[550]
[551]
[552]
[553]
[554]
[555]
[556]
[557]
[558]
[559]
[560]
[561]
[562]
[563]
[564]
[565]
[566]
[567]
[568]
[569]
[570]
[571]
[572]
[573]
[574]
[575]
[576]
[577]
[578]
[579]
[580]
[581]
[582]
[583]
[584]
[585]
[586]
[587]
[588]
[589]
[590]
[591]
[592]
[593]
[594]
[595]
[596]
[597]
[598]
[599]
[600]
[601]
[602]
[603]
[604]
[605]
[606]
[607]
[608]
[609]
[610]
[611]
[612]
[613]
[614]
[615]
[616]
[617]
[618]
[619]
[620]
[621]
[622]
[623]
[624]
[625]
[626]
[627]
[628]
[629]
[630]
[631]
[632]
[633]
[634]
[635]
[636]
[637]
[638]
[639]
[640]
[641]
[642]
[643]
[644]
[645]
[646]
[647]
[648]
[649]
[650]
[651]
[652]
[653]
[654]
[655]
[656]
[657]
[658]
[659]
[660]
[661]
[662]
[663]
[664]
[665]
[666]
[667]
[668]
[669]
[670]
[671]
[672]
[673]
[674]
[675]
[676]
[677]
[678]
[679]
[680]
[681]
[682]
[683]
[684]
[685]
[686]
[687]
[688]
[689]
[690]
[691]
[692]
[693]
[694]
[695]
[696]
[697]
[698]
[699]
[700]
[701]
[702]
[703]
[704]
[705]
[706]
[707]
[708]
[709]
[710]
[711]
[712]
[713]
[714]
[715]
[716]
[717]
[718]
[719]
[720]
[721]
[722]
[723]
[724]
[725]
[726]
[727]
[728]
[729]
[730]
[731]
[732]
[733]
[734]
[735]
[736]
[737]
[738]
[739]
[740]
[741]
[742]
[743]
[744]
[745]
[746]
[747]
[748]
[749]
[750]
[751]
[752]
[753]
[754]
[755]
[756]
[757]
[758]
[759]
[760]
[761]
[762]
[763]
[764]
[765]
[766]
[767]
[768]
[769]
[770]
[771]
[772]
[773]
[774]
[775]
[776]
[777]
[778]
[779]
[780]
[781]
[782]
[783]
[784]
[785]
[786]
[787]
[788]
[789]
[790]
[791]
[792]
[793]
[794]
[795]
[796]
[797]
[798]
[799]
[800]
[801]
[802]
[803]
[804]
[805]
[806]
[807]
[808]
[809]
[810]
[811]
[812]
[813]
[814]
[815]
[816]
[817]
[818]
[819]
[820]
[821]
[822]
[823]
[824]
[825]
[826]
[827]
[828]
[829]
[830]
[831]
[832]
[833]
[834]
[835]
[836]
[837]
[838]
[839]
[840]
[841]
[842]
[843]
[844]
[845]
[846]
[847]
[848]
[849]
[850]
[851]
[852]
[853]
[854]
[855]
[856]
[857]
[858]
[859]
[860]
[861]
[862]
[863]
[864]
[865]
[866]
[867]
[868]
[869]
[870]
[871]
[872]
[873]
[874]
[875]
[876]
[877]
[878]
[879]
[880]
[881]
[882]
[883]
[884]
[885]
[886]
[887]
[888]
[889]
[890]
[891]
[892]
[893]
[894]
[895]
[896]
[897]
[898]
[899]
[900]
[901]
[902]
[903]
[904]
[905]
[906]
[907]
[908]
[909]
[910]
[911]
[912]
[913]
[914]
[915]
[916]
[917]
[918]
[919]
[920]
[921]
[922]
[923]
[924]
[925]
[926]
[927]
[928]
[929]
[930]
[931]
[932]
[933]
[934]
[935]
[936]
[937]
[938]
[939]
[940]
[941]
[942]
[943]
[944]
[945]
[946]
[947]
[948]
[949]
[950]
[951]
[952]
[953]
[954]
[955]
[956]
[957]
[958]
[959]
[960]
[961]
[962]
[963]
[964]
[965]
[966]
[967]
[968]
[969]
[970]
[971]
[972]
[973]
[974]
[975]
[976]
[977]
[978]
[979]
[980]
[981]
[982]
[983]
[984]
[985]
[986]
[987]
[988]
[989]
[990]
[991]
[992]
[993]
[994]
[995]
[996]
[997]
[998]
[999]
[1000]

{"sheet":"h2","index":6,"n_rows":36,"n_cols":27,"rows_kept":36,"hidden":true}
[1,2,3,4,5,6,7,8,9,10,11,12,13,14,15,16,17,18,19,20,21,22,23,24,25,26,27]
[null,{"$f":"Hierarchia_2!B9","v":"p1"},{"$f":"Hierarchia_2!C9","v":"p2"},{"$f":"Hierarchia_2!D9","v":"p3"},{"$f":"Hierarchia_2!E9","v":"p4"},{"$f":"Hierarchia_2!F9","v":"p5"},{"$f":"Hierarchia_2!G9","v":"p6"},{"$f":"Hierarchia_2!H9","v":"p7"},{"$f":"Hierarchia_2!I9","v":"p8"},{"$f":"Hierarchia_2!J9","v":"p9"},{"$f":"Hierarchia_2!K9","v":"p10"},{"$f":"Hierarchia_2!L9","v":"p11"},{"$f":"Hierarchia_2!M9","v":"p12"},{"$f":"Hierarchia_2!N9","v":"p13"}]
[1,{"$f":"COUNTIF(Hierarchia_2!B10:B5000,1)","v":0},{"$f":"COUNTIF(Hierarchia_2!C10:C5000,1)","v":0},{"$f":"COUNTIF(Hierarchia_2!D10:D5000,1)","v":0},{"$f":"COUNTIF(Hierarchia_2!E10:E5000,1)","v":0},{"$f":"COUNTIF(Hierarchia_2!F10:F5000,1)","v":0},{"$f":"COUNTIF(Hierarchia_2!G10:G5000,1)","v":0},{"$f":"COUNTIF(Hierarchia_2!H10:H5000,1)","v":0},{"$f":"COUNTIF(Hierarchia_2!I10:I5000,1)","v":0},{"$f":"COUNTIF(Hierarchia_2!J10:J5000,1)","v":0},{"$f":"COUNTIF(Hierarchia_2!K10:K5000,1)","v":0},{"$f":"COUNTIF(Hierarchia_2!L10:L5000,1)","v":0},{"$f":"COUNTIF(Hierarchia_2!M10:M5000,1)","v":0},{"$f":"COUNTIF(Hierarchia_2!N10:N5000,1)","v":0}]
[2,{"$f":"COUNTIF(Hierarchia_2!B10:B5000,2)","v":0},{"$f":"COUNTIF(Hierarchia_2!C10:C5000,2)","v":0},{"$f":"COUNTIF(Hierarchia_2!D10:D5000,2)","v":0},{"$f":"COUNTIF(Hierarchia_2!E10:E5000,2)","v":0},{"$f":"COUNTIF(Hierarchia_2!F10:F5000,2)","v":0},{"$f":"COUNTIF(Hierarchia_2!G10:G5000,2)","v":0},{"$f":"COUNTIF(Hierarchia_2!H10:H5000,2)","v":0},{"$f":"COUNTIF(Hierarchia_2!I10:I5000,2)","v":0},{"$f":"COUNTIF(Hierarchia_2!J10:J5000,2)","v":0},{"$f":"COUNTIF(Hierarchia_2!K10:K5000,2)","v":0},{"$f":"COUNTIF(Hierarchia_2!L10:L5000,2)","v":0},{"$f":"COUNTIF(Hierarchia_2!M10:M5000,2)","v":0},{"$f":"COUNTIF(Hierarchia_2!N10:N5000,2)","v":0}]
[3,{"$f":"COUNTIF(Hierarchia_2!B10:B5000,3)","v":0},{"$f":"COUNTIF(Hierarchia_2!C10:C5000,3)","v":0},{"$f":"COUNTIF(Hierarchia_2!D10:D5000,3)","v":0},{"$f":"COUNTIF(Hierarchia_2!E10:E5000,3)","v":0},{"$f":"COUNTIF(Hierarchia_2!F10:F5000,3)","v":0},{"$f":"COUNTIF(Hierarchia_2!G10:G5000,3)","v":0},{"$f":"COUNTIF(Hierarchia_2!H10:H5000,3)","v":0},{"$f":"COUNTIF(Hierarchia_2!I10:I5000,3)","v":0},{"$f":"COUNTIF(Hierarchia_2!J10:J5000,3)","v":0},{"$f":"COUNTIF(Hierarchia_2!K10:K5000,3)","v":0},{"$f":"COUNTIF(Hierarchia_2!L10:L5000,3)","v":0},{"$f":"COUNTIF(Hierarchia_2!M10:M5000,3)","v":0},{"$f":"COUNTIF(Hierarchia_2!N10:N5000,3)","v":0}]
[4,{"$f":"COUNTIF(Hierarchia_2!B10:B5000,4)","v":0},{"$f":"COUNTIF(Hierarchia_2!C10:C5000,4)","v":0},{"$f":"COUNTIF(Hierarchia_2!D10:D5000,4)","v":0},{"$f":"COUNTIF(Hierarchia_2!E10:E5000,4)","v":0},{"$f":"COUNTIF(Hierarchia_2!F10:F5000,4)","v":0},{"$f":"COUNTIF(Hierarchia_2!G10:G5000,4)","v":0},{"$f":"COUNTIF(Hierarchia_2!H10:H5000,4)","v":0},{"$f":"COUNTIF(Hierarchia_2!I10:I5000,4)","v":0},{"$f":"COUNTIF(Hierarchia_2!J10:J5000,4)","v":0},{"$f":"COUNTIF(Hierarchia_2!K10:K5000,4)","v":0},{"$f":"COUNTIF(Hierarchia_2!L10:L5000,4)","v":0},{"$f":"COUNTIF(Hierarchia_2!M10:M5000,4)","v":0},{"$f":"COUNTIF(Hierarchia_2!N10:N5000,4)","v":0}]
[5,{"$f":"COUNTIF(Hierarchia_2!B10:B5000,5)","v":0},{"$f":"COUNTIF(Hierarchia_2!C10:C5000,5)","v":0},{"$f":"COUNTIF(Hierarchia_2!D10:D5000,5)","v":0},{"$f":"COUNTIF(Hierarchia_2!E10:E5000,5)","v":0},{"$f":"COUNTIF(Hierarchia_2!F10:F5000,5)","v":0},{"$f":"COUNTIF(Hierarchia_2!G10:G5000,5)","v":0},{"$f":"COUNTIF(Hierarchia_2!H10:H5000,5)","v":0},{"$f":"COUNTIF(Hierarchia_2!I10:I5000,5)","v":0},{"$f":"COUNTIF(Hierarchia_2!J10:J5000,5)","v":0},{"$f":"COUNTIF(Hierarchia_2!K10:K5000,5)","v":0},{"$f":"COUNTIF(Hierarchia_2!L10:L5000,5)","v":0},{"$f":"COUNTIF(Hierarchia_2!M10:M5000,5)","v":0},{"$f":"COUNTIF(Hierarchia_2!N10:N5000,5)","v":0}]
[6,{"$f":"Hierarchia_2!$B$4-SUM('h2'!B3:B7)","v":0},{"$f":"Hierarchia_2!$B$4-SUM('h2'!C3:C7)","v":0},{"$f":"Hierarchia_2!$B$4-SUM('h2'!D3:D7)","v":0},{"$f":"Hierarchia_2!$B$4-SUM('h2'!E3:E7)","v":0},{"$f":"Hierarchia_2!$B$4-SUM('h2'!F3:F7)","v":0},{"$f":"Hierarchia_2!$B$4-SUM('h2'!G3:G7)","v":0},{"$f":"Hierarchia_2!$B$4-SUM('h2'!H3:H7)","v":0},{"$f":"Hierarchia_2!$B$4-SUM('h2'!I3:I7)","v":0},{"$f":"Hierarchia_2!$B$4-SUM('h2'!J3:J7)","v":0},{"$f":"Hierarchia_2!$B$4-SUM('h2'!K3:K7)","v":0},{"$f":"Hierarchia_2!$B$4-SUM('h2'!L3:L7)","v":0},{"$f":"Hierarchia_2!$B$4-SUM('h2'!M3:M7)","v":0},{"$f":"Hierarchia_2!$B$4-SUM('h2'!N3:N7)","v":0}]
[]
["Skumulowane"]
[null,{"$f":"B2","v":"p1"},{"$f":"C2","v":"p2"},"p3","p4","p5","p6","p7","p8","p9","p10","p11","p12","p13",{"$nulls":6},"max-s_licz","s","max-s","max","max_licz"]
[1,{"$f":"B3","v":0},0,0,0,0,0,0,0,0,0,0,0,0,{"$nulls":6},{"$f":"COUNTIF(B12:N12,\">=\"&W12)","v":13},{"$f":"_xlfn.STDEV.P(B12:N12)","v":{"v":0,"d":"0.0"}},{"$f":"MAX(B12:N12)-V12","v":{"v":0,"d":"0.0"}},{"$f":"MAX(B18:N18)","v":0},{"$f":"COUNTIF(B18:N18,X12)","v":0}]
[2,{"$nulls":19},{"$f":"COUNTIF(B13:N13,\">=\"&W13)","v":0},{"$f":"_xlfn.STDEV.P(B13:N13)","v":{"$error":"#DIV/0!"}},{"$f":"MAX(B13:N13)-V13","v":{"$error":"#DIV/0!"}},{"$f":"MAX(B19:N19)","v":0},{"$f":"COUNTIF(B19:N19,X13)","v":0}]
[3,{"$nulls":19},0,{"$error":"#DIV/0!"},{"$error":"#DIV/0!"},0,0]
[4,{"$nulls":19},0,{"$error":"#DIV/0!"},{"$error":"#DIV/0!"},0,0]
[5,{"$nulls":19},0,{"$error":"#DIV/0!"},{"$error":"#DIV/0!"},0,0]
[6,{"$nulls":19},0,{"$error":"#DIV/0!"},{"$error":"#DIV/0!"},0,0]
["max_1"]
["max_2"]
["max_3"]
["max_4"]
["max_5"]
["max_6"]
["p1","Montaż poręczy i uchwytów w ciągach komunikacyjnych, w pokojach"]
["p2","Montaż poręczy i uchwytów ułatwiających korzystanie z urządzeń higieniczno-sanitarnych"]
["p3","Modernizacja łazienki"]
["p4","Modernizacja kuchni"]
["p5","Likwidacja progów lub zróżnicowania poziomu podłogi"]
["p6","Ułożenie wykładziny antypoślizgowej"]
["p7","Przystosowanie drzwi"]
["p8","Montaż łóżka rehabilitacyjnego"]
["p9","Automatyczne oświetlenie"]
["p10","Oznaczenia głosowe / dotykowe, wizualne"]
["p11","Większy metraż mieszkania / domu"]
["p12","Zakup specjalistycznego sprzętu, jakiego? "]
["p13","Inne, jakie?"]

{"sheet":"Hierarchia_3","index":7,"n_rows":1009,"n_cols":18,"rows_kept":1009,"merged":[[3,3,5,9],[6,16,6,17],[7,16,7,17],[28,15,28,17]]}
[]
["Hierarchia barier utrudniających osobom z niepełnosprawnościami poruszanie / przemieszczanie się w przestrzeni publicznej"]
[]
[{"$nulls":3},"Podaj liczbę wszystkich respondentów, którzy odpowiadali \nna pytanie 4 w dziale 2 kwestionariusza, łącznie z tymi osobami, które nie miały barier"]
[]
[]
["W poniższej tabeli uzupełnij odpowiedzi respondentów"]
["1 oznacza barierę najbardziej uciążliwą, a 5 – najmniej uciążliwą",{"$nulls":15},"Legenda:"]
["Nr respondenta","p1","p2","p3","p4","p5","p6","p7","p8","p9","p10","p11","p12","p13",null,null,"p1","Nieodpowiedni sprzęt wykorzystywany do przemieszczania się"]
[1,{"$nulls":15},"p2","Zużyty, stary sprzęt wykorzystywany do przemieszczania się"]
[2,{"$nulls":15},"p3","Zły stan techniczny dróg i chodników"]
[3,{"$nulls":15},"p4","Wąskie chodniki lub chodniki zajęte przez słupy, parkujące samochody lub inne przeszkody"]
[4,{"$nulls":15},"p5","Wysokie krawężniki"]
[5,{"$nulls":15},"p6","Nieoznakowane ścieżki rowerowe"]
[6,{"$nulls":15},"p7","Brak / zbyt mało oznaczeń głosowych / dotykowych, wizualnych"]
[7,{"$nulls":15},"p8","Brak / zbyt mało podjazdów / pochylni"]
[8,{"$nulls":15},"p9","Obecność schodów"]
[9,{"$nulls":15},"p10","Brak / zbyt mało ławek do odpoczynku przed dalszą drogą"]
[10,{"$nulls":15},"p11","Brak / zbyt mało miejsc wykorzystujących pętle indukcyjne, system FM"]
[11,{"$nulls":15},"p12","Brak / zbyt mało miejsc, w których można byłoby skorzystać ze specjalistycznej pomocy (np. z tłumacza języka migowego)"]
[12,{"$nulls":15},"p13","Inne utrudnienia, jakie?"]
[13]
[14]
[15,{"$nulls":15},"Kliknij aby poznać hierarchię"]
[16]
[17]
[18]
[19]
[20,{"$nulls":14},"Hierarchia  1 oznacza barierę najbardziej uciążliwą, a 5 – najmniej uciążliwą"]
[21]
[22,{"$nulls":14},1,{"$f":"'h3'!Z12","v":0},{"$f":"'h3'!AA12","v":0}]
[23,{"$nulls":14},2,{"$f":"'h3'!Z13","v":0},{"$f":"'h3'!AA13","v":0}]
[24,{"$nulls":14},3,{"$f":"'h3'!Z14","v":0},{"$f":"'h3'!AA14","v":0}]
[25,{"$nulls":14},4,{"$f":"'h3'!Z15","v":0},{"$f":"'h3'!AA15","v":0}]
[26,{"$nulls":14},5,{"$f":"'h3'!Z16","v":0},{"$f":"'h3'!AA16","v":0}]
[27]
[28]
[29]
[30]
[31]
[32]
[33]
[34]
[35]
[36]
[37]
[38]
[39]
[40]
[41]
[42]
[43]
[44]
[45]
[46]
[47]
[48]
[49]
[50]
[51]
[52]
[53]
[54]
[55]
[56]
[57]
[58]
[59]
[60]
[61]
[62]
[63]
[64]
[65]
[66]
[67]
[68]
[69]
[70]
[71]
[72]
[73]
[74]
[75]
[76]
[77]
[78]
[79]
[80]
[81]
[82]
[83]
[84]
[85]
[86]
[87]
[88]
[89]
[90]
[91]
[92]
[93]
[94]
[95]
[96]
[97]
[98]
[99]
[100]
[101]
[102]
[103]
[104]
[105]
[106]
[107]
[108]
[109]
[110]
[111]
[112]
[113]
[114]
[115]
[116]
[117]
[118]
[119]
[120]
[121]
[122]
[123]
[124]
[125]
[126]
[127]
[128]
[129]
[130]
[131]
[132]
[133]
[134]
[135]
[136]
[137]
[138]
[139]
[140]
[141]
[142]
[143]
[144]
[145]
[146]
[147]
[148]
[149]
[150]
[151]
[152]
[153]
[154]
[155]
[156]
[157]
[158]
[159]
[160]
[161]
[162]
[163]
[164]
[165]
[166]
[167]
[168]
[169]
[170]
[171]
[172]
[173]
[174]
[175]
[176]
[177]
[178]
[179]
[180]
[181]
[182]
[183]
[184]
[185]
[186]
[187]
[188]
[189]
[190]
[191]
[192]
[193]
[194]
[195]
[196]
[197]
[198]
[199]
[200]
[201]
[202]
[203]
[204]
[205]
[206]
[207]
[208]
[209]
[210]
[211]
[212]
[213]
[214]
[215]
[216]
[217]
[218]
[219]
[220]
[221]
[222]
[223]
[224]
[225]
[226]
[227]
[228]
[229]
[230]
[231]
[232]
[233]
[234]
[235]
[236]
[237]
[238]
[239]
[240]
[241]
[242]
[243]
[244]
[245]
[246]
[247]
[248]
[249]
[250]
[251]
[252]
[253]
[254]
[255]
[256]
[257]
[258]
[259]
[260]
[261]
[262]
[263]
[264]
[265]
[266]
[267]
[268]
[269]
[270]
[271]
[272]
[273]
[274]
[275]
[276]
[277]
[278]
[279]
[280]
[281]
[282]
[283]
[284]
[285]
[286]
[287]
[288]
[289]
[290]
[291]
[292]
[293]
[294]
[295]
[296]
[297]
[298]
[299]
[300]
[301]
[302]
[303]
[304]
[305]
[306]
[307]
[308]
[309]
[310]
[311]
[312]
[313]
[314]
[315]
[316]
[317]
[318]
[319]
[320]
[321]
[322]
[323]
[324]
[325]
[326]
[327]
[328]
[329]
[330]
[331]
[332]
[333]
[334]
[335]
[336]
[337]
[338]
[339]
[340]
[341]
[342]
[343]
[344]
[345]
[346]
[347]
[348]
[349]
[350]
[351]
[352]
[353]
[354]
[355]
[356]
[357]
[358]
[359]
[360]
[361]
[362]
[363]
[364]
[365]
[366]
[367]
[368]
[369]
[370]
[371]
[372]
[373]
[374]
[375]
[376]
[377]
[378]
[379]
[380]
[381]
[382]
[383]
[384]
[385]
[386]
[387]
[388]
[389]
[390]
[391]
[392]
[393]
[394]
[395]
[396]
[397]
[398]
[399]
[400]
[401]
[402]
[403]
[404]
[405]
[406]
[407]
[408]
[409]
[410]
[411]
[412]
[413]
[414]
[415]
[416]
[417]
[418]
[419]
[420]
[421]
[422]
[423]
[424]
[425]
[426]
[427]
[428]
[429]
[430]
[431]
[432]
[433]
[434]
[435]
[436]
[437]
[438]
[439]
[440]
[441]
[442]
[443]
[444]
[445]
[446]
[447]
[448]
[449]
[450]
[451]
[452]
[453]
[454]
[455]
[456]
[457]
[458]
[459]
[460]
[461]
[462]
[463]
[464]
[465]
[466]
[467]
[468]
[469]
[470]
[471]
[472]
[473]
[474]
[475]
[476]
[477]
[478]
[479]
[480]
[481]
[482]
[483]
[484]
[485]
[486]
[487]
[488]
[489]
[490]
[491]
[492]
[493]
[494]
[495]
[496]
[497]
[498]
[499]
[500]
[501]
[502]
[503]
[504]
[505]
[506]
[507]
[508]
[509]
[510]
[511]
[512]
[513]
[514]
[515]
[516]
[517]
[518]
[519]
[520]
[521]
[522]
[523]
[524]
[525]
[526]
[527]
[528]
[529]
[530]
[531]
[532]
[533]
[534]
[535]
[536]
[537]
[538]
[539]
[540]
[541]
[542]
[543]
[544]
[545]
[546]
[547]
[548]
[549]
[550]
[551]
[552]
[553]
[554]
[555]
[556]
[557]
[558]
[559]
[560]
[561]
[562]
[563]
[564]
[565]
[566]
[567]
[568]
[569]
[570]
[571]
[572]
[573]
[574]
[575]
[576]
[577]
[578]
[579]
[580]
[581]
[582]
[583]
[584]
[585]
[586]
[587]
[588]
[589]
[590]
[591]
[592]
[593]
[594]
[595]
[596]
[597]
[598]
[599]
[600]
[601]
[602]
[603]
[604]
[605]
[606]
[607]
[608]
[609]
[610]
[611]
[612]
[613]
[614]
[615]
[616]
[617]
[618]
[619]
[620]
[621]
[622]
[623]
[624]
[625]
[626]
[627]
[628]
[629]
[630]
[631]
[632]
[633]
[634]
[635]
[636]
[637]
[638]
[639]
[640]
[641]
[642]
[643]
[644]
[645]
[646]
[647]
[648]
[649]
[650]
[651]
[652]
[653]
[654]
[655]
[656]
[657]
[658]
[659]
[660]
[661]
[662]
[663]
[664]
[665]
[666]
[667]
[668]
[669]
[670]
[671]
[672]
[673]
[674]
[675]
[676]
[677]
[678]
[679]
[680]
[681]
[682]
[683]
[684]
[685]
[686]
[687]
[688]
[689]
[690]
[691]
[692]
[693]
[694]
[695]
[696]
[697]
[698]
[699]
[700]
[701]
[702]
[703]
[704]
[705]
[706]
[707]
[708]
[709]
[710]
[711]
[712]
[713]
[714]
[715]
[716]
[717]
[718]
[719]
[720]
[721]
[722]
[723]
[724]
[725]
[726]
[727]
[728]
[729]
[730]
[731]
[732]
[733]
[734]
[735]
[736]
[737]
[738]
[739]
[740]
[741]
[742]
[743]
[744]
[745]
[746]
[747]
[748]
[749]
[750]
[751]
[752]
[753]
[754]
[755]
[756]
[757]
[758]
[759]
[760]
[761]
[762]
[763]
[764]
[765]
[766]
[767]
[768]
[769]
[770]
[771]
[772]
[773]
[774]
[775]
[776]
[777]
[778]
[779]
[780]
[781]
[782]
[783]
[784]
[785]
[786]
[787]
[788]
[789]
[790]
[791]
[792]
[793]
[794]
[795]
[796]
[797]
[798]
[799]
[800]
[801]
[802]
[803]
[804]
[805]
[806]
[807]
[808]
[809]
[810]
[811]
[812]
[813]
[814]
[815]
[816]
[817]
[818]
[819]
[820]
[821]
[822]
[823]
[824]
[825]
[826]
[827]
[828]
[829]
[830]
[831]
[832]
[833]
[834]
[835]
[836]
[837]
[838]
[839]
[840]
[841]
[842]
[843]
[844]
[845]
[846]
[847]
[848]
[849]
[850]
[851]
[852]
[853]
[854]
[855]
[856]
[857]
[858]
[859]
[860]
[861]
[862]
[863]
[864]
[865]
[866]
[867]
[868]
[869]
[870]
[871]
[872]
[873]
[874]
[875]
[876]
[877]
[878]
[879]
[880]
[881]
[882]
[883]
[884]
[885]
[886]
[887]
[888]
[889]
[890]
[891]
[892]
[893]
[894]
[895]
[896]
[897]
[898]
[899]
[900]
[901]
[902]
[903]
[904]
[905]
[906]
[907]
[908]
[909]
[910]
[911]
[912]
[913]
[914]
[915]
[916]
[917]
[918]
[919]
[920]
[921]
[922]
[923]
[924]
[925]
[926]
[927]
[928]
[929]
[930]
[931]
[932]
[933]
[934]
[935]
[936]
[937]
[938]
[939]
[940]
[941]
[942]
[943]
[944]
[945]
[946]
[947]
[948]
[949]
[950]
[951]
[952]
[953]
[954]
[955]
[956]
[957]
[958]
[959]
[960]
[961]
[962]
[963]
[964]
[965]
[966]
[967]
[968]
[969]
[970]
[971]
[972]
[973]
[974]
[975]
[976]
[977]
[978]
[979]
[980]
[981]
[982]
[983]
[984]
[985]
[986]
[987]
[988]
[989]
[990]
[991]
[992]
[993]
[994]
[995]
[996]
[997]
[998]
[999]
[1000]

{"sheet":"h3","index":8,"n_rows":36,"n_cols":27,"rows_kept":36,"hidden":true}
[1,2,3,4,5,6,7,8,9,10,11,12,13,14,15,16,17,18,19,20,21,22,23,24,25,26,27]
[null,{"$f":"Hierarchia_3!B9","v":"p1"},{"$f":"Hierarchia_3!C9","v":"p2"},{"$f":"Hierarchia_3!D9","v":"p3"},{"$f":"Hierarchia_3!E9","v":"p4"},{"$f":"Hierarchia_3!F9","v":"p5"},{"$f":"Hierarchia_3!G9","v":"p6"},{"$f":"Hierarchia_3!H9","v":"p7"},{"$f":"Hierarchia_3!I9","v":"p8"},{"$f":"Hierarchia_3!J9","v":"p9"},{"$f":"Hierarchia_3!K9","v":"p10"},{"$f":"Hierarchia_3!L9","v":"p11"},{"$f":"Hierarchia_3!M9","v":"p12"},{"$f":"Hierarchia_3!N9","v":"p13"}]
[1,{"$f":"COUNTIF(Hierarchia_3!B10:B5000,1)","v":0},{"$f":"COUNTIF(Hierarchia_3!C10:C5000,1)","v":0},{"$f":"COUNTIF(Hierarchia_3!D10:D5000,1)","v":0},{"$f":"COUNTIF(Hierarchia_3!E10:E5000,1)","v":0},{"$f":"COUNTIF(Hierarchia_3!F10:F5000,1)","v":0},{"$f":"COUNTIF(Hierarchia_3!G10:G5000,1)","v":0},{"$f":"COUNTIF(Hierarchia_3!H10:H5000,1)","v":0},{"$f":"COUNTIF(Hierarchia_3!I10:I5000,1)","v":0},{"$f":"COUNTIF(Hierarchia_3!J10:J5000,1)","v":0},{"$f":"COUNTIF(Hierarchia_3!K10:K5000,1)","v":0},{"$f":"COUNTIF(Hierarchia_3!L10:L5000,1)","v":0},{"$f":"COUNTIF(Hierarchia_3!M10:M5000,1)","v":0},{"$f":"COUNTIF(Hierarchia_3!N10:N5000,1)","v":0}]
[2,{"$f":"COUNTIF(Hierarchia_3!B10:B5000,2)","v":0},{"$f":"COUNTIF(Hierarchia_3!C10:C5000,2)","v":0},{"$f":"COUNTIF(Hierarchia_3!D10:D5000,2)","v":0},{"$f":"COUNTIF(Hierarchia_3!E10:E5000,2)","v":0},{"$f":"COUNTIF(Hierarchia_3!F10:F5000,2)","v":0},{"$f":"COUNTIF(Hierarchia_3!G10:G5000,2)","v":0},{"$f":"COUNTIF(Hierarchia_3!H10:H5000,2)","v":0},{"$f":"COUNTIF(Hierarchia_3!I10:I5000,2)","v":0},{"$f":"COUNTIF(Hierarchia_3!J10:J5000,2)","v":0},{"$f":"COUNTIF(Hierarchia_3!K10:K5000,2)","v":0},{"$f":"COUNTIF(Hierarchia_3!L10:L5000,2)","v":0},{"$f":"COUNTIF(Hierarchia_3!M10:M5000,2)","v":0},{"$f":"COUNTIF(Hierarchia_3!N10:N5000,2)","v":0}]
[3,{"$f":"COUNTIF(Hierarchia_3!B10:B5000,3)","v":0},{"$f":"COUNTIF(Hierarchia_3!C10:C5000,3)","v":0},{"$f":"COUNTIF(Hierarchia_3!D10:D5000,3)","v":0},{"$f":"COUNTIF(Hierarchia_3!E10:E5000,3)","v":0},{"$f":"COUNTIF(Hierarchia_3!F10:F5000,3)","v":0},{"$f":"COUNTIF(Hierarchia_3!G10:G5000,3)","v":0},{"$f":"COUNTIF(Hierarchia_3!H10:H5000,3)","v":0},{"$f":"COUNTIF(Hierarchia_3!I10:I5000,3)","v":0},{"$f":"COUNTIF(Hierarchia_3!J10:J5000,3)","v":0},{"$f":"COUNTIF(Hierarchia_3!K10:K5000,3)","v":0},{"$f":"COUNTIF(Hierarchia_3!L10:L5000,3)","v":0},{"$f":"COUNTIF(Hierarchia_3!M10:M5000,3)","v":0},{"$f":"COUNTIF(Hierarchia_3!N10:N5000,3)","v":0}]
[4,{"$f":"COUNTIF(Hierarchia_3!B10:B5000,4)","v":0},{"$f":"COUNTIF(Hierarchia_3!C10:C5000,4)","v":0},{"$f":"COUNTIF(Hierarchia_3!D10:D5000,4)","v":0},{"$f":"COUNTIF(Hierarchia_3!E10:E5000,4)","v":0},{"$f":"COUNTIF(Hierarchia_3!F10:F5000,4)","v":0},{"$f":"COUNTIF(Hierarchia_3!G10:G5000,4)","v":0},{"$f":"COUNTIF(Hierarchia_3!H10:H5000,4)","v":0},{"$f":"COUNTIF(Hierarchia_3!I10:I5000,4)","v":0},{"$f":"COUNTIF(Hierarchia_3!J10:J5000,4)","v":0},{"$f":"COUNTIF(Hierarchia_3!K10:K5000,4)","v":0},{"$f":"COUNTIF(Hierarchia_3!L10:L5000,4)","v":0},{"$f":"COUNTIF(Hierarchia_3!M10:M5000,4)","v":0},{"$f":"COUNTIF(Hierarchia_3!N10:N5000,4)","v":0}]
[5,{"$f":"COUNTIF(Hierarchia_3!B10:B5000,5)","v":0},{"$f":"COUNTIF(Hierarchia_3!C10:C5000,5)","v":0},{"$f":"COUNTIF(Hierarchia_3!D10:D5000,5)","v":0},{"$f":"COUNTIF(Hierarchia_3!E10:E5000,5)","v":0},{"$f":"COUNTIF(Hierarchia_3!F10:F5000,5)","v":0},{"$f":"COUNTIF(Hierarchia_3!G10:G5000,5)","v":0},{"$f":"COUNTIF(Hierarchia_3!H10:H5000,5)","v":0},{"$f":"COUNTIF(Hierarchia_3!I10:I5000,5)","v":0},{"$f":"COUNTIF(Hierarchia_3!J10:J5000,5)","v":0},{"$f":"COUNTIF(Hierarchia_3!K10:K5000,5)","v":0},{"$f":"COUNTIF(Hierarchia_3!L10:L5000,5)","v":0},{"$f":"COUNTIF(Hierarchia_3!M10:M5000,5)","v":0},{"$f":"COUNTIF(Hierarchia_3!N10:N5000,5)","v":0}]
[6,{"$f":"Hierarchia_3!$B$4-SUM('h3'!B3:B7)","v":0},{"$f":"Hierarchia_3!$B$4-SUM('h3'!C3:C7)","v":0},{"$f":"Hierarchia_3!$B$4-SUM('h3'!D3:D7)","v":0},{"$f":"Hierarchia_3!$B$4-SUM('h3'!E3:E7)","v":0},{"$f":"Hierarchia_3!$B$4-SUM('h3'!F3:F7)","v":0},{"$f":"Hierarchia_3!$B$4-SUM('h3'!G3:G7)","v":0},{"$f":"Hierarchia_3!$B$4-SUM('h3'!H3:H7)","v":0},{"$f":"Hierarchia_3!$B$4-SUM('h3'!I3:I7)","v":0},{"$f":"Hierarchia_3!$B$4-SUM('h3'!J3:J7)","v":0},{"$f":"Hierarchia_3!$B$4-SUM('h3'!K3:K7)","v":0},{"$f":"Hierarchia_3!$B$4-SUM('h3'!L3:L7)","v":0},{"$f":"Hierarchia_3!$B$4-SUM('h3'!M3:M7)","v":0},{"$f":"Hierarchia_3!$B$4-SUM('h3'!N3:N7)","v":0}]
[]
["Skumulowane"]
[null,{"$f":"B2","v":"p1"},{"$f":"C2","v":"p2"},"p3","p4","p5","p6","p7","p8","p9","p10","p11","p12","p13",{"$nulls":6},"max-s_licz","s","max-s","max","max_licz"]
[1,{"$f":"B3","v":0},0,0,0,0,0,0,0,0,0,0,0,0,{"$nulls":6},{"$f":"COUNTIF(B12:N12,\">=\"&W12)","v":13},{"$f":"_xlfn.STDEV.P(B12:N12)","v":{"v":0,"d":"0.0"}},{"$f":"MAX(B12:N12)-V12","v":{"v":0,"d":"0.0"}},{"$f":"MAX(B18:N18)","v":0},{"$f":"COUNTIF(B18:N18,X12)","v":0}]
[2,{"$nulls":19},{"$f":"COUNTIF(B13:N13,\">=\"&W13)","v":0},{"$f":"_xlfn.STDEV.P(B13:N13)","v":{"$error":"#DIV/0!"}},{"$f":"MAX(B13:N13)-V13","v":{"$error":"#DIV/0!"}},{"$f":"MAX(B19:N19)","v":0},{"$f":"COUNTIF(B19:N19,X13)","v":0}]
[3,{"$nulls":19},0,{"$error":"#DIV/0!"},{"$error":"#DIV/0!"},0,0]
[4,{"$nulls":19},0,{"$error":"#DIV/0!"},{"$error":"#DIV/0!"},0,0]
[5,{"$nulls":19},0,{"$error":"#DIV/0!"},{"$error":"#DIV/0!"},0,0]
[6,{"$nulls":19},0,{"$error":"#DIV/0!"},{"$error":"#DIV/0!"},0,0]
["max_1"]
["max_2"]
["max_3"]
["max_4"]
["max_5"]
["max_6"]
["p1","Nieodpowiedni sprzęt wykorzystywany do przemieszczania się"]
["p2","Zużyty, stary sprzęt wykorzystywany do przemieszczania się"]
["p3","Zły stan techniczny dróg i chodników"]
["p4","Wąskie chodniki lub chodniki zajęte przez słupy, parkujące samochody lub inne przeszkody"]
["p5","Wysokie krawężniki"]
["p6","Nieoznakowane ścieżki rowerowe"]
["p7","Brak / zbyt mało oznaczeń głosowych / dotykowych, wizualnych"]
["p8","Brak / zbyt mało podjazdów / pochylni"]
["p9","Obecność schodów"]
["p10","Brak / zbyt mało ławek do odpoczynku przed dalszą drogą"]
["p11","Brak / zbyt mało miejsc wykorzystujących pętle indukcyjne, system FM"]
["p12","Brak / zbyt mało miejsc, w których można byłoby skorzystać ze specjalistycznej pomocy (np. z tłumacza języka migowego)"]
["p13","Inne utrudnienia, jakie?"]

{"sheet":"Hierarchia_4","index":9,"n_rows":1009,"n_cols":18,"rows_kept":1009,"merged":[[3,3,5,9],[6,16,6,17],[7,16,7,17],[28,15,28,17]]}
[]
["Hierarchia barier utrudniających osobom z niepełnosprawnościami korzystanie ze środków transportowych"]
[]
[{"$nulls":3},"Podaj liczbę wszystkich respondentów, którzy odpowiadali \nna pytanie 10 w dziale 2 kwestionariusza, łącznie z tymi osobami, które nie miały barier"]
[]
[]
["W poniższej tabeli uzupełnij odpowiedzi respondentów"]
["1 oznacza barierę najbardziej uciążliwą, a 5 – najmniej uciążliwą",{"$nulls":15},"Legenda:"]
["Nr respondenta","p1","p2","p3","p4","p5","p6","p7","p8","p9","p10","p11","p12","p13",null,null,"p1","Brak samochodu dostosowanego do swoich potrzeb"]
[1,{"$nulls":15},"p2","Brak środków finansowych (np. na naprawę samochodu, zakup nowego dostosowanego do własnych potrzeb)"]
[2,{"$nulls":15},"p3","Brak / zbyt mała liczba samochodowych miejsc postojowych lub są samochodowe miejsca postojowe, ale niedostosowane do moich potrzeb"]
[3,{"$nulls":15},"p4","Brak / zbyt mało pochylni / podjazdów / wind / ramp ułatwiających korzystanie ze środków komunikacji publicznej"]
[4,{"$nulls":15},"p5","Brak czytelnych drogowskazów na przystanki / perony komunikacji publicznej"]
[5,{"$nulls":15},"p6","Brak / zbyt mało oznaczeń głosowych / dotykowych, wizualnych na przystankach / peronach"]
[6,{"$nulls":15},"p7","Obecność schodów w środkach komunikacji publicznej"]
[7,{"$nulls":15},"p8","Brak informacji o rozkładach jazdy, trasach konkretnych kursów obsługiwanych przez pojazdy niskopodłogowe"]
[8,{"$nulls":15},"p9","Brak możliwości samodzielnego podróżowania komunikacją publiczną"]
[9,{"$nulls":15},"p10","Brak / zbyt mało punktów informacyjnych i punktów obsługi dostosowanych do własnych potrzeb"]
[10,{"$nulls":15},"p11","Brak pomocy asystenta / opiekuna"]
[11,{"$nulls":15},"p12","Konieczność dodatkowych działań np. wcześniejsze ustalenie terminów, umówienie się by skorzystać"]
[12,{"$nulls":15},"p13","Inne utrudnienia, jakie?"]
[13]
[14]
[15,{"$nulls":15},"Kliknij aby poznać hierarchię"]
[16]
[17]
[18]
[19]
[20,{"$nulls":14},"Hierarchia  1 oznacza barierę najbardziej uciążliwą, a 5 – najmniej uciążliwą"]
[21]
[22,{"$nulls":14},1,{"$f":"'h4'!Z12","v":0},{"$f":"'h4'!AA12","v":0}]
[23,{"$nulls":14},2,{"$f":"'h4'!Z13","v":0},{"$f":"'h4'!AA13","v":0}]
[24,{"$nulls":14},3,{"$f":"'h4'!Z14","v":0},{"$f":"'h4'!AA14","v":0}]
[25,{"$nulls":14},4,{"$f":"'h4'!Z15","v":0},{"$f":"'h4'!AA15","v":0}]
[26,{"$nulls":14},5,{"$f":"'h4'!Z16","v":0},{"$f":"'h4'!AA16","v":0}]
[27]
[28]
[29]
[30]
[31]
[32]
[33]
[34]
[35]
[36]
[37]
[38]
[39]
[40]
[41]
[42]
[43]
[44]
[45]
[46]
[47]
[48]
[49]
[50]
[51]
[52]
[53]
[54]
[55]
[56]
[57]
[58]
[59]
[60]
[61]
[62]
[63]
[64]
[65]
[66]
[67]
[68]
[69]
[70]
[71]
[72]
[73]
[74]
[75]
[76]
[77]
[78]
[79]
[80]
[81]
[82]
[83]
[84]
[85]
[86]
[87]
[88]
[89]
[90]
[91]
[92]
[93]
[94]
[95]
[96]
[97]
[98]
[99]
[100]
[101]
[102]
[103]
[104]
[105]
[106]
[107]
[108]
[109]
[110]
[111]
[112]
[113]
[114]
[115]
[116]
[117]
[118]
[119]
[120]
[121]
[122]
[123]
[124]
[125]
[126]
[127]
[128]
[129]
[130]
[131]
[132]
[133]
[134]
[135]
[136]
[137]
[138]
[139]
[140]
[141]
[142]
[143]
[144]
[145]
[146]
[147]
[148]
[149]
[150]
[151]
[152]
[153]
[154]
[155]
[156]
[157]
[158]
[159]
[160]
[161]
[162]
[163]
[164]
[165]
[166]
[167]
[168]
[169]
[170]
[171]
[172]
[173]
[174]
[175]
[176]
[177]
[178]
[179]
[180]
[181]
[182]
[183]
[184]
[185]
[186]
[187]
[188]
[189]
[190]
[191]
[192]
[193]
[194]
[195]
[196]
[197]
[198]
[199]
[200]
[201]
[202]
[203]
[204]
[205]
[206]
[207]
[208]
[209]
[210]
[211]
[212]
[213]
[214]
[215]
[216]
[217]
[218]
[219]
[220]
[221]
[222]
[223]
[224]
[225]
[226]
[227]
[228]
[229]
[230]
[231]
[232]
[233]
[234]
[235]
[236]
[237]
[238]
[239]
[240]
[241]
[242]
[243]
[244]
[245]
[246]
[247]
[248]
[249]
[250]
[251]
[252]
[253]
[254]
[255]
[256]
[257]
[258]
[259]
[260]
[261]
[262]
[263]
[264]
[265]
[266]
[267]
[268]
[269]
[270]
[271]
[272]
[273]
[274]
[275]
[276]
[277]
[278]
[279]
[280]
[281]
[282]
[283]
[284]
[285]
[286]
[287]
[288]
[289]
[290]
[291]
[292]
[293]
[294]
[295]
[296]
[297]
[298]
[299]
[300]
[301]
[302]
[303]
[304]
[305]
[306]
[307]
[308]
[309]
[310]
[311]
[312]
[313]
[314]
[315]
[316]
[317]
[318]
[319]
[320]
[321]
[322]
[323]
[324]
[325]
[326]
[327]
[328]
[329]
[330]
[331]
[332]
[333]
[334]
[335]
[336]
[337]
[338]
[339]
[340]
[341]
[342]
[343]
[344]
[345]
[346]
[347]
[348]
[349]
[350]
[351]
[352]
[353]
[354]
[355]
[356]
[357]
[358]
[359]
[360]
[361]
[362]
[363]
[364]
[365]
[366]
[367]
[368]
[369]
[370]
[371]
[372]
[373]
[374]
[375]
[376]
[377]
[378]
[379]
[380]
[381]
[382]
[383]
[384]
[385]
[386]
[387]
[388]
[389]
[390]
[391]
[392]
[393]
[394]
[395]
[396]
[397]
[398]
[399]
[400]
[401]
[402]
[403]
[404]
[405]
[406]
[407]
[408]
[409]
[410]
[411]
[412]
[413]
[414]
[415]
[416]
[417]
[418]
[419]
[420]
[421]
[422]
[423]
[424]
[425]
[426]
[427]
[428]
[429]
[430]
[431]
[432]
[433]
[434]
[435]
[436]
[437]
[438]
[439]
[440]
[441]
[442]
[443]
[444]
[445]
[446]
[447]
[448]
[449]
[450]
[451]
[452]
[453]
[454]
[455]
[456]
[457]
[458]
[459]
[460]
[461]
[462]
[463]
[464]
[465]
[466]
[467]
[468]
[469]
[470]
[471]
[472]
[473]
[474]
[475]
[476]
[477]
[478]
[479]
[480]
[481]
[482]
[483]
[484]
[485]
[486]
[487]
[488]
[489]
[490]
[491]
[492]
[493]
[494]
[495]
[496]
[497]
[498]
[499]
[500]
[501]
[502]
[503]
[504]
[505]
[506]
[507]
[508]
[509]
[510]
[511]
[512]
[513]
[514]
[515]
[516]
[517]
[518]
[519]
[520]
[521]
[522]
[523]
[524]
[525]
[526]
[527]
[528]
[529]
[530]
[531]
[532]
[533]
[534]
[535]
[536]
[537]
[538]
[539]
[540]
[541]
[542]
[543]
[544]
[545]
[546]
[547]
[548]
[549]
[550]
[551]
[552]
[553]
[554]
[555]
[556]
[557]
[558]
[559]
[560]
[561]
[562]
[563]
[564]
[565]
[566]
[567]
[568]
[569]
[570]
[571]
[572]
[573]
[574]
[575]
[576]
[577]
[578]
[579]
[580]
[581]
[582]
[583]
[584]
[585]
[586]
[587]
[588]
[589]
[590]
[591]
[592]
[593]
[594]
[595]
[596]
[597]
[598]
[599]
[600]
[601]
[602]
[603]
[604]
[605]
[606]
[607]
[608]
[609]
[610]
[611]
[612]
[613]
[614]
[615]
[616]
[617]
[618]
[619]
[620]
[621]
[622]
[623]
[624]
[625]
[626]
[627]
[628]
[629]
[630]
[631]
[632]
[633]
[634]
[635]
[636]
[637]
[638]
[639]
[640]
[641]
[642]
[643]
[644]
[645]
[646]
[647]
[648]
[649]
[650]
[651]
[652]
[653]
[654]
[655]
[656]
[657]
[658]
[659]
[660]
[661]
[662]
[663]
[664]
[665]
[666]
[667]
[668]
[669]
[670]
[671]
[672]
[673]
[674]
[675]
[676]
[677]
[678]
[679]
[680]
[681]
[682]
[683]
[684]
[685]
[686]
[687]
[688]
[689]
[690]
[691]
[692]
[693]
[694]
[695]
[696]
[697]
[698]
[699]
[700]
[701]
[702]
[703]
[704]
[705]
[706]
[707]
[708]
[709]
[710]
[711]
[712]
[713]
[714]
[715]
[716]
[717]
[718]
[719]
[720]
[721]
[722]
[723]
[724]
[725]
[726]
[727]
[728]
[729]
[730]
[731]
[732]
[733]
[734]
[735]
[736]
[737]
[738]
[739]
[740]
[741]
[742]
[743]
[744]
[745]
[746]
[747]
[748]
[749]
[750]
[751]
[752]
[753]
[754]
[755]
[756]
[757]
[758]
[759]
[760]
[761]
[762]
[763]
[764]
[765]
[766]
[767]
[768]
[769]
[770]
[771]
[772]
[773]
[774]
[775]
[776]
[777]
[778]
[779]
[780]
[781]
[782]
[783]
[784]
[785]
[786]
[787]
[788]
[789]
[790]
[791]
[792]
[793]
[794]
[795]
[796]
[797]
[798]
[799]
[800]
[801]
[802]
[803]
[804]
[805]
[806]
[807]
[808]
[809]
[810]
[811]
[812]
[813]
[814]
[815]
[816]
[817]
[818]
[819]
[820]
[821]
[822]
[823]
[824]
[825]
[826]
[827]
[828]
[829]
[830]
[831]
[832]
[833]
[834]
[835]
[836]
[837]
[838]
[839]
[840]
[841]
[842]
[843]
[844]
[845]
[846]
[847]
[848]
[849]
[850]
[851]
[852]
[853]
[854]
[855]
[856]
[857]
[858]
[859]
[860]
[861]
[862]
[863]
[864]
[865]
[866]
[867]
[868]
[869]
[870]
[871]
[872]
[873]
[874]
[875]
[876]
[877]
[878]
[879]
[880]
[881]
[882]
[883]
[884]
[885]
[886]
[887]
[888]
[889]
[890]
[891]
[892]
[893]
[894]
[895]
[896]
[897]
[898]
[899]
[900]
[901]
[902]
[903]
[904]
[905]
[906]
[907]
[908]
[909]
[910]
[911]
[912]
[913]
[914]
[915]
[916]
[917]
[918]
[919]
[920]
[921]
[922]
[923]
[924]
[925]
[926]
[927]
[928]
[929]
[930]
[931]
[932]
[933]
[934]
[935]
[936]
[937]
[938]
[939]
[940]
[941]
[942]
[943]
[944]
[945]
[946]
[947]
[948]
[949]
[950]
[951]
[952]
[953]
[954]
[955]
[956]
[957]
[958]
[959]
[960]
[961]
[962]
[963]
[964]
[965]
[966]
[967]
[968]
[969]
[970]
[971]
[972]
[973]
[974]
[975]
[976]
[977]
[978]
[979]
[980]
[981]
[982]
[983]
[984]
[985]
[986]
[987]
[988]
[989]
[990]
[991]
[992]
[993]
[994]
[995]
[996]
[997]
[998]
[999]
[1000]

{"sheet":"h4","index":10,"n_rows":36,"n_cols":27,"rows_kept":36,"hidden":true}
[1,2,3,4,5,6,7,8,9,10,11,12,13,14,15,16,17,18,19,20,21,22,23,24,25,26,27]
[null,{"$f":"Hierarchia_4!B9","v":"p1"},{"$f":"Hierarchia_4!C9","v":"p2"},{"$f":"Hierarchia_4!D9","v":"p3"},{"$f":"Hierarchia_4!E9","v":"p4"},{"$f":"Hierarchia_4!F9","v":"p5"},{"$f":"Hierarchia_4!G9","v":"p6"},{"$f":"Hierarchia_4!H9","v":"p7"},{"$f":"Hierarchia_4!I9","v":"p8"},{"$f":"Hierarchia_4!J9","v":"p9"},{"$f":"Hierarchia_4!K9","v":"p10"},{"$f":"Hierarchia_4!L9","v":"p11"},{"$f":"Hierarchia_4!M9","v":"p12"},{"$f":"Hierarchia_4!N9","v":"p13"}]
[1,{"$f":"COUNTIF(Hierarchia_4!B10:B5000,1)","v":0},{"$f":"COUNTIF(Hierarchia_4!C10:C5000,1)","v":0},{"$f":"COUNTIF(Hierarchia_4!D10:D5000,1)","v":0},{"$f":"COUNTIF(Hierarchia_4!E10:E5000,1)","v":0},{"$f":"COUNTIF(Hierarchia_4!F10:F5000,1)","v":0},{"$f":"COUNTIF(Hierarchia_4!G10:G5000,1)","v":0},{"$f":"COUNTIF(Hierarchia_4!H10:H5000,1)","v":0},{"$f":"COUNTIF(Hierarchia_4!I10:I5000,1)","v":0},{"$f":"COUNTIF(Hierarchia_4!J10:J5000,1)","v":0},{"$f":"COUNTIF(Hierarchia_4!K10:K5000,1)","v":0},{"$f":"COUNTIF(Hierarchia_4!L10:L5000,1)","v":0},{"$f":"COUNTIF(Hierarchia_4!M10:M5000,1)","v":0},{"$f":"COUNTIF(Hierarchia_4!N10:N5000,1)","v":0}]
[2,{"$f":"COUNTIF(Hierarchia_4!B10:B5000,2)","v":0},{"$f":"COUNTIF(Hierarchia_4!C10:C5000,2)","v":0},{"$f":"COUNTIF(Hierarchia_4!D10:D5000,2)","v":0},{"$f":"COUNTIF(Hierarchia_4!E10:E5000,2)","v":0},{"$f":"COUNTIF(Hierarchia_4!F10:F5000,2)","v":0},{"$f":"COUNTIF(Hierarchia_4!G10:G5000,2)","v":0},{"$f":"COUNTIF(Hierarchia_4!H10:H5000,2)","v":0},{"$f":"COUNTIF(Hierarchia_4!I10:I5000,2)","v":0},{"$f":"COUNTIF(Hierarchia_4!J10:J5000,2)","v":0},{"$f":"COUNTIF(Hierarchia_4!K10:K5000,2)","v":0},{"$f":"COUNTIF(Hierarchia_4!L10:L5000,2)","v":0},{"$f":"COUNTIF(Hierarchia_4!M10:M5000,2)","v":0},{"$f":"COUNTIF(Hierarchia_4!N10:N5000,2)","v":0}]
[3,{"$f":"COUNTIF(Hierarchia_4!B10:B5000,3)","v":0},{"$f":"COUNTIF(Hierarchia_4!C10:C5000,3)","v":0},{"$f":"COUNTIF(Hierarchia_4!D10:D5000,3)","v":0},{"$f":"COUNTIF(Hierarchia_4!E10:E5000,3)","v":0},{"$f":"COUNTIF(Hierarchia_4!F10:F5000,3)","v":0},{"$f":"COUNTIF(Hierarchia_4!G10:G5000,3)","v":0},{"$f":"COUNTIF(Hierarchia_4!H10:H5000,3)","v":0},{"$f":"COUNTIF(Hierarchia_4!I10:I5000,3)","v":0},{"$f":"COUNTIF(Hierarchia_4!J10:J5000,3)","v":0},{"$f":"COUNTIF(Hierarchia_4!K10:K5000,3)","v":0},{"$f":"COUNTIF(Hierarchia_4!L10:L5000,3)","v":0},{"$f":"COUNTIF(Hierarchia_4!M10:M5000,3)","v":0},{"$f":"COUNTIF(Hierarchia_4!N10:N5000,3)","v":0}]
[4,{"$f":"COUNTIF(Hierarchia_4!B10:B5000,4)","v":0},{"$f":"COUNTIF(Hierarchia_4!C10:C5000,4)","v":0},{"$f":"COUNTIF(Hierarchia_4!D10:D5000,4)","v":0},{"$f":"COUNTIF(Hierarchia_4!E10:E5000,4)","v":0},{"$f":"COUNTIF(Hierarchia_4!F10:F5000,4)","v":0},{"$f":"COUNTIF(Hierarchia_4!G10:G5000,4)","v":0},{"$f":"COUNTIF(Hierarchia_4!H10:H5000,4)","v":0},{"$f":"COUNTIF(Hierarchia_4!I10:I5000,4)","v":0},{"$f":"COUNTIF(Hierarchia_4!J10:J5000,4)","v":0},{"$f":"COUNTIF(Hierarchia_4!K10:K5000,4)","v":0},{"$f":"COUNTIF(Hierarchia_4!L10:L5000,4)","v":0},{"$f":"COUNTIF(Hierarchia_4!M10:M5000,4)","v":0},{"$f":"COUNTIF(Hierarchia_4!N10:N5000,4)","v":0}]
[5,{"$f":"COUNTIF(Hierarchia_4!B10:B5000,5)","v":0},{"$f":"COUNTIF(Hierarchia_4!C10:C5000,5)","v":0},{"$f":"COUNTIF(Hierarchia_4!D10:D5000,5)","v":0},{"$f":"COUNTIF(Hierarchia_4!E10:E5000,5)","v":0},{"$f":"COUNTIF(Hierarchia_4!F10:F5000,5)","v":0},{"$f":"COUNTIF(Hierarchia_4!G10:G5000,5)","v":0},{"$f":"COUNTIF(Hierarchia_4!H10:H5000,5)","v":0},{"$f":"COUNTIF(Hierarchia_4!I10:I5000,5)","v":0},{"$f":"COUNTIF(Hierarchia_4!J10:J5000,5)","v":0},{"$f":"COUNTIF(Hierarchia_4!K10:K5000,5)","v":0},{"$f":"COUNTIF(Hierarchia_4!L10:L5000,5)","v":0},{"$f":"COUNTIF(Hierarchia_4!M10:M5000,5)","v":0},{"$f":"COUNTIF(Hierarchia_4!N10:N5000,5)","v":0}]
[6,{"$f":"Hierarchia_4!$B$4-SUM('h4'!B3:B7)","v":0},{"$f":"Hierarchia_4!$B$4-SUM('h4'!C3:C7)","v":0},{"$f":"Hierarchia_4!$B$4-SUM('h4'!D3:D7)","v":0},{"$f":"Hierarchia_4!$B$4-SUM('h4'!E3:E7)","v":0},{"$f":"Hierarchia_4!$B$4-SUM('h4'!F3:F7)","v":0},{"$f":"Hierarchia_4!$B$4-SUM('h4'!G3:G7)","v":0},{"$f":"Hierarchia_4!$B$4-SUM('h4'!H3:H7)","v":0},{"$f":"Hierarchia_4!$B$4-SUM('h4'!I3:I7)","v":0},{"$f":"Hierarchia_4!$B$4-SUM('h4'!J3:J7)","v":0},{"$f":"Hierarchia_4!$B$4-SUM('h4'!K3:K7)","v":0},{"$f":"Hierarchia_4!$B$4-SUM('h4'!L3:L7)","v":0},{"$f":"Hierarchia_4!$B$4-SUM('h4'!M3:M7)","v":0},{"$f":"Hierarchia_4!$B$4-SUM('h4'!N3:N7)","v":0}]
[]
["Skumulowane"]
[null,{"$f":"B2","v":"p1"},{"$f":"C2","v":"p2"},"p3","p4","p5","p6","p7","p8","p9","p10","p11","p12","p13",{"$nulls":6},"max-s_licz","s","max-s","max","max_licz"]
[1,{"$f":"B3","v":0},0,0,0,0,0,0,0,0,0,0,0,0,{"$nulls":6},{"$f":"COUNTIF(B12:N12,\">=\"&W12)","v":13},{"$f":"_xlfn.STDEV.P(B12:N12)","v":{"v":0,"d":"0.0"}},{"$f":"MAX(B12:N12)-V12","v":{"v":0,"d":"0.0"}},{"$f":"MAX(B18:N18)","v":0},{"$f":"COUNTIF(B18:N18,X12)","v":0}]
[2,{"$nulls":19},{"$f":"COUNTIF(B13:N13,\">=\"&W13)","v":0},{"$f":"_xlfn.STDEV.P(B13:N13)","v":{"$error":"#DIV/0!"}},{"$f":"MAX(B13:N13)-V13","v":{"$error":"#DIV/0!"}},{"$f":"MAX(B19:N19)","v":0},{"$f":"COUNTIF(B19:N19,X13)","v":0}]
[3,{"$nulls":19},0,{"$error":"#DIV/0!"},{"$error":"#DIV/0!"},0,0]
[4,{"$nulls":19},0,{"$error":"#DIV/0!"},{"$error":"#DIV/0!"},0,0]
[5,{"$nulls":19},0,{"$error":"#DIV/0!"},{"$error":"#DIV/0!"},0,0]
[6,{"$nulls":19},0,{"$error":"#DIV/0!"},{"$error":"#DIV/0!"},0,0]
["max_1"]
["max_2"]
["max_3"]
["max_4"]
["max_5"]
["max_6"]
["p1","Brak samochodu dostosowanego do swoich potrzeb"]
["p2","Brak środków finansowych (np. na naprawę samochodu, zakup nowego dostosowanego do własnych potrzeb)"]
["p3","Brak / zbyt mała liczba samochodowych miejsc postojowych lub są samochodowe miejsca postojowe, ale niedostosowane do moich potrzeb"]
["p4","Brak / zbyt mało pochylni / podjazdów / wind / ramp ułatwiających korzystanie ze środków komunikacji publicznej"]
["p5","Brak czytelnych drogowskazów na przystanki / perony komunikacji publicznej"]
["p6","Brak / zbyt mało oznaczeń głosowych / dotykowych, wizualnych na przystankach / peronach"]
["p7","Obecność schodów w środkach komunikacji publicznej"]
["p8","Brak informacji o rozkładach jazdy, trasach konkretnych kursów obsługiwanych przez pojazdy niskopodłogowe"]
["p9","Brak możliwości samodzielnego podróżowania komunikacją publiczną"]
["p10","Brak / zbyt mało punktów informacyjnych i punktów obsługi dostosowanych do własnych potrzeb"]
["p11","Brak pomocy asystenta / opiekuna"]
["p12","Konieczność dodatkowych działań np. wcześniejsze ustalenie terminów, umówienie się by skorzystać"]
["p13","Inne utrudnienia, jakie?"]

{"sheet":"Hierarchia_5","index":11,"n_rows":1009,"n_cols":15,"rows_kept":1009,"merged":[[3,3,5,9],[6,13,6,14],[7,13,7,14]]}
[]
["Hierarchia potrzeb związanych ze zdrowiem i rehabilitacją osób z niepełnosprawnościami"]
[]
[{"$nulls":3},"Podaj liczbę wszystkich respondentów, którzy odpowiadali \nna pytanie 15 w dziale 3 kwestionariusza, łącznie z tymi osobami, które nie wskazały potrzeb"]
[]
[]
["W poniższej tabeli uzupełnij odpowiedzi respondentów"]
["1 oznacza potrzebę najważniejszą, a 5 – najmniej ważną",{"$nulls":12},"Legenda:"]
["Nr respondenta","p1","p2","p3","p4","p5","p6","p7","p8","p9","p10",null,null,"p1","Leki, materiały higieniczne / pielęgnacyjne"]
[1,{"$nulls":12},"p2","Specjalistyczny sprzęt rehabilitacyjny"]
[2,{"$nulls":12},"p3","Opieka rehabilitacyjna"]
[3,{"$nulls":12},"p4","Opieka pielęgnacyjna"]
[4,{"$nulls":12},"p5","Opieka psychologiczna, psychoterapeutyczna, psychiatryczna"]
[5,{"$nulls":12},"p6","Pomoc asystenta osób niepełnosprawnych (obecnie brak takiej pomocy)"]
[6,{"$nulls":12},"p7","Pomoc asystenta osób niepełnosprawnych w większym zakresie"]
[7,{"$nulls":12},"p8","Możliwość wyjazdu na turnus rehabilitacyjny"]
[8,{"$nulls":12},"p9","Bezpłatna opieka zdrowotna"]
[9,{"$nulls":12},"p10","Inne potrzeby, jakie?"]
[10]
[11]
[12,{"$nulls":12},"Kliknij aby poznać hierarchię"]
[13]
[14]
[15]
[16]
[17,{"$nulls":11},"Hierarchia  1 oznacza potrzebę najważniejszą, a 5 – najmniej ważną"]
[18]
[19,{"$nulls":11},1,{"$f":"'h5'!Z12","v":0},{"$f":"'h5'!AA12","v":0}]
[20,{"$nulls":11},2,{"$f":"'h5'!Z13","v":0},{"$f":"'h5'!AA13","v":0}]
[21,{"$nulls":11},3,{"$f":"'h5'!Z14","v":0},{"$f":"'h5'!AA14","v":0}]
[22,{"$nulls":11},4,{"$f":"'h5'!Z15","v":0},{"$f":"'h5'!AA15","v":0}]
[23,{"$nulls":11},5,{"$f":"'h5'!Z16","v":0},{"$f":"'h5'!AA16","v":0}]
[24]
[25]
[26]
[27]
[28]
[29]
[30]
[31]
[32]
[33]
[34]
[35]
[36]
[37]
[38]
[39]
[40]
[41]
[42]
[43]
[44]
[45]
[46]
[47]
[48]
[49]
[50]
[51]
[52]
[53]
[54]
[55]
[56]
[57]
[58]
[59]
[60]
[61]
[62]
[63]
[64]
[65]
[66]
[67]
[68]
[69]
[70]
[71]
[72]
[73]
[74]
[75]
[76]
[77]
[78]
[79]
[80]
[81]
[82]
[83]
[84]
[85]
[86]
[87]
[88]
[89]
[90]
[91]
[92]
[93]
[94]
[95]
[96]
[97]
[98]
[99]
[100]
[101]
[102]
[103]
[104]
[105]
[106]
[107]
[108]
[109]
[110]
[111]
[112]
[113]
[114]
[115]
[116]
[117]
[118]
[119]
[120]
[121]
[122]
[123]
[124]
[125]
[126]
[127]
[128]
[129]
[130]
[131]
[132]
[133]
[134]
[135]
[136]
[137]
[138]
[139]
[140]
[141]
[142]
[143]
[144]
[145]
[146]
[147]
[148]
[149]
[150]
[151]
[152]
[153]
[154]
[155]
[156]
[157]
[158]
[159]
[160]
[161]
[162]
[163]
[164]
[165]
[166]
[167]
[168]
[169]
[170]
[171]
[172]
[173]
[174]
[175]
[176]
[177]
[178]
[179]
[180]
[181]
[182]
[183]
[184]
[185]
[186]
[187]
[188]
[189]
[190]
[191]
[192]
[193]
[194]
[195]
[196]
[197]
[198]
[199]
[200]
[201]
[202]
[203]
[204]
[205]
[206]
[207]
[208]
[209]
[210]
[211]
[212]
[213]
[214]
[215]
[216]
[217]
[218]
[219]
[220]
[221]
[222]
[223]
[224]
[225]
[226]
[227]
[228]
[229]
[230]
[231]
[232]
[233]
[234]
[235]
[236]
[237]
[238]
[239]
[240]
[241]
[242]
[243]
[244]
[245]
[246]
[247]
[248]
[249]
[250]
[251]
[252]
[253]
[254]
[255]
[256]
[257]
[258]
[259]
[260]
[261]
[262]
[263]
[264]
[265]
[266]
[267]
[268]
[269]
[270]
[271]
[272]
[273]
[274]
[275]
[276]
[277]
[278]
[279]
[280]
[281]
[282]
[283]
[284]
[285]
[286]
[287]
[288]
[289]
[290]
[291]
[292]
[293]
[294]
[295]
[296]
[297]
[298]
[299]
[300]
[301]
[302]
[303]
[304]
[305]
[306]
[307]
[308]
[309]
[310]
[311]
[312]
[313]
[314]
[315]
[316]
[317]
[318]
[319]
[320]
[321]
[322]
[323]
[324]
[325]
[326]
[327]
[328]
[329]
[330]
[331]
[332]
[333]
[334]
[335]
[336]
[337]
[338]
[339]
[340]
[341]
[342]
[343]
[344]
[345]
[346]
[347]
[348]
[349]
[350]
[351]
[352]
[353]
[354]
[355]
[356]
[357]
[358]
[359]
[360]
[361]
[362]
[363]
[364]
[365]
[366]
[367]
[368]
[369]
[370]
[371]
[372]
[373]
[374]
[375]
[376]
[377]
[378]
[379]
[380]
[381]
[382]
[383]
[384]
[385]
[386]
[387]
[388]
[389]
[390]
[391]
[392]
[393]
[394]
[395]
[396]
[397]
[398]
[399]
[400]
[401]
[402]
[403]
[404]
[405]
[406]
[407]
[408]
[409]
[410]
[411]
[412]
[413]
[414]
[415]
[416]
[417]
[418]
[419]
[420]
[421]
[422]
[423]
[424]
[425]
[426]
[427]
[428]
[429]
[430]
[431]
[432]
[433]
[434]
[435]
[436]
[437]
[438]
[439]
[440]
[441]
[442]
[443]
[444]
[445]
[446]
[447]
[448]
[449]
[450]
[451]
[452]
[453]
[454]
[455]
[456]
[457]
[458]
[459]
[460]
[461]
[462]
[463]
[464]
[465]
[466]
[467]
[468]
[469]
[470]
[471]
[472]
[473]
[474]
[475]
[476]
[477]
[478]
[479]
[480]
[481]
[482]
[483]
[484]
[485]
[486]
[487]
[488]
[489]
[490]
[491]
[492]
[493]
[494]
[495]
[496]
[497]
[498]
[499]
[500]
[501]
[502]
[503]
[504]
[505]
[506]
[507]
[508]
[509]
[510]
[511]
[512]
[513]
[514]
[515]
[516]
[517]
[518]
[519]
[520]
[521]
[522]
[523]
[524]
[525]
[526]
[527]
[528]
[529]
[530]
[531]
[532]
[533]
[534]
[535]
[536]
[537]
[538]
[539]
[540]
[541]
[542]
[543]
[544]
[545]
[546]
[547]
[548]
[549]
[550]
[551]
[552]
[553]
[554]
[555]
[556]
[557]
[558]
[559]
[560]
[561]
[562]
[563]
[564]
[565]
[566]
[567]
[568]
[569]
[570]
[571]
[572]
[573]
[574]
[575]
[576]
[577]
[578]
[579]
[580]
[581]
[582]
[583]
[584]
[585]
[586]
[587]
[588]
[589]
[590]
[591]
[592]
[593]
[594]
[595]
[596]
[597]
[598]
[599]
[600]
[601]
[602]
[603]
[604]
[605]
[606]
[607]
[608]
[609]
[610]
[611]
[612]
[613]
[614]
[615]
[616]
[617]
[618]
[619]
[620]
[621]
[622]
[623]
[624]
[625]
[626]
[627]
[628]
[629]
[630]
[631]
[632]
[633]
[634]
[635]
[636]
[637]
[638]
[639]
[640]
[641]
[642]
[643]
[644]
[645]
[646]
[647]
[648]
[649]
[650]
[651]
[652]
[653]
[654]
[655]
[656]
[657]
[658]
[659]
[660]
[661]
[662]
[663]
[664]
[665]
[666]
[667]
[668]
[669]
[670]
[671]
[672]
[673]
[674]
[675]
[676]
[677]
[678]
[679]
[680]
[681]
[682]
[683]
[684]
[685]
[686]
[687]
[688]
[689]
[690]
[691]
[692]
[693]
[694]
[695]
[696]
[697]
[698]
[699]
[700]
[701]
[702]
[703]
[704]
[705]
[706]
[707]
[708]
[709]
[710]
[711]
[712]
[713]
[714]
[715]
[716]
[717]
[718]
[719]
[720]
[721]
[722]
[723]
[724]
[725]
[726]
[727]
[728]
[729]
[730]
[731]
[732]
[733]
[734]
[735]
[736]
[737]
[738]
[739]
[740]
[741]
[742]
[743]
[744]
[745]
[746]
[747]
[748]
[749]
[750]
[751]
[752]
[753]
[754]
[755]
[756]
[757]
[758]
[759]
[760]
[761]
[762]
[763]
[764]
[765]
[766]
[767]
[768]
[769]
[770]
[771]
[772]
[773]
[774]
[775]
[776]
[777]
[778]
[779]
[780]
[781]
[782]
[783]
[784]
[785]
[786]
[787]
[788]
[789]
[790]
[791]
[792]
[793]
[794]
[795]
[796]
[797]
[798]
[799]
[800]
[801]
[802]
[803]
[804]
[805]
[806]
[807]
[808]
[809]
[810]
[811]
[812]
[813]
[814]
[815]
[816]
[817]
[818]
[819]
[820]
[821]
[822]
[823]
[824]
[825]
[826]
[827]
[828]
[829]
[830]
[831]
[832]
[833]
[834]
[835]
[836]
[837]
[838]
[839]
[840]
[841]
[842]
[843]
[844]
[845]
[846]
[847]
[848]
[849]
[850]
[851]
[852]
[853]
[854]
[855]
[856]
[857]
[858]
[859]
[860]
[861]
[862]
[863]
[864]
[865]
[866]
[867]
[868]
[869]
[870]
[871]
[872]
[873]
[874]
[875]
[876]
[877]
[878]
[879]
[880]
[881]
[882]
[883]
[884]
[885]
[886]
[887]
[888]
[889]
[890]
[891]
[892]
[893]
[894]
[895]
[896]
[897]
[898]
[899]
[900]
[901]
[902]
[903]
[904]
[905]
[906]
[907]
[908]
[909]
[910]
[911]
[912]
[913]
[914]
[915]
[916]
[917]
[918]
[919]
[920]
[921]
[922]
[923]
[924]
[925]
[926]
[927]
[928]
[929]
[930]
[931]
[932]
[933]
[934]
[935]
[936]
[937]
[938]
[939]
[940]
[941]
[942]
[943]
[944]
[945]
[946]
[947]
[948]
[949]
[950]
[951]
[952]
[953]
[954]
[955]
[956]
[957]
[958]
[959]
[960]
[961]
[962]
[963]
[964]
[965]
[966]
[967]
[968]
[969]
[970]
[971]
[972]
[973]
[974]
[975]
[976]
[977]
[978]
[979]
[980]
[981]
[982]
[983]
[984]
[985]
[986]
[987]
[988]
[989]
[990]
[991]
[992]
[993]
[994]
[995]
[996]
[997]
[998]
[999]
[1000]

{"sheet":"h5","index":12,"n_rows":33,"n_cols":27,"rows_kept":33,"hidden":true}
[1,2,3,4,5,6,7,8,9,10,11,12,13,14,15,16,17,18,19,20,21,22,23,24,25,26,27]
[null,{"$f":"Hierarchia_5!B9","v":"p1"},{"$f":"Hierarchia_5!C9","v":"p2"},{"$f":"Hierarchia_5!D9","v":"p3"},{"$f":"Hierarchia_5!E9","v":"p4"},{"$f":"Hierarchia_5!F9","v":"p5"},{"$f":"Hierarchia_5!G9","v":"p6"},{"$f":"Hierarchia_5!H9","v":"p7"},{"$f":"Hierarchia_5!I9","v":"p8"},{"$f":"Hierarchia_5!J9","v":"p9"},{"$f":"Hierarchia_5!K9","v":"p10"}]
[1,{"$f":"COUNTIF(Hierarchia_5!B10:B5000,1)","v":0},{"$f":"COUNTIF(Hierarchia_5!C10:C5000,1)","v":0},{"$f":"COUNTIF(Hierarchia_5!D10:D5000,1)","v":0},{"$f":"COUNTIF(Hierarchia_5!E10:E5000,1)","v":0},{"$f":"COUNTIF(Hierarchia_5!F10:F5000,1)","v":0},{"$f":"COUNTIF(Hierarchia_5!G10:G5000,1)","v":0},{"$f":"COUNTIF(Hierarchia_5!H10:H5000,1)","v":0},{"$f":"COUNTIF(Hierarchia_5!I10:I5000,1)","v":0},{"$f":"COUNTIF(Hierarchia_5!J10:J5000,1)","v":0},{"$f":"COUNTIF(Hierarchia_5!K10:K5000,1)","v":0}]
[2,{"$f":"COUNTIF(Hierarchia_5!B10:B5000,2)","v":0},{"$f":"COUNTIF(Hierarchia_5!C10:C5000,2)","v":0},{"$f":"COUNTIF(Hierarchia_5!D10:D5000,2)","v":0},{"$f":"COUNTIF(Hierarchia_5!E10:E5000,2)","v":0},{"$f":"COUNTIF(Hierarchia_5!F10:F5000,2)","v":0},{"$f":"COUNTIF(Hierarchia_5!G10:G5000,2)","v":0},{"$f":"COUNTIF(Hierarchia_5!H10:H5000,2)","v":0},{"$f":"COUNTIF(Hierarchia_5!I10:I5000,2)","v":0},{"$f":"COUNTIF(Hierarchia_5!J10:J5000,2)","v":0},{"$f":"COUNTIF(Hierarchia_5!K10:K5000,2)","v":0}]
[3,{"$f":"COUNTIF(Hierarchia_5!B10:B5000,3)","v":0},{"$f":"COUNTIF(Hierarchia_5!C10:C5000,3)","v":0},{"$f":"COUNTIF(Hierarchia_5!D10:D5000,3)","v":0},{"$f":"COUNTIF(Hierarchia_5!E10:E5000,3)","v":0},{"$f":"COUNTIF(Hierarchia_5!F10:F5000,3)","v":0},{"$f":"COUNTIF(Hierarchia_5!G10:G5000,3)","v":0},{"$f":"COUNTIF(Hierarchia_5!H10:H5000,3)","v":0},{"$f":"COUNTIF(Hierarchia_5!I10:I5000,3)","v":0},{"$f":"COUNTIF(Hierarchia_5!J10:J5000,3)","v":0},{"$f":"COUNTIF(Hierarchia_5!K10:K5000,3)","v":0}]
[4,{"$f":"COUNTIF(Hierarchia_5!B10:B5000,4)","v":0},{"$f":"COUNTIF(Hierarchia_5!C10:C5000,4)","v":0},{"$f":"COUNTIF(Hierarchia_5!D10:D5000,4)","v":0},{"$f":"COUNTIF(Hierarchia_5!E10:E5000,4)","v":0},{"$f":"COUNTIF(Hierarchia_5!F10:F5000,4)","v":0},{"$f":"COUNTIF(Hierarchia_5!G10:G5000,4)","v":0},{"$f":"COUNTIF(Hierarchia_5!H10:H5000,4)","v":0},{"$f":"COUNTIF(Hierarchia_5!I10:I5000,4)","v":0},{"$f":"COUNTIF(Hierarchia_5!J10:J5000,4)","v":0},{"$f":"COUNTIF(Hierarchia_5!K10:K5000,4)","v":0}]
[5,{"$f":"COUNTIF(Hierarchia_5!B10:B5000,5)","v":0},{"$f":"COUNTIF(Hierarchia_5!C10:C5000,5)","v":0},{"$f":"COUNTIF(Hierarchia_5!D10:D5000,5)","v":0},{"$f":"COUNTIF(Hierarchia_5!E10:E5000,5)","v":0},{"$f":"COUNTIF(Hierarchia_5!F10:F5000,5)","v":0},{"$f":"COUNTIF(Hierarchia_5!G10:G5000,5)","v":0},{"$f":"COUNTIF(Hierarchia_5!H10:H5000,5)","v":0},{"$f":"COUNTIF(Hierarchia_5!I10:I5000,5)","v":0},{"$f":"COUNTIF(Hierarchia_5!J10:J5000,5)","v":0},{"$f":"COUNTIF(Hierarchia_5!K10:K5000,5)","v":0}]
[6,{"$f":"Hierarchia_5!$B$4-SUM('h5'!B3:B7)","v":0},{"$f":"Hierarchia_5!$B$4-SUM('h5'!C3:C7)","v":0},{"$f":"Hierarchia_5!$B$4-SUM('h5'!D3:D7)","v":0},{"$f":"Hierarchia_5!$B$4-SUM('h5'!E3:E7)","v":0},{"$f":"Hierarchia_5!$B$4-SUM('h5'!F3:F7)","v":0},{"$f":"Hierarchia_5!$B$4-SUM('h5'!G3:G7)","v":0},{"$f":"Hierarchia_5!$B$4-SUM('h5'!H3:H7)","v":0},{"$f":"Hierarchia_5!$B$4-SUM('h5'!I3:I7)","v":0},{"$f":"Hierarchia_5!$B$4-SUM('h5'!J3:J7)","v":0},{"$f":"Hierarchia_5!$B$4-SUM('h5'!K3:K7)","v":0}]
[]
["Skumulowane"]
[null,{"$f":"B2","v":"p1"},{"$f":"C2","v":"p2"},"p3","p4","p5","p6","p7","p8","p9","p10",{"$nulls":9},"max-s_licz","s","max-s","max","max_licz"]
[1,{"$f":"B3","v":0},{"$f":"C3","v":0},0,0,0,0,0,0,0,0,{"$nulls":9},{"$f":"COUNTIF(B12:K12,\">=\"&W12)","v":10},{"$f":"_xlfn.STDEV.P(B12:K12)","v":{"v":0,"d":"0.0"}},{"$f":"MAX(B12:K12)-V12","v":{"v":0,"d":"0.0"}},{"$f":"MAX(B18:K18)","v":0},{"$f":"COUNTIF(B18:K18,X12)","v":0}]
[2,{"$nulls":19},{"$f":"COUNTIF(B13:K13,\">=\"&W13)","v":0},{"$f":"_xlfn.STDEV.P(B13:K13)","v":{"$error":"#DIV/0!"}},{"$f":"MAX(B13:K13)-V13","v":{"$error":"#DIV/0!"}},{"$f":"MAX(B19:K19)","v":0},{"$f":"COUNTIF(B19:K19,X13)","v":0}]
[3,{"$nulls":19},0,{"$error":"#DIV/0!"},{"$error":"#DIV/0!"},0,0]
[4,{"$nulls":19},0,{"$error":"#DIV/0!"},{"$error":"#DIV/0!"},0,0]
[5,{"$nulls":19},0,{"$error":"#DIV/0!"},{"$error":"#DIV/0!"},0,0]
[6,{"$nulls":19},0,{"$error":"#DIV/0!"},{"$error":"#DIV/0!"},0,0]
["max_1"]
["max_2"]
["max_3"]
["max_4"]
["max_5"]
["max_6"]
["p1","Leki, materiały higieniczne / pielęgnacyjne"]
["p2","Specjalistyczny sprzęt rehabilitacyjny"]
["p3","Opieka rehabilitacyjna"]
["p4","Opieka pielęgnacyjna"]
["p5","Opieka psychologiczna, psychoterapeutyczna, psychiatryczna"]
["p6","Pomoc asystenta osób niepełnosprawnych (obecnie brak takiej pomocy)"]
["p7","Pomoc asystenta osób niepełnosprawnych w większym zakresie"]
["p8","Możliwość wyjazdu na turnus rehabilitacyjny"]
["p9","Bezpłatna opieka zdrowotna"]
["p10","Inne potrzeby, jakie?"]

{"sheet":"Hierarchia_6","index":13,"n_rows":1009,"n_cols":18,"rows_kept":1009,"merged":[[3,3,5,9],[6,16,6,17],[7,16,7,17],[28,15,28,17]]}
[]
["Hierarchia barier utrudniających osobom z niepełnosprawnościami kontynuowanie nauki lub uczestnictwo w kursach / szkoleniach"]
[]
[{"$nulls":3},"Podaj liczbę wszystkich respondentów, którzy odpowiadali \nna pytanie 7 w dziale 4 kwestionariusza, łącznie z tymi osobami, które nie miały barier"]
[]
[]
["W poniższej tabeli uzupełnij odpowiedzi respondentów"]
["1 oznacza barierę najbardziej uciążliwą, a 5 – najmniej uciążliwą",{"$nulls":15},"Legenda:"]
["Nr respondenta","p1","p2","p3","p4","p5","p6","p7","p8","p9","p10","p11","p12","p13",null,null,"p1","Niedostosowanie oferty edukacyjnej do moich potrzeb"]
[1,{"$nulls":15},"p2","Niedostosowanie placówek edukacyjnych do moich potrzeb"]
[2,{"$nulls":15},"p3","Brak odpowiedniej opieki pedagogicznej w placówkach edukacyjnych"]
[3,{"$nulls":15},"p4","Brak możliwości nauki w formie indywidualnego toku kształcenia"]
[4,{"$nulls":15},"p5","Zbyt mała oferta szkoleń w formie e-learningowej (przez Internet)"]
[5,{"$nulls":15},"p6","Brak specjalnie przystosowanych podręczników szkolnych lub innych pomocy naukowych do moich potrzeb"]
[6,{"$nulls":15},"p7","Koszty związane z edukacją (np. z zakupem podręczników szkolnych lub innych pomocy naukowych, z zakupem specjalistycznego sprzętu do przemieszczania się lub komunikowania)"]
[7,{"$nulls":15},"p8","Dojazd do placówki edukacyjnej, miejsca szkoleń / kursów"]
[8,{"$nulls":15},"p9","Brak pomocy asystenta osoby niepełnosprawnej"]
[9,{"$nulls":15},"p10","Brak pomocy tłumacza języka migowego lub innej osoby"]
[10,{"$nulls":15},"p11","Wiek"]
[11,{"$nulls":15},"p12","Brak wiedzy o kursach i szkoleniach"]
[12,{"$nulls":15},"p13","Inne utrudnienia, jakie?"]
[13]
[14]
[15,{"$nulls":15},"Kliknij aby poznać hierarchię"]
[16]
[17]
[18]
[19]
[20,{"$nulls":14},"Hierarchia  1 oznacza barierę najbardziej uciążliwą, a 5 – najmniej uciążliwą"]
[21]
[22,{"$nulls":14},1,{"$f":"'h6'!Z12","v":0},{"$f":"'h6'!AA12","v":0}]
[23,{"$nulls":14},2,{"$f":"'h6'!Z13","v":0},{"$f":"'h6'!AA13","v":0}]
[24,{"$nulls":14},3,{"$f":"'h6'!Z14","v":0},{"$f":"'h6'!AA14","v":0}]
[25,{"$nulls":14},4,{"$f":"'h6'!Z15","v":0},{"$f":"'h6'!AA15","v":0}]
[26,{"$nulls":14},5,{"$f":"'h6'!Z16","v":0},{"$f":"'h6'!AA16","v":0}]
[27]
[28]
[29]
[30]
[31]
[32]
[33]
[34]
[35]
[36]
[37]
[38]
[39]
[40]
[41]
[42]
[43]
[44]
[45]
[46]
[47]
[48]
[49]
[50]
[51]
[52]
[53]
[54]
[55]
[56]
[57]
[58]
[59]
[60]
[61]
[62]
[63]
[64]
[65]
[66]
[67]
[68]
[69]
[70]
[71]
[72]
[73]
[74]
[75]
[76]
[77]
[78]
[79]
[80]
[81]
[82]
[83]
[84]
[85]
[86]
[87]
[88]
[89]
[90]
[91]
[92]
[93]
[94]
[95]
[96]
[97]
[98]
[99]
[100]
[101]
[102]
[103]
[104]
[105]
[106]
[107]
[108]
[109]
[110]
[111]
[112]
[113]
[114]
[115]
[116]
[117]
[118]
[119]
[120]
[121]
[122]
[123]
[124]
[125]
[126]
[127]
[128]
[129]
[130]
[131]
[132]
[133]
[134]
[135]
[136]
[137]
[138]
[139]
[140]
[141]
[142]
[143]
[144]
[145]
[146]
[147]
[148]
[149]
[150]
[151]
[152]
[153]
[154]
[155]
[156]
[157]
[158]
[159]
[160]
[161]
[162]
[163]
[164]
[165]
[166]
[167]
[168]
[169]
[170]
[171]
[172]
[173]
[174]
[175]
[176]
[177]
[178]
[179]
[180]
[181]
[182]
[183]
[184]
[185]
[186]
[187]
[188]
[189]
[190]
[191]
[192]
[193]
[194]
[195]
[196]
[197]
[198]
[199]
[200]
[201]
[202]
[203]
[204]
[205]
[206]
[207]
[208]
[209]
[210]
[211]
[212]
[213]
[214]
[215]
[216]
[217]
[218]
[219]
[220]
[221]
[222]
[223]
[224]
[225]
[226]
[227]
[228]
[229]
[230]
[231]
[232]
[233]
[234]
[235]
[236]
[237]
[238]
[239]
[240]
[241]
[242]
[243]
[244]
[245]
[246]
[247]
[248]
[249]
[250]
[251]
[252]
[253]
[254]
[255]
[256]
[257]
[258]
[259]
[260]
[261]
[262]
[263]
[264]
[265]
[266]
[267]
[268]
[269]
[270]
[271]
[272]
[273]
[274]
[275]
[276]
[277]
[278]
[279]
[280]
[281]
[282]
[283]
[284]
[285]
[286]
[287]
[288]
[289]
[290]
[291]
[292]
[293]
[294]
[295]
[296]
[297]
[298]
[299]
[300]
[301]
[302]
[303]
[304]
[305]
[306]
[307]
[308]
[309]
[310]
[311]
[312]
[313]
[314]
[315]
[316]
[317]
[318]
[319]
[320]
[321]
[322]
[323]
[324]
[325]
[326]
[327]
[328]
[329]
[330]
[331]
[332]
[333]
[334]
[335]
[336]
[337]
[338]
[339]
[340]
[341]
[342]
[343]
[344]
[345]
[346]
[347]
[348]
[349]
[350]
[351]
[352]
[353]
[354]
[355]
[356]
[357]
[358]
[359]
[360]
[361]
[362]
[363]
[364]
[365]
[366]
[367]
[368]
[369]
[370]
[371]
[372]
[373]
[374]
[375]
[376]
[377]
[378]
[379]
[380]
[381]
[382]
[383]
[384]
[385]
[386]
[387]
[388]
[389]
[390]
[391]
[392]
[393]
[394]
[395]
[396]
[397]
[398]
[399]
[400]
[401]
[402]
[403]
[404]
[405]
[406]
[407]
[408]
[409]
[410]
[411]
[412]
[413]
[414]
[415]
[416]
[417]
[418]
[419]
[420]
[421]
[422]
[423]
[424]
[425]
[426]
[427]
[428]
[429]
[430]
[431]
[432]
[433]
[434]
[435]
[436]
[437]
[438]
[439]
[440]
[441]
[442]
[443]
[444]
[445]
[446]
[447]
[448]
[449]
[450]
[451]
[452]
[453]
[454]
[455]
[456]
[457]
[458]
[459]
[460]
[461]
[462]
[463]
[464]
[465]
[466]
[467]
[468]
[469]
[470]
[471]
[472]
[473]
[474]
[475]
[476]
[477]
[478]
[479]
[480]
[481]
[482]
[483]
[484]
[485]
[486]
[487]
[488]
[489]
[490]
[491]
[492]
[493]
[494]
[495]
[496]
[497]
[498]
[499]
[500]
[501]
[502]
[503]
[504]
[505]
[506]
[507]
[508]
[509]
[510]
[511]
[512]
[513]
[514]
[515]
[516]
[517]
[518]
[519]
[520]
[521]
[522]
[523]
[524]
[525]
[526]
[527]
[528]
[529]
[530]
[531]
[532]
[533]
[534]
[535]
[536]
[537]
[538]
[539]
[540]
[541]
[542]
[543]
[544]
[545]
[546]
[547]
[548]
[549]
[550]
[551]
[552]
[553]
[554]
[555]
[556]
[557]
[558]
[559]
[560]
[561]
[562]
[563]
[564]
[565]
[566]
[567]
[568]
[569]
[570]
[571]
[572]
[573]
[574]
[575]
[576]
[577]
[578]
[579]
[580]
[581]
[582]
[583]
[584]
[585]
[586]
[587]
[588]
[589]
[590]
[591]
[592]
[593]
[594]
[595]
[596]
[597]
[598]
[599]
[600]
[601]
[602]
[603]
[604]
[605]
[606]
[607]
[608]
[609]
[610]
[611]
[612]
[613]
[614]
[615]
[616]
[617]
[618]
[619]
[620]
[621]
[622]
[623]
[624]
[625]
[626]
[627]
[628]
[629]
[630]
[631]
[632]
[633]
[634]
[635]
[636]
[637]
[638]
[639]
[640]
[641]
[642]
[643]
[644]
[645]
[646]
[647]
[648]
[649]
[650]
[651]
[652]
[653]
[654]
[655]
[656]
[657]
[658]
[659]
[660]
[661]
[662]
[663]
[664]
[665]
[666]
[667]
[668]
[669]
[670]
[671]
[672]
[673]
[674]
[675]
[676]
[677]
[678]
[679]
[680]
[681]
[682]
[683]
[684]
[685]
[686]
[687]
[688]
[689]
[690]
[691]
[692]
[693]
[694]
[695]
[696]
[697]
[698]
[699]
[700]
[701]
[702]
[703]
[704]
[705]
[706]
[707]
[708]
[709]
[710]
[711]
[712]
[713]
[714]
[715]
[716]
[717]
[718]
[719]
[720]
[721]
[722]
[723]
[724]
[725]
[726]
[727]
[728]
[729]
[730]
[731]
[732]
[733]
[734]
[735]
[736]
[737]
[738]
[739]
[740]
[741]
[742]
[743]
[744]
[745]
[746]
[747]
[748]
[749]
[750]
[751]
[752]
[753]
[754]
[755]
[756]
[757]
[758]
[759]
[760]
[761]
[762]
[763]
[764]
[765]
[766]
[767]
[768]
[769]
[770]
[771]
[772]
[773]
[774]
[775]
[776]
[777]
[778]
[779]
[780]
[781]
[782]
[783]
[784]
[785]
[786]
[787]
[788]
[789]
[790]
[791]
[792]
[793]
[794]
[795]
[796]
[797]
[798]
[799]
[800]
[801]
[802]
[803]
[804]
[805]
[806]
[807]
[808]
[809]
[810]
[811]
[812]
[813]
[814]
[815]
[816]
[817]
[818]
[819]
[820]
[821]
[822]
[823]
[824]
[825]
[826]
[827]
[828]
[829]
[830]
[831]
[832]
[833]
[834]
[835]
[836]
[837]
[838]
[839]
[840]
[841]
[842]
[843]
[844]
[845]
[846]
[847]
[848]
[849]
[850]
[851]
[852]
[853]
[854]
[855]
[856]
[857]
[858]
[859]
[860]
[861]
[862]
[863]
[864]
[865]
[866]
[867]
[868]
[869]
[870]
[871]
[872]
[873]
[874]
[875]
[876]
[877]
[878]
[879]
[880]
[881]
[882]
[883]
[884]
[885]
[886]
[887]
[888]
[889]
[890]
[891]
[892]
[893]
[894]
[895]
[896]
[897]
[898]
[899]
[900]
[901]
[902]
[903]
[904]
[905]
[906]
[907]
[908]
[909]
[910]
[911]
[912]
[913]
[914]
[915]
[916]
[917]
[918]
[919]
[920]
[921]
[922]
[923]
[924]
[925]
[926]
[927]
[928]
[929]
[930]
[931]
[932]
[933]
[934]
[935]
[936]
[937]
[938]
[939]
[940]
[941]
[942]
[943]
[944]
[945]
[946]
[947]
[948]
[949]
[950]
[951]
[952]
[953]
[954]
[955]
[956]
[957]
[958]
[959]
[960]
[961]
[962]
[963]
[964]
[965]
[966]
[967]
[968]
[969]
[970]
[971]
[972]
[973]
[974]
[975]
[976]
[977]
[978]
[979]
[980]
[981]
[982]
[983]
[984]
[985]
[986]
[987]
[988]
[989]
[990]
[991]
[992]
[993]
[994]
[995]
[996]
[997]
[998]
[999]
[1000]

{"sheet":"h6","index":14,"n_rows":36,"n_cols":27,"rows_kept":36,"hidden":true}
[1,2,3,4,5,6,7,8,9,10,11,12,13,14,15,16,17,18,19,20,21,22,23,24,25,26,27]
[null,{"$f":"Hierarchia_6!B9","v":"p1"},{"$f":"Hierarchia_6!C9","v":"p2"},{"$f":"Hierarchia_6!D9","v":"p3"},{"$f":"Hierarchia_6!E9","v":"p4"},{"$f":"Hierarchia_6!F9","v":"p5"},{"$f":"Hierarchia_6!G9","v":"p6"},{"$f":"Hierarchia_6!H9","v":"p7"},{"$f":"Hierarchia_6!I9","v":"p8"},{"$f":"Hierarchia_6!J9","v":"p9"},{"$f":"Hierarchia_6!K9","v":"p10"},{"$f":"Hierarchia_6!L9","v":"p11"},{"$f":"Hierarchia_6!M9","v":"p12"},{"$f":"Hierarchia_6!N9","v":"p13"}]
[1,{"$f":"COUNTIF(Hierarchia_6!B10:B5000,1)","v":0},{"$f":"COUNTIF(Hierarchia_6!C10:C5000,1)","v":0},{"$f":"COUNTIF(Hierarchia_6!D10:D5000,1)","v":0},{"$f":"COUNTIF(Hierarchia_6!E10:E5000,1)","v":0},{"$f":"COUNTIF(Hierarchia_6!F10:F5000,1)","v":0},{"$f":"COUNTIF(Hierarchia_6!G10:G5000,1)","v":0},{"$f":"COUNTIF(Hierarchia_6!H10:H5000,1)","v":0},{"$f":"COUNTIF(Hierarchia_6!I10:I5000,1)","v":0},{"$f":"COUNTIF(Hierarchia_6!J10:J5000,1)","v":0},{"$f":"COUNTIF(Hierarchia_6!K10:K5000,1)","v":0},{"$f":"COUNTIF(Hierarchia_6!L10:L5000,1)","v":0},{"$f":"COUNTIF(Hierarchia_6!M10:M5000,1)","v":0},{"$f":"COUNTIF(Hierarchia_6!N10:N5000,1)","v":0}]
[2,{"$f":"COUNTIF(Hierarchia_6!B10:B5000,2)","v":0},{"$f":"COUNTIF(Hierarchia_6!C10:C5000,2)","v":0},{"$f":"COUNTIF(Hierarchia_6!D10:D5000,2)","v":0},{"$f":"COUNTIF(Hierarchia_6!E10:E5000,2)","v":0},{"$f":"COUNTIF(Hierarchia_6!F10:F5000,2)","v":0},{"$f":"COUNTIF(Hierarchia_6!G10:G5000,2)","v":0},{"$f":"COUNTIF(Hierarchia_6!H10:H5000,2)","v":0},{"$f":"COUNTIF(Hierarchia_6!I10:I5000,2)","v":0},{"$f":"COUNTIF(Hierarchia_6!J10:J5000,2)","v":0},{"$f":"COUNTIF(Hierarchia_6!K10:K5000,2)","v":0},{"$f":"COUNTIF(Hierarchia_6!L10:L5000,2)","v":0},{"$f":"COUNTIF(Hierarchia_6!M10:M5000,2)","v":0},{"$f":"COUNTIF(Hierarchia_6!N10:N5000,2)","v":0}]
[3,{"$f":"COUNTIF(Hierarchia_6!B10:B5000,3)","v":0},{"$f":"COUNTIF(Hierarchia_6!C10:C5000,3)","v":0},{"$f":"COUNTIF(Hierarchia_6!D10:D5000,3)","v":0},{"$f":"COUNTIF(Hierarchia_6!E10:E5000,3)","v":0},{"$f":"COUNTIF(Hierarchia_6!F10:F5000,3)","v":0},{"$f":"COUNTIF(Hierarchia_6!G10:G5000,3)","v":0},{"$f":"COUNTIF(Hierarchia_6!H10:H5000,3)","v":0},{"$f":"COUNTIF(Hierarchia_6!I10:I5000,3)","v":0},{"$f":"COUNTIF(Hierarchia_6!J10:J5000,3)","v":0},{"$f":"COUNTIF(Hierarchia_6!K10:K5000,3)","v":0},{"$f":"COUNTIF(Hierarchia_6!L10:L5000,3)","v":0},{"$f":"COUNTIF(Hierarchia_6!M10:M5000,3)","v":0},{"$f":"COUNTIF(Hierarchia_6!N10:N5000,3)","v":0}]
[4,{"$f":"COUNTIF(Hierarchia_6!B10:B5000,4)","v":0},{"$f":"COUNTIF(Hierarchia_6!C10:C5000,4)","v":0},{"$f":"COUNTIF(Hierarchia_6!D10:D5000,4)","v":0},{"$f":"COUNTIF(Hierarchia_6!E10:E5000,4)","v":0},{"$f":"COUNTIF(Hierarchia_6!F10:F5000,4)","v":0},{"$f":"COUNTIF(Hierarchia_6!G10:G5000,4)","v":0},{"$f":"COUNTIF(Hierarchia_6!H10:H5000,4)","v":0},{"$f":"COUNTIF(Hierarchia_6!I10:I5000,4)","v":0},{"$f":"COUNTIF(Hierarchia_6!J10:J5000,4)","v":0},{"$f":"COUNTIF(Hierarchia_6!K10:K5000,4)","v":0},{"$f":"COUNTIF(Hierarchia_6!L10:L5000,4)","v":0},{"$f":"COUNTIF(Hierarchia_6!M10:M5000,4)","v":0},{"$f":"COUNTIF(Hierarchia_6!N10:N5000,4)","v":0}]
[5,{"$f":"COUNTIF(Hierarchia_6!B10:B5000,5)","v":0},{"$f":"COUNTIF(Hierarchia_6!C10:C5000,5)","v":0},{"$f":"COUNTIF(Hierarchia_6!D10:D5000,5)","v":0},{"$f":"COUNTIF(Hierarchia_6!E10:E5000,5)","v":0},{"$f":"COUNTIF(Hierarchia_6!F10:F5000,5)","v":0},{"$f":"COUNTIF(Hierarchia_6!G10:G5000,5)","v":0},{"$f":"COUNTIF(Hierarchia_6!H10:H5000,5)","v":0},{"$f":"COUNTIF(Hierarchia_6!I10:I5000,5)","v":0},{"$f":"COUNTIF(Hierarchia_6!J10:J5000,5)","v":0},{"$f":"COUNTIF(Hierarchia_6!K10:K5000,5)","v":0},{"$f":"COUNTIF(Hierarchia_6!L10:L5000,5)","v":0},{"$f":"COUNTIF(Hierarchia_6!M10:M5000,5)","v":0},{"$f":"COUNTIF(Hierarchia_6!N10:N5000,5)","v":0}]
[6,{"$f":"Hierarchia_6!$B$4-SUM('h6'!B3:B7)","v":0},{"$f":"Hierarchia_6!$B$4-SUM('h6'!C3:C7)","v":0},{"$f":"Hierarchia_6!$B$4-SUM('h6'!D3:D7)","v":0},{"$f":"Hierarchia_6!$B$4-SUM('h6'!E3:E7)","v":0},{"$f":"Hierarchia_6!$B$4-SUM('h6'!F3:F7)","v":0},{"$f":"Hierarchia_6!$B$4-SUM('h6'!G3:G7)","v":0},{"$f":"Hierarchia_6!$B$4-SUM('h6'!H3:H7)","v":0},{"$f":"Hierarchia_6!$B$4-SUM('h6'!I3:I7)","v":0},{"$f":"Hierarchia_6!$B$4-SUM('h6'!J3:J7)","v":0},{"$f":"Hierarchia_6!$B$4-SUM('h6'!K3:K7)","v":0},{"$f":"Hierarchia_6!$B$4-SUM('h6'!L3:L7)","v":0},{"$f":"Hierarchia_6!$B$4-SUM('h6'!M3:M7)","v":0},{"$f":"Hierarchia_6!$B$4-SUM('h6'!N3:N7)","v":0}]
[]
["Skumulowane"]
[null,{"$f":"B2","v":"p1"},{"$f":"C2","v":"p2"},"p3","p4","p5","p6","p7","p8","p9","p10","p11","p12","p13",{"$nulls":6},"max-s_licz","s","max-s","max","max_licz"]
[1,{"$f":"B3","v":0},{"$f":"C3","v":0},0,0,0,0,0,0,0,0,0,0,0,{"$nulls":6},{"$f":"COUNTIF(B12:N12,\">=\"&W12)","v":13},{"$f":"_xlfn.STDEV.P(B12:N12)","v":{"v":0,"d":"0.0"}},{"$f":"MAX(B12:N12)-V12","v":{"v":0,"d":"0.0"}},{"$f":"MAX(B18:N18)","v":0},{"$f":"COUNTIF(B18:N18,X12)","v":0}]
[2,{"$nulls":19},{"$f":"COUNTIF(B13:N13,\">=\"&W13)","v":0},{"$f":"_xlfn.STDEV.P(B13:N13)","v":{"$error":"#DIV/0!"}},{"$f":"MAX(B13:N13)-V13","v":{"$error":"#DIV/0!"}},{"$f":"MAX(B19:N19)","v":0},{"$f":"COUNTIF(B19:N19,X13)","v":0}]
[3,{"$nulls":19},0,{"$error":"#DIV/0!"},{"$error":"#DIV/0!"},0,0]
[4,{"$nulls":19},0,{"$error":"#DIV/0!"},{"$error":"#DIV/0!"},0,0]
[5,{"$nulls":19},0,{"$error":"#DIV/0!"},{"$error":"#DIV/0!"},0,0]
[6,{"$nulls":19},0,{"$error":"#DIV/0!"},{"$error":"#DIV/0!"},0,0]
["max_1"]
["max_2"]
["max_3"]
["max_4"]
["max_5"]
["max_6"]
["p1","Niedostosowanie oferty edukacyjnej do moich potrzeb"]
["p2","Niedostosowanie placówek edukacyjnych do moich potrzeb"]
["p3","Brak odpowiedniej opieki pedagogicznej w placówkach edukacyjnych"]
["p4","Brak możliwości nauki w formie indywidualnego toku kształcenia"]
["p5","Zbyt mała oferta szkoleń w formie e-learningowej (przez Internet)"]
["p6","Brak specjalnie przystosowanych podręczników szkolnych lub innych pomocy naukowych do moich potrzeb"]
["p7","Koszty związane z edukacją (np. z zakupem podręczników szkolnych lub innych pomocy naukowych, z zakupem specjalistycznego sprzętu do przemieszczania się lub komunikowania)"]
["p8","Dojazd do placówki edukacyjnej, miejsca szkoleń / kursów"]
["p9","Brak pomocy asystenta osoby niepełnosprawnej"]
["p10","Brak pomocy tłumacza języka migowego lub innej osoby"]
["p11","Wiek"]
["p12","Brak wiedzy o kursach i szkoleniach"]
["p13","Inne utrudnienia, jakie?"]

{"sheet":"Hierarchia_7","index":15,"n_rows":1009,"n_cols":17,"rows_kept":1009,"merged":[[3,3,5,9],[6,15,6,16],[7,15,7,16],[28,14,28,16]]}
[]
["Hierarchia barier utrudniających osobom z niepełnosprawnościami korzystanie z ofert spędzania wolnego czasu"]
[]
[{"$nulls":3},"Podaj liczbę wszystkich respondentów, którzy odpowiadali \nna pytanie 20 w dziale 4 kwestionariusza, łącznie z tymi osobami, które nie miały barier"]
[]
[]
["W poniższej tabeli uzupełnij odpowiedzi respondentów"]
["1 oznacza barierę najbardziej uciążliwą, a 5 – najmniej uciążliwą",{"$nulls":14},"Legenda:"]
["Nr respondenta","p1","p2","p3","p4","p5","p6","p7","p8","p9","p10","p11","p12",null,null,"p1","Nie jestem zainteresowany uczestnictwem"]
[1,{"$nulls":14},"p2","Środki finansowe (wymaga to większych pieniędzy niż mam do dyspozycji)"]
[2,{"$nulls":14},"p3","Brak opiekuna / asystenta osoby niepełnosprawnej"]
[3,{"$nulls":14},"p4","Brak osoby do towarzystwa"]
[4,{"$nulls":14},"p5","Mam obowiązki zawodowe"]
[5,{"$nulls":14},"p6","Mam obowiązki rodzinne"]
[6,{"$nulls":14},"p7","Stan zdrowia (w tym stan związany z moją niepełnosprawnością)"]
[7,{"$nulls":14},"p8","Nie mam jednorazowo aż tyle czasu wolnego"]
[8,{"$nulls":14},"p9","Brak oferty kulturalnej, sportowej, turystycznej w moim miejscu zamieszkania"]
[9,{"$nulls":14},"p10","Problemy z komunikacją, z dojazdem, z powrotem do domu, parkowaniem"]
[10,{"$nulls":14},"p11","Brak informacji o miejscu i terminie wydarzenia"]
[11,{"$nulls":14},"p12","Inne, jakie?"]
[12]
[13]
[14]
[15,{"$nulls":14},"Kliknij aby poznać hierarchię"]
[16]
[17]
[18]
[19]
[20,{"$nulls":13},"Hierarchia  1 oznacza barierę najbardziej uciążliwą, a 5 – najmniej uciążliwą"]
[21]
[22,{"$nulls":13},1,{"$f":"'h7'!Z12","v":0},{"$f":"'h7'!AA12","v":0}]
[23,{"$nulls":13},2,{"$f":"'h7'!Z13","v":0},{"$f":"'h7'!AA13","v":0}]
[24,{"$nulls":13},3,{"$f":"'h7'!Z14","v":0},{"$f":"'h7'!AA14","v":0}]
[25,{"$nulls":13},4,{"$f":"'h7'!Z15","v":0},{"$f":"'h7'!AA15","v":0}]
[26,{"$nulls":13},5,{"$f":"'h7'!Z16","v":0},{"$f":"'h7'!AA16","v":0}]
[27]
[28]
[29]
[30]
[31]
[32]
[33]
[34]
[35]
[36]
[37]
[38]
[39]
[40]
[41]
[42]
[43]
[44]
[45]
[46]
[47]
[48]
[49]
[50]
[51]
[52]
[53]
[54]
[55]
[56]
[57]
[58]
[59]
[60]
[61]
[62]
[63]
[64]
[65]
[66]
[67]
[68]
[69]
[70]
[71]
[72]
[73]
[74]
[75]
[76]
[77]
[78]
[79]
[80]
[81]
[82]
[83]
[84]
[85]
[86]
[87]
[88]
[89]
[90]
[91]
[92]
[93]
[94]
[95]
[96]
[97]
[98]
[99]
[100]
[101]
[102]
[103]
[104]
[105]
[106]
[107]
[108]
[109]
[110]
[111]
[112]
[113]
[114]
[115]
[116]
[117]
[118]
[119]
[120]
[121]
[122]
[123]
[124]
[125]
[126]
[127]
[128]
[129]
[130]
[131]
[132]
[133]
[134]
[135]
[136]
[137]
[138]
[139]
[140]
[141]
[142]
[143]
[144]
[145]
[146]
[147]
[148]
[149]
[150]
[151]
[152]
[153]
[154]
[155]
[156]
[157]
[158]
[159]
[160]
[161]
[162]
[163]
[164]
[165]
[166]
[167]
[168]
[169]
[170]
[171]
[172]
[173]
[174]
[175]
[176]
[177]
[178]
[179]
[180]
[181]
[182]
[183]
[184]
[185]
[186]
[187]
[188]
[189]
[190]
[191]
[192]
[193]
[194]
[195]
[196]
[197]
[198]
[199]
[200]
[201]
[202]
[203]
[204]
[205]
[206]
[207]
[208]
[209]
[210]
[211]
[212]
[213]
[214]
[215]
[216]
[217]
[218]
[219]
[220]
[221]
[222]
[223]
[224]
[225]
[226]
[227]
[228]
[229]
[230]
[231]
[232]
[233]
[234]
[235]
[236]
[237]
[238]
[239]
[240]
[241]
[242]
[243]
[244]
[245]
[246]
[247]
[248]
[249]
[250]
[251]
[252]
[253]
[254]
[255]
[256]
[257]
[258]
[259]
[260]
[261]
[262]
[263]
[264]
[265]
[266]
[267]
[268]
[269]
[270]
[271]
[272]
[273]
[274]
[275]
[276]
[277]
[278]
[279]
[280]
[281]
[282]
[283]
[284]
[285]
[286]
[287]
[288]
[289]
[290]
[291]
[292]
[293]
[294]
[295]
[296]
[297]
[298]
[299]
[300]
[301]
[302]
[303]
[304]
[305]
[306]
[307]
[308]
[309]
[310]
[311]
[312]
[313]
[314]
[315]
[316]
[317]
[318]
[319]
[320]
[321]
[322]
[323]
[324]
[325]
[326]
[327]
[328]
[329]
[330]
[331]
[332]
[333]
[334]
[335]
[336]
[337]
[338]
[339]
[340]
[341]
[342]
[343]
[344]
[345]
[346]
[347]
[348]
[349]
[350]
[351]
[352]
[353]
[354]
[355]
[356]
[357]
[358]
[359]
[360]
[361]
[362]
[363]
[364]
[365]
[366]
[367]
[368]
[369]
[370]
[371]
[372]
[373]
[374]
[375]
[376]
[377]
[378]
[379]
[380]
[381]
[382]
[383]
[384]
[385]
[386]
[387]
[388]
[389]
[390]
[391]
[392]
[393]
[394]
[395]
[396]
[397]
[398]
[399]
[400]
[401]
[402]
[403]
[404]
[405]
[406]
[407]
[408]
[409]
[410]
[411]
[412]
[413]
[414]
[415]
[416]
[417]
[418]
[419]
[420]
[421]
[422]
[423]
[424]
[425]
[426]
[427]
[428]
[429]
[430]
[431]
[432]
[433]
[434]
[435]
[436]
[437]
[438]
[439]
[440]
[441]
[442]
[443]
[444]
[445]
[446]
[447]
[448]
[449]
[450]
[451]
[452]
[453]
[454]
[455]
[456]
[457]
[458]
[459]
[460]
[461]
[462]
[463]
[464]
[465]
[466]
[467]
[468]
[469]
[470]
[471]
[472]
[473]
[474]
[475]
[476]
[477]
[478]
[479]
[480]
[481]
[482]
[483]
[484]
[485]
[486]
[487]
[488]
[489]
[490]
[491]
[492]
[493]
[494]
[495]
[496]
[497]
[498]
[499]
[500]
[501]
[502]
[503]
[504]
[505]
[506]
[507]
[508]
[509]
[510]
[511]
[512]
[513]
[514]
[515]
[516]
[517]
[518]
[519]
[520]
[521]
[522]
[523]
[524]
[525]
[526]
[527]
[528]
[529]
[530]
[531]
[532]
[533]
[534]
[535]
[536]
[537]
[538]
[539]
[540]
[541]
[542]
[543]
[544]
[545]
[546]
[547]
[548]
[549]
[550]
[551]
[552]
[553]
[554]
[555]
[556]
[557]
[558]
[559]
[560]
[561]
[562]
[563]
[564]
[565]
[566]
[567]
[568]
[569]
[570]
[571]
[572]
[573]
[574]
[575]
[576]
[577]
[578]
[579]
[580]
[581]
[582]
[583]
[584]
[585]
[586]
[587]
[588]
[589]
[590]
[591]
[592]
[593]
[594]
[595]
[596]
[597]
[598]
[599]
[600]
[601]
[602]
[603]
[604]
[605]
[606]
[607]
[608]
[609]
[610]
[611]
[612]
[613]
[614]
[615]
[616]
[617]
[618]
[619]
[620]
[621]
[622]
[623]
[624]
[625]
[626]
[627]
[628]
[629]
[630]
[631]
[632]
[633]
[634]
[635]
[636]
[637]
[638]
[639]
[640]
[641]
[642]
[643]
[644]
[645]
[646]
[647]
[648]
[649]
[650]
[651]
[652]
[653]
[654]
[655]
[656]
[657]
[658]
[659]
[660]
[661]
[662]
[663]
[664]
[665]
[666]
[667]
[668]
[669]
[670]
[671]
[672]
[673]
[674]
[675]
[676]
[677]
[678]
[679]
[680]
[681]
[682]
[683]
[684]
[685]
[686]
[687]
[688]
[689]
[690]
[691]
[692]
[693]
[694]
[695]
[696]
[697]
[698]
[699]
[700]
[701]
[702]
[703]
[704]
[705]
[706]
[707]
[708]
[709]
[710]
[711]
[712]
[713]
[714]
[715]
[716]
[717]
[718]
[719]
[720]
[721]
[722]
[723]
[724]
[725]
[726]
[727]
[728]
[729]
[730]
[731]
[732]
[733]
[734]
[735]
[736]
[737]
[738]
[739]
[740]
[741]
[742]
[743]
[744]
[745]
[746]
[747]
[748]
[749]
[750]
[751]
[752]
[753]
[754]
[755]
[756]
[757]
[758]
[759]
[760]
[761]
[762]
[763]
[764]
[765]
[766]
[767]
[768]
[769]
[770]
[771]
[772]
[773]
[774]
[775]
[776]
[777]
[778]
[779]
[780]
[781]
[782]
[783]
[784]
[785]
[786]
[787]
[788]
[789]
[790]
[791]
[792]
[793]
[794]
[795]
[796]
[797]
[798]
[799]
[800]
[801]
[802]
[803]
[804]
[805]
[806]
[807]
[808]
[809]
[810]
[811]
[812]
[813]
[814]
[815]
[816]
[817]
[818]
[819]
[820]
[821]
[822]
[823]
[824]
[825]
[826]
[827]
[828]
[829]
[830]
[831]
[832]
[833]
[834]
[835]
[836]
[837]
[838]
[839]
[840]
[841]
[842]
[843]
[844]
[845]
[846]
[847]
[848]
[849]
[850]
[851]
[852]
[853]
[854]
[855]
[856]
[857]
[858]
[859]
[860]
[861]
[862]
[863]
[864]
[865]
[866]
[867]
[868]
[869]
[870]
[871]
[872]
[873]
[874]
[875]
[876]
[877]
[878]
[879]
[880]
[881]
[882]
[883]
[884]
[885]
[886]
[887]
[888]
[889]
[890]
[891]
[892]
[893]
[894]
[895]
[896]
[897]
[898]
[899]
[900]
[901]
[902]
[903]
[904]
[905]
[906]
[907]
[908]
[909]
[910]
[911]
[912]
[913]
[914]
[915]
[916]
[917]
[918]
[919]
[920]
[921]
[922]
[923]
[924]
[925]
[926]
[927]
[928]
[929]
[930]
[931]
[932]
[933]
[934]
[935]
[936]
[937]
[938]
[939]
[940]
[941]
[942]
[943]
[944]
[945]
[946]
[947]
[948]
[949]
[950]
[951]
[952]
[953]
[954]
[955]
[956]
[957]
[958]
[959]
[960]
[961]
[962]
[963]
[964]
[965]
[966]
[967]
[968]
[969]
[970]
[971]
[972]
[973]
[974]
[975]
[976]
[977]
[978]
[979]
[980]
[981]
[982]
[983]
[984]
[985]
[986]
[987]
[988]
[989]
[990]
[991]
[992]
[993]
[994]
[995]
[996]
[997]
[998]
[999]
[1000]

{"sheet":"h7","index":16,"n_rows":35,"n_cols":27,"rows_kept":35,"hidden":true}
[1,2,3,4,5,6,7,8,9,10,11,12,13,14,15,16,17,18,19,20,21,22,23,24,25,26,27]
[null,{"$f":"Hierarchia_7!B9","v":"p1"},{"$f":"Hierarchia_6!C9","v":"p2"},{"$f":"Hierarchia_6!D9","v":"p3"},{"$f":"Hierarchia_6!E9","v":"p4"},{"$f":"Hierarchia_6!F9","v":"p5"},{"$f":"Hierarchia_6!G9","v":"p6"},{"$f":"Hierarchia_6!H9","v":"p7"},{"$f":"Hierarchia_6!I9","v":"p8"},{"$f":"Hierarchia_6!J9","v":"p9"},{"$f":"Hierarchia_6!K9","v":"p10"},{"$f":"Hierarchia_6!L9","v":"p11"},{"$f":"Hierarchia_6!M9","v":"p12"}]
[1,{"$f":"COUNTIF(Hierarchia_7!B10:B5000,1)","v":0},{"$f":"COUNTIF(Hierarchia_7!C10:C5000,1)","v":0},{"$f":"COUNTIF(Hierarchia_7!D10:D5000,1)","v":0},{"$f":"COUNTIF(Hierarchia_7!E10:E5000,1)","v":0},{"$f":"COUNTIF(Hierarchia_7!F10:F5000,1)","v":0},{"$f":"COUNTIF(Hierarchia_7!G10:G5000,1)","v":0},{"$f":"COUNTIF(Hierarchia_7!H10:H5000,1)","v":0},{"$f":"COUNTIF(Hierarchia_7!I10:I5000,1)","v":0},{"$f":"COUNTIF(Hierarchia_7!J10:J5000,1)","v":0},{"$f":"COUNTIF(Hierarchia_7!K10:K5000,1)","v":0},{"$f":"COUNTIF(Hierarchia_7!L10:L5000,1)","v":0},{"$f":"COUNTIF(Hierarchia_7!M10:M5000,1)","v":0}]
[2,{"$f":"COUNTIF(Hierarchia_7!B10:B5000,2)","v":0},{"$f":"COUNTIF(Hierarchia_7!C10:C5000,2)","v":0},{"$f":"COUNTIF(Hierarchia_7!D10:D5000,2)","v":0},{"$f":"COUNTIF(Hierarchia_7!E10:E5000,2)","v":0},{"$f":"COUNTIF(Hierarchia_7!F10:F5000,2)","v":0},{"$f":"COUNTIF(Hierarchia_7!G10:G5000,2)","v":0},{"$f":"COUNTIF(Hierarchia_7!H10:H5000,2)","v":0},{"$f":"COUNTIF(Hierarchia_7!I10:I5000,2)","v":0},{"$f":"COUNTIF(Hierarchia_7!J10:J5000,2)","v":0},{"$f":"COUNTIF(Hierarchia_7!K10:K5000,2)","v":0},{"$f":"COUNTIF(Hierarchia_7!L10:L5000,2)","v":0},{"$f":"COUNTIF(Hierarchia_7!M10:M5000,2)","v":0}]
[3,{"$f":"COUNTIF(Hierarchia_7!B10:B5000,3)","v":0},{"$f":"COUNTIF(Hierarchia_7!C10:C5000,3)","v":0},{"$f":"COUNTIF(Hierarchia_7!D10:D5000,3)","v":0},{"$f":"COUNTIF(Hierarchia_7!E10:E5000,3)","v":0},{"$f":"COUNTIF(Hierarchia_7!F10:F5000,3)","v":0},{"$f":"COUNTIF(Hierarchia_7!G10:G5000,3)","v":0},{"$f":"COUNTIF(Hierarchia_7!H10:H5000,3)","v":0},{"$f":"COUNTIF(Hierarchia_7!I10:I5000,3)","v":0},{"$f":"COUNTIF(Hierarchia_7!J10:J5000,3)","v":0},{"$f":"COUNTIF(Hierarchia_7!K10:K5000,3)","v":0},{"$f":"COUNTIF(Hierarchia_7!L10:L5000,3)","v":0},{"$f":"COUNTIF(Hierarchia_7!M10:M5000,3)","v":0}]
[4,{"$f":"COUNTIF(Hierarchia_7!B10:B5000,4)","v":0},{"$f":"COUNTIF(Hierarchia_7!C10:C5000,4)","v":0},{"$f":"COUNTIF(Hierarchia_7!D10:D5000,4)","v":0},{"$f":"COUNTIF(Hierarchia_7!E10:E5000,4)","v":0},{"$f":"COUNTIF(Hierarchia_7!F10:F5000,4)","v":0},{"$f":"COUNTIF(Hierarchia_7!G10:G5000,4)","v":0},{"$f":"COUNTIF(Hierarchia_7!H10:H5000,4)","v":0},{"$f":"COUNTIF(Hierarchia_7!I10:I5000,4)","v":0},{"$f":"COUNTIF(Hierarchia_7!J10:J5000,4)","v":0},{"$f":"COUNTIF(Hierarchia_7!K10:K5000,4)","v":0},{"$f":"COUNTIF(Hierarchia_7!L10:L5000,4)","v":0},{"$f":"COUNTIF(Hierarchia_7!M10:M5000,4)","v":0}]
[5,{"$f":"COUNTIF(Hierarchia_7!B10:B5000,5)","v":0},{"$f":"COUNTIF(Hierarchia_7!C10:C5000,5)","v":0},{"$f":"COUNTIF(Hierarchia_7!D10:D5000,5)","v":0},{"$f":"COUNTIF(Hierarchia_7!E10:E5000,5)","v":0},{"$f":"COUNTIF(Hierarchia_7!F10:F5000,5)","v":0},{"$f":"COUNTIF(Hierarchia_7!G10:G5000,5)","v":0},{"$f":"COUNTIF(Hierarchia_7!H10:H5000,5)","v":0},{"$f":"COUNTIF(Hierarchia_7!I10:I5000,5)","v":0},{"$f":"COUNTIF(Hierarchia_7!J10:J5000,5)","v":0},{"$f":"COUNTIF(Hierarchia_7!K10:K5000,5)","v":0},{"$f":"COUNTIF(Hierarchia_7!L10:L5000,5)","v":0},{"$f":"COUNTIF(Hierarchia_7!M10:M5000,5)","v":0}]
[6,{"$f":"Hierarchia_7!$B$4-SUM('h7'!B3:B7)","v":0},{"$f":"Hierarchia_7!$B$4-SUM('h7'!C3:C7)","v":0},{"$f":"Hierarchia_7!$B$4-SUM('h7'!D3:D7)","v":0},{"$f":"Hierarchia_7!$B$4-SUM('h7'!E3:E7)","v":0},{"$f":"Hierarchia_7!$B$4-SUM('h7'!F3:F7)","v":0},{"$f":"Hierarchia_7!$B$4-SUM('h7'!G3:G7)","v":0},{"$f":"Hierarchia_7!$B$4-SUM('h7'!H3:H7)","v":0},{"$f":"Hierarchia_7!$B$4-SUM('h7'!I3:I7)","v":0},{"$f":"Hierarchia_7!$B$4-SUM('h7'!J3:J7)","v":0},{"$f":"Hierarchia_7!$B$4-SUM('h7'!K3:K7)","v":0},{"$f":"Hierarchia_7!$B$4-SUM('h7'!L3:L7)","v":0},{"$f":"Hierarchia_7!$B$4-SUM('h7'!M3:M7)","v":0}]
[]
["Skumulowane"]
[null,{"$f":"B2","v":"p1"},{"$f":"C2","v":"p2"},"p3","p4","p5","p6","p7","p8","p9","p10","p11","p12",{"$nulls":7},"max-s_licz","s","max-s","max","max_licz"]
[1,{"$f":"B3","v":0},0,0,0,0,0,0,0,0,0,0,0,{"$nulls":7},{"$f":"COUNTIF(B12:M12,\">=\"&W12)","v":12},{"$f":"_xlfn.STDEV.P(B12:M12)","v":{"v":0,"d":"0.0"}},{"$f":"MAX(B12:M12)-V12","v":{"v":0,"d":"0.0"}},{"$f":"MAX(B18:M18)","v":0},{"$f":"COUNTIF(B18:M18,X12)","v":0}]
[2,{"$nulls":19},{"$f":"COUNTIF(B13:M13,\">=\"&W13)","v":0},{"$f":"_xlfn.STDEV.P(B13:M13)","v":{"$error":"#DIV/0!"}},{"$f":"MAX(B13:M13)-V13","v":{"$error":"#DIV/0!"}},{"$f":"MAX(B19:M19)","v":0},{"$f":"COUNTIF(B19:M19,X13)","v":0}]
[3,{"$nulls":19},0,{"$error":"#DIV/0!"},{"$error":"#DIV/0!"},0,0]
[4,{"$nulls":19},0,{"$error":"#DIV/0!"},{"$error":"#DIV/0!"},0,0]
[5,{"$nulls":19},0,{"$error":"#DIV/0!"},{"$error":"#DIV/0!"},0,0]
[6,{"$nulls":19},0,{"$error":"#DIV/0!"},{"$error":"#DIV/0!"},{"$f":"MAX(B23:M23)","v":0},{"$f":"COUNTIF(B23:M23,X17)","v":0}]
["max_1"]
["max_2"]
["max_3"]
["max_4"]
["max_5"]
["max_6"]
["p1","Nie jestem zainteresowany uczestnictwem"]
["p2","Środki finansowe (wymaga to większych pieniędzy niż mam do dyspozycji)"]
["p3","Brak opiekuna / asystenta osoby niepełnosprawnej"]
["p4","Brak osoby do towarzystwa"]
["p5","Mam obowiązki zawodowe"]
["p6","Mam obowiązki rodzinne"]
["p7","Stan zdrowia (w tym stan związany z moją niepełnosprawnością)"]
["p8","Nie mam jednorazowo aż tyle czasu wolnego"]
["p9","Brak oferty kulturalnej, sportowej, turystycznej w moim miejscu zamieszkania"]
["p10","Problemy z komunikacją, z dojazdem, z powrotem do domu, parkowaniem"]
["p11","Brak informacji o miejscu i terminie wydarzenia"]
["p12","Inne, jakie?"]

{"sheet":"Hierarchia_8","index":17,"n_rows":1009,"n_cols":23,"rows_kept":1009,"merged":[[3,3,5,9],[6,21,6,22],[7,21,7,22],[33,20,33,22]]}
[]
["Hierarchia potrzeb związanych z pracą zawodową osób z niepełnosprawnościami "]
[]
[{"$nulls":3},"Podaj liczbę wszystkich respondentów, którzy odpowiadali \nna pytanie 13 w dziale 5 kwestionariusza, łącznie z tymi osobami, które nie wskazały potrzeb"]
[]
[]
["W poniższej tabeli uzupełnij odpowiedzi respondentów"]
["1 oznacza potrzebę najważniejszą, a 5 – najmniej ważną",{"$nulls":20},"Legenda:"]
["Nr respondenta","p1","p2","p3","p4","p5","p6","p7","p8","p9","p10","p11","p12","p13","p14","p15","p16","p17","p18",null,null,"p1","Preferencyjne warunki zatrudnienia np. elastyczne formy zatrudnienia poprzez telepracę"]
[1,{"$nulls":20},"p2","Wyższe wynagrodzenie"]
[2,{"$nulls":20},"p3","Stabilność zatrudnienia"]
[3,{"$nulls":20},"p4","Doradztwo zawodowe"]
[4,{"$nulls":20},"p5","Możliwość rozwoju poprzez np. szkolenia i kursy"]
[5,{"$nulls":20},"p6","Dostosowanie stanowiska pracy do własnych potrzeb"]
[6,{"$nulls":20},"p7","Stała pomoc asystenta / opiekuna pracy w miejscu pracy"]
[7,{"$nulls":20},"p8","Obecność trenera pracy"]
[8,{"$nulls":20},"p9","Pomoc ze strony współpracowników"]
[9,{"$nulls":20},"p10","Przyjazna atmosfera w miejscu pracy"]
[10,{"$nulls":20},"p11","Zmiana miejsca zamieszkania"]
[11,{"$nulls":20},"p12","Wyrozumiałość pracodawcy dla okresowych niedyspozycji"]
[12,{"$nulls":20},"p13","Dostosowanie tempa pracy do własnych możliwości"]
[13,{"$nulls":20},"p14","Wymiar czasu pracy dostosowany do indywidualnych możliwości"]
[14,{"$nulls":20},"p15","Specjalny sprzęt komputerowy lub urządzenia wspomagające"]
[15,{"$nulls":20},"p16","Usunięcie barier architektonicznych w miejscu pracy"]
[16,{"$nulls":20},"p17","Pomoc w transporcie do pracy / z pracy"]
[17,{"$nulls":20},"p18","Inne, jakie?"]
[18]
[19]
[20,{"$nulls":20},"Kliknij aby poznać hierarchię"]
[21]
[22]
[23]
[24]
[25,{"$nulls":19},"Hierarchia  1 oznacza potrzebę najważniejszą, a 5 – najmniej ważną"]
[26]
[27,{"$nulls":19},1,{"$f":"'h8'!Z12","v":0},{"$f":"'h8'!AA12","v":0}]
[28,{"$nulls":19},2,{"$f":"'h8'!Z13","v":0},{"$f":"'h8'!AA13","v":0}]
[29,{"$nulls":19},3,{"$f":"'h8'!Z14","v":0},{"$f":"'h8'!AA14","v":0}]
[30,{"$nulls":19},4,{"$f":"'h8'!Z15","v":0},{"$f":"'h8'!AA15","v":0}]
[31,{"$nulls":19},5,{"$f":"'h8'!Z16","v":0},{"$f":"'h8'!AA16","v":0}]
[32]
[33]
[34]
[35]
[36]
[37]
[38]
[39]
[40]
[41]
[42]
[43]
[44]
[45]
[46]
[47]
[48]
[49]
[50]
[51]
[52]
[53]
[54]
[55]
[56]
[57]
[58]
[59]
[60]
[61]
[62]
[63]
[64]
[65]
[66]
[67]
[68]
[69]
[70]
[71]
[72]
[73]
[74]
[75]
[76]
[77]
[78]
[79]
[80]
[81]
[82]
[83]
[84]
[85]
[86]
[87]
[88]
[89]
[90]
[91]
[92]
[93]
[94]
[95]
[96]
[97]
[98]
[99]
[100]
[101]
[102]
[103]
[104]
[105]
[106]
[107]
[108]
[109]
[110]
[111]
[112]
[113]
[114]
[115]
[116]
[117]
[118]
[119]
[120]
[121]
[122]
[123]
[124]
[125]
[126]
[127]
[128]
[129]
[130]
[131]
[132]
[133]
[134]
[135]
[136]
[137]
[138]
[139]
[140]
[141]
[142]
[143]
[144]
[145]
[146]
[147]
[148]
[149]
[150]
[151]
[152]
[153]
[154]
[155]
[156]
[157]
[158]
[159]
[160]
[161]
[162]
[163]
[164]
[165]
[166]
[167]
[168]
[169]
[170]
[171]
[172]
[173]
[174]
[175]
[176]
[177]
[178]
[179]
[180]
[181]
[182]
[183]
[184]
[185]
[186]
[187]
[188]
[189]
[190]
[191]
[192]
[193]
[194]
[195]
[196]
[197]
[198]
[199]
[200]
[201]
[202]
[203]
[204]
[205]
[206]
[207]
[208]
[209]
[210]
[211]
[212]
[213]
[214]
[215]
[216]
[217]
[218]
[219]
[220]
[221]
[222]
[223]
[224]
[225]
[226]
[227]
[228]
[229]
[230]
[231]
[232]
[233]
[234]
[235]
[236]
[237]
[238]
[239]
[240]
[241]
[242]
[243]
[244]
[245]
[246]
[247]
[248]
[249]
[250]
[251]
[252]
[253]
[254]
[255]
[256]
[257]
[258]
[259]
[260]
[261]
[262]
[263]
[264]
[265]
[266]
[267]
[268]
[269]
[270]
[271]
[272]
[273]
[274]
[275]
[276]
[277]
[278]
[279]
[280]
[281]
[282]
[283]
[284]
[285]
[286]
[287]
[288]
[289]
[290]
[291]
[292]
[293]
[294]
[295]
[296]
[297]
[298]
[299]
[300]
[301]
[302]
[303]
[304]
[305]
[306]
[307]
[308]
[309]
[310]
[311]
[312]
[313]
[314]
[315]
[316]
[317]
[318]
[319]
[320]
[321]
[322]
[323]
[324]
[325]
[326]
[327]
[328]
[329]
[330]
[331]
[332]
[333]
[334]
[335]
[336]
[337]
[338]
[339]
[340]
[341]
[342]
[343]
[344]
[345]
[346]
[347]
[348]
[349]
[350]
[351]
[352]
[353]
[354]
[355]
[356]
[357]
[358]
[359]
[360]
[361]
[362]
[363]
[364]
[365]
[366]
[367]
[368]
[369]
[370]
[371]
[372]
[373]
[374]
[375]
[376]
[377]
[378]
[379]
[380]
[381]
[382]
[383]
[384]
[385]
[386]
[387]
[388]
[389]
[390]
[391]
[392]
[393]
[394]
[395]
[396]
[397]
[398]
[399]
[400]
[401]
[402]
[403]
[404]
[405]
[406]
[407]
[408]
[409]
[410]
[411]
[412]
[413]
[414]
[415]
[416]
[417]
[418]
[419]
[420]
[421]
[422]
[423]
[424]
[425]
[426]
[427]
[428]
[429]
[430]
[431]
[432]
[433]
[434]
[435]
[436]
[437]
[438]
[439]
[440]
[441]
[442]
[443]
[444]
[445]
[446]
[447]
[448]
[449]
[450]
[451]
[452]
[453]
[454]
[455]
[456]
[457]
[458]
[459]
[460]
[461]
[462]
[463]
[464]
[465]
[466]
[467]
[468]
[469]
[470]
[471]
[472]
[473]
[474]
[475]
[476]
[477]
[478]
[479]
[480]
[481]
[482]
[483]
[484]
[485]
[486]
[487]
[488]
[489]
[490]
[491]
[492]
[493]
[494]
[495]
[496]
[497]
[498]
[499]
[500]
[501]
[502]
[503]
[504]
[505]
[506]
[507]
[508]
[509]
[510]
[511]
[512]
[513]
[514]
[515]
[516]
[517]
[518]
[519]
[520]
[521]
[522]
[523]
[524]
[525]
[526]
[527]
[528]
[529]
[530]
[531]
[532]
[533]
[534]
[535]
[536]
[537]
[538]
[539]
[540]
[541]
[542]
[543]
[544]
[545]
[546]
[547]
[548]
[549]
[550]
[551]
[552]
[553]
[554]
[555]
[556]
[557]
[558]
[559]
[560]
[561]
[562]
[563]
[564]
[565]
[566]
[567]
[568]
[569]
[570]
[571]
[572]
[573]
[574]
[575]
[576]
[577]
[578]
[579]
[580]
[581]
[582]
[583]
[584]
[585]
[586]
[587]
[588]
[589]
[590]
[591]
[592]
[593]
[594]
[595]
[596]
[597]
[598]
[599]
[600]
[601]
[602]
[603]
[604]
[605]
[606]
[607]
[608]
[609]
[610]
[611]
[612]
[613]
[614]
[615]
[616]
[617]
[618]
[619]
[620]
[621]
[622]
[623]
[624]
[625]
[626]
[627]
[628]
[629]
[630]
[631]
[632]
[633]
[634]
[635]
[636]
[637]
[638]
[639]
[640]
[641]
[642]
[643]
[644]
[645]
[646]
[647]
[648]
[649]
[650]
[651]
[652]
[653]
[654]
[655]
[656]
[657]
[658]
[659]
[660]
[661]
[662]
[663]
[664]
[665]
[666]
[667]
[668]
[669]
[670]
[671]
[672]
[673]
[674]
[675]
[676]
[677]
[678]
[679]
[680]
[681]
[682]
[683]
[684]
[685]
[686]
[687]
[688]
[689]
[690]
[691]
[692]
[693]
[694]
[695]
[696]
[697]
[698]
[699]
[700]
[701]
[702]
[703]
[704]
[705]
[706]
[707]
[708]
[709]
[710]
[711]
[712]
[713]
[714]
[715]
[716]
[717]
[718]
[719]
[720]
[721]
[722]
[723]
[724]
[725]
[726]
[727]
[728]
[729]
[730]
[731]
[732]
[733]
[734]
[735]
[736]
[737]
[738]
[739]
[740]
[741]
[742]
[743]
[744]
[745]
[746]
[747]
[748]
[749]
[750]
[751]
[752]
[753]
[754]
[755]
[756]
[757]
[758]
[759]
[760]
[761]
[762]
[763]
[764]
[765]
[766]
[767]
[768]
[769]
[770]
[771]
[772]
[773]
[774]
[775]
[776]
[777]
[778]
[779]
[780]
[781]
[782]
[783]
[784]
[785]
[786]
[787]
[788]
[789]
[790]
[791]
[792]
[793]
[794]
[795]
[796]
[797]
[798]
[799]
[800]
[801]
[802]
[803]
[804]
[805]
[806]
[807]
[808]
[809]
[810]
[811]
[812]
[813]
[814]
[815]
[816]
[817]
[818]
[819]
[820]
[821]
[822]
[823]
[824]
[825]
[826]
[827]
[828]
[829]
[830]
[831]
[832]
[833]
[834]
[835]
[836]
[837]
[838]
[839]
[840]
[841]
[842]
[843]
[844]
[845]
[846]
[847]
[848]
[849]
[850]
[851]
[852]
[853]
[854]
[855]
[856]
[857]
[858]
[859]
[860]
[861]
[862]
[863]
[864]
[865]
[866]
[867]
[868]
[869]
[870]
[871]
[872]
[873]
[874]
[875]
[876]
[877]
[878]
[879]
[880]
[881]
[882]
[883]
[884]
[885]
[886]
[887]
[888]
[889]
[890]
[891]
[892]
[893]
[894]
[895]
[896]
[897]
[898]
[899]
[900]
[901]
[902]
[903]
[904]
[905]
[906]
[907]
[908]
[909]
[910]
[911]
[912]
[913]
[914]
[915]
[916]
[917]
[918]
[919]
[920]
[921]
[922]
[923]
[924]
[925]
[926]
[927]
[928]
[929]
[930]
[931]
[932]
[933]
[934]
[935]
[936]
[937]
[938]
[939]
[940]
[941]
[942]
[943]
[944]
[945]
[946]
[947]
[948]
[949]
[950]
[951]
[952]
[953]
[954]
[955]
[956]
[957]
[958]
[959]
[960]
[961]
[962]
[963]
[964]
[965]
[966]
[967]
[968]
[969]
[970]
[971]
[972]
[973]
[974]
[975]
[976]
[977]
[978]
[979]
[980]
[981]
[982]
[983]
[984]
[985]
[986]
[987]
[988]
[989]
[990]
[991]
[992]
[993]
[994]
[995]
[996]
[997]
[998]
[999]
[1000]

{"sheet":"h8","index":18,"n_rows":41,"n_cols":27,"rows_kept":41,"hidden":true}
[1,2,3,4,5,6,7,8,9,10,11,12,13,14,15,16,17,18,19,20,21,22,23,24,25,26,27]
[null,{"$f":"Hierarchia_8!B9","v":"p1"},{"$f":"Hierarchia_8!C9","v":"p2"},{"$f":"Hierarchia_8!D9","v":"p3"},{"$f":"Hierarchia_8!E9","v":"p4"},{"$f":"Hierarchia_8!F9","v":"p5"},{"$f":"Hierarchia_8!G9","v":"p6"},{"$f":"Hierarchia_8!H9","v":"p7"},{"$f":"Hierarchia_8!I9","v":"p8"},{"$f":"Hierarchia_8!J9","v":"p9"},{"$f":"Hierarchia_8!K9","v":"p10"},{"$f":"Hierarchia_8!L9","v":"p11"},{"$f":"Hierarchia_8!M9","v":"p12"},{"$f":"Hierarchia_8!N9","v":"p13"},{"$f":"Hierarchia_8!O9","v":"p14"},{"$f":"Hierarchia_8!P9","v":"p15"},{"$f":"Hierarchia_8!Q9","v":"p16"},{"$f":"Hierarchia_8!R9","v":"p17"},{"$f":"Hierarchia_8!S9","v":"p18"}]
[1,{"$f":"COUNTIF(Hierarchia_8!B10:B5000,1)","v":0},{"$f":"COUNTIF(Hierarchia_8!C10:C5000,1)","v":0},{"$f":"COUNTIF(Hierarchia_8!D10:D5000,1)","v":0},{"$f":"COUNTIF(Hierarchia_8!E10:E5000,1)","v":0},{"$f":"COUNTIF(Hierarchia_8!F10:F5000,1)","v":0},{"$f":"COUNTIF(Hierarchia_8!G10:G5000,1)","v":0},{"$f":"COUNTIF(Hierarchia_8!H10:H5000,1)","v":0},{"$f":"COUNTIF(Hierarchia_8!I10:I5000,1)","v":0},{"$f":"COUNTIF(Hierarchia_8!J10:J5000,1)","v":0},{"$f":"COUNTIF(Hierarchia_8!K10:K5000,1)","v":0},{"$f":"COUNTIF(Hierarchia_8!L10:L5000,1)","v":0},{"$f":"COUNTIF(Hierarchia_8!M10:M5000,1)","v":0},{"$f":"COUNTIF(Hierarchia_8!N10:N5000,1)","v":0},{"$f":"COUNTIF(Hierarchia_8!O10:O5000,1)","v":0},{"$f":"COUNTIF(Hierarchia_8!P10:P5000,1)","v":0},{"$f":"COUNTIF(Hierarchia_8!Q10:Q5000,1)","v":0},{"$f":"COUNTIF(Hierarchia_8!R10:R5000,1)","v":0},{"$f":"COUNTIF(Hierarchia_8!S10:S5000,1)","v":0}]
[2,{"$f":"COUNTIF(Hierarchia_8!B10:B5000,2)","v":0},{"$f":"COUNTIF(Hierarchia_8!C10:C5000,2)","v":0},{"$f":"COUNTIF(Hierarchia_8!D10:D5000,2)","v":0},{"$f":"COUNTIF(Hierarchia_8!E10:E5000,2)","v":0},{"$f":"COUNTIF(Hierarchia_8!F10:F5000,2)","v":0},{"$f":"COUNTIF(Hierarchia_8!G10:G5000,2)","v":0},{"$f":"COUNTIF(Hierarchia_8!H10:H5000,2)","v":0},{"$f":"COUNTIF(Hierarchia_8!I10:I5000,2)","v":0},{"$f":"COUNTIF(Hierarchia_8!J10:J5000,2)","v":0},{"$f":"COUNTIF(Hierarchia_8!K10:K5000,2)","v":0},{"$f":"COUNTIF(Hierarchia_8!L10:L5000,2)","v":0},{"$f":"COUNTIF(Hierarchia_8!M10:M5000,2)","v":0},{"$f":"COUNTIF(Hierarchia_8!N10:N5000,2)","v":0},{"$f":"COUNTIF(Hierarchia_8!O10:O5000,2)","v":0},{"$f":"COUNTIF(Hierarchia_8!P10:P5000,2)","v":0},{"$f":"COUNTIF(Hierarchia_8!Q10:Q5000,2)","v":0},{"$f":"COUNTIF(Hierarchia_8!R10:R5000,2)","v":0},{"$f":"COUNTIF(Hierarchia_8!S10:S5000,2)","v":0}]
[3,{"$f":"COUNTIF(Hierarchia_8!B10:B5000,3)","v":0},{"$f":"COUNTIF(Hierarchia_8!C10:C5000,3)","v":0},{"$f":"COUNTIF(Hierarchia_8!D10:D5000,3)","v":0},{"$f":"COUNTIF(Hierarchia_8!E10:E5000,3)","v":0},{"$f":"COUNTIF(Hierarchia_8!F10:F5000,3)","v":0},{"$f":"COUNTIF(Hierarchia_8!G10:G5000,3)","v":0},{"$f":"COUNTIF(Hierarchia_8!H10:H5000,3)","v":0},{"$f":"COUNTIF(Hierarchia_8!I10:I5000,3)","v":0},{"$f":"COUNTIF(Hierarchia_8!J10:J5000,3)","v":0},{"$f":"COUNTIF(Hierarchia_8!K10:K5000,3)","v":0},{"$f":"COUNTIF(Hierarchia_8!L10:L5000,3)","v":0},{"$f":"COUNTIF(Hierarchia_8!M10:M5000,3)","v":0},{"$f":"COUNTIF(Hierarchia_8!N10:N5000,3)","v":0},{"$f":"COUNTIF(Hierarchia_8!O10:O5000,3)","v":0},{"$f":"COUNTIF(Hierarchia_8!P10:P5000,3)","v":0},{"$f":"COUNTIF(Hierarchia_8!Q10:Q5000,3)","v":0},{"$f":"COUNTIF(Hierarchia_8!R10:R5000,3)","v":0},{"$f":"COUNTIF(Hierarchia_8!S10:S5000,3)","v":0}]
[4,{"$f":"COUNTIF(Hierarchia_8!B10:B5000,4)","v":0},{"$f":"COUNTIF(Hierarchia_8!C10:C5000,4)","v":0},{"$f":"COUNTIF(Hierarchia_8!D10:D5000,4)","v":0},{"$f":"COUNTIF(Hierarchia_8!E10:E5000,4)","v":0},{"$f":"COUNTIF(Hierarchia_8!F10:F5000,4)","v":0},{"$f":"COUNTIF(Hierarchia_8!G10:G5000,4)","v":0},{"$f":"COUNTIF(Hierarchia_8!H10:H5000,4)","v":0},{"$f":"COUNTIF(Hierarchia_8!I10:I5000,4)","v":0},{"$f":"COUNTIF(Hierarchia_8!J10:J5000,4)","v":0},{"$f":"COUNTIF(Hierarchia_8!K10:K5000,4)","v":0},{"$f":"COUNTIF(Hierarchia_8!L10:L5000,4)","v":0},{"$f":"COUNTIF(Hierarchia_8!M10:M5000,4)","v":0},{"$f":"COUNTIF(Hierarchia_8!N10:N5000,4)","v":0},{"$f":"COUNTIF(Hierarchia_8!O10:O5000,4)","v":0},{"$f":"COUNTIF(Hierarchia_8!P10:P5000,4)","v":0},{"$f":"COUNTIF(Hierarchia_8!Q10:Q5000,4)","v":0},{"$f":"COUNTIF(Hierarchia_8!R10:R5000,4)","v":0},{"$f":"COUNTIF(Hierarchia_8!S10:S5000,4)","v":0}]
[5,{"$f":"COUNTIF(Hierarchia_8!B10:B5000,5)","v":0},{"$f":"COUNTIF(Hierarchia_8!C10:C5000,5)","v":0},{"$f":"COUNTIF(Hierarchia_8!D10:D5000,5)","v":0},{"$f":"COUNTIF(Hierarchia_8!E10:E5000,5)","v":0},{"$f":"COUNTIF(Hierarchia_8!F10:F5000,5)","v":0},{"$f":"COUNTIF(Hierarchia_8!G10:G5000,5)","v":0},{"$f":"COUNTIF(Hierarchia_8!H10:H5000,5)","v":0},{"$f":"COUNTIF(Hierarchia_8!I10:I5000,5)","v":0},{"$f":"COUNTIF(Hierarchia_8!J10:J5000,5)","v":0},{"$f":"COUNTIF(Hierarchia_8!K10:K5000,5)","v":0},{"$f":"COUNTIF(Hierarchia_8!L10:L5000,5)","v":0},{"$f":"COUNTIF(Hierarchia_8!M10:M5000,5)","v":0},{"$f":"COUNTIF(Hierarchia_8!N10:N5000,5)","v":0},{"$f":"COUNTIF(Hierarchia_8!O10:O5000,5)","v":0},{"$f":"COUNTIF(Hierarchia_8!P10:P5000,5)","v":0},{"$f":"COUNTIF(Hierarchia_8!Q10:Q5000,5)","v":0},{"$f":"COUNTIF(Hierarchia_8!R10:R5000,5)","v":0},{"$f":"COUNTIF(Hierarchia_8!S10:S5000,5)","v":0}]
[6,{"$f":"Hierarchia_8!$B$4-SUM('h8'!B3:B7)","v":0},{"$f":"Hierarchia_8!$B$4-SUM('h8'!C3:C7)","v":0},{"$f":"Hierarchia_8!$B$4-SUM('h8'!D3:D7)","v":0},{"$f":"Hierarchia_8!$B$4-SUM('h8'!E3:E7)","v":0},{"$f":"Hierarchia_8!$B$4-SUM('h8'!F3:F7)","v":0},{"$f":"Hierarchia_8!$B$4-SUM('h8'!G3:G7)","v":0},{"$f":"Hierarchia_8!$B$4-SUM('h8'!H3:H7)","v":0},{"$f":"Hierarchia_8!$B$4-SUM('h8'!I3:I7)","v":0},{"$f":"Hierarchia_8!$B$4-SUM('h8'!J3:J7)","v":0},{"$f":"Hierarchia_8!$B$4-SUM('h8'!K3:K7)","v":0},{"$f":"Hierarchia_8!$B$4-SUM('h8'!L3:L7)","v":0},{"$f":"Hierarchia_8!$B$4-SUM('h8'!M3:M7)","v":0},{"$f":"Hierarchia_8!$B$4-SUM('h8'!N3:N7)","v":0},{"$f":"Hierarchia_8!$B$4-SUM('h8'!O3:O7)","v":0},{"$f":"Hierarchia_8!$B$4-SUM('h8'!P3:P7)","v":0},{"$f":"Hierarchia_8!$B$4-SUM('h8'!Q3:Q7)","v":0},{"$f":"Hierarchia_8!$B$4-SUM('h8'!R3:R7)","v":0},{"$f":"Hierarchia_8!$B$4-SUM('h8'!S3:S7)","v":0}]
[]
["Skumulowane"]
[null,{"$f":"B2","v":"p1"},{"$f":"C2","v":"p2"},"p3","p4","p5","p6","p7","p8","p9","p10","p11","p12","p13","p14","p15","p16","p17","p18",null,"max-s_licz","s","max-s","max","max_licz"]
[1,{"$f":"B3","v":0},0,0,0,0,0,0,0,0,0,0,0,0,0,0,0,0,0,null,{"$f":"COUNTIF(B12:S12,\">=\"&W12)","v":18},{"$f":"_xlfn.STDEV.P(B12:S12)","v":{"v":0,"d":"0.0"}},{"$f":"MAX(B12:S12)-V12","v":{"v":0,"d":"0.0"}},{"$f":"MAX(B18:S18)","v":0},{"$f":"COUNTIF(B18:S18,X12)","v":0}]
[2,{"$nulls":19},{"$f":"COUNTIF(B13:S13,\">=\"&W13)","v":0},{"$f":"_xlfn.STDEV.P(B13:S13)","v":{"$error":"#DIV/0!"}},{"$f":"MAX(B13:S13)-V13","v":{"$error":"#DIV/0!"}},{"$f":"MAX(B19:S19)","v":0},{"$f":"COUNTIF(B19:S19,X13)","v":0}]
[3,{"$nulls":19},0,{"$error":"#DIV/0!"},{"$error":"#DIV/0!"},0,0]
[4,{"$nulls":19},0,{"$error":"#DIV/0!"},{"$error":"#DIV/0!"},0,0]
[5,{"$nulls":19},0,{"$error":"#DIV/0!"},{"$error":"#DIV/0!"},0,0]
[6,{"$nulls":19},0,{"$error":"#DIV/0!"},{"$error":"#DIV/0!"},0,0]
["max_1"]
["max_2"]
["max_3"]
["max_4"]
["max_5"]
["max_6"]
["p1","Preferencyjne warunki zatrudnienia np. elastyczne formy zatrudnienia poprzez telepracę"]
["p2","Wyższe wynagrodzenie"]
["p3","Stabilność zatrudnienia"]
["p4","Doradztwo zawodowe"]
["p5","Możliwość rozwoju poprzez np. szkolenia i kursy"]
["p6","Dostosowanie stanowiska pracy do własnych potrzeb"]
["p7","Stała pomoc asystenta / opiekuna pracy w miejscu pracy"]
["p8","Obecność trenera pracy"]
["p9","Pomoc ze strony współpracowników"]
["p10","Przyjazna atmosfera w miejscu pracy"]
["p11","Zmiana miejsca zamieszkania"]
["p12","Wyrozumiałość pracodawcy dla okresowych niedyspozycji"]
["p13","Dostosowanie tempa pracy do własnych możliwości"]
["p14","Wymiar czasu pracy dostosowany do indywidualnych możliwości"]
["p15","Specjalny sprzęt komputerowy lub urządzenia wspomagające"]
["p16","Usunięcie barier architektonicznych w miejscu pracy"]
["p17","Pomoc w transporcie do pracy / z pracy"]
["p18","Inne, jakie?"]

{"sheet":"Hierarchia_9","index":19,"n_rows":1009,"n_cols":20,"rows_kept":1009,"merged":[[3,3,5,9],[6,18,6,19],[7,18,7,19]]}
[]
["Hierarchia potrzeb osób z niepełnosprawnościami wymagających najpilniejszego zaspokojenia"]
[]
[{"$nulls":3},"Podaj liczbę wszystkich respondentów, którzy odpowiadali \nna pytanie 4 w dziale 6 kwestionariusza, łącznie z tymi osobami, które nie wskazały potrzeb"]
[]
[]
["W poniższej tabeli uzupełnij odpowiedzi respondentów"]
["1 oznacza potrzebę najważniejszą, a 5 – najmniej ważną",{"$nulls":17},"Legenda:"]
["Nr respondenta","p1","p2","p3","p4","p5","p6","p7","p8","p9","p10","p11","p12","p13","p14","p15",null,null,"p1","Uzyskanie mieszkania"]
[1,{"$nulls":17},"p2","Poprawa warunków mieszkaniowych"]
[2,{"$nulls":17},"p3","Zakup / naprawa samochodu"]
[3,{"$nulls":17},"p4","Możliwość poruszania się poza domem"]
[4,{"$nulls":17},"p5","Zaopatrzenie w przedmioty ortopedyczne, rehabilitacyjne, środki pomocnicze"]
[5,{"$nulls":17},"p6","Zaopatrzenie w leki"]
[6,{"$nulls":17},"p7","Opieka lekarska / medyczna / rehabilitacyjna"]
[7,{"$nulls":17},"p8","Pomoc w czynnościach codziennych"]
[8,{"$nulls":17},"p9","Dostęp do asystenta osoby niepełnosprawnej / opiekuna"]
[9,{"$nulls":17},"p10","Podwyższenie wykształcenia, kwalifikacji zawodowych"]
[10,{"$nulls":17},"p11","Uzyskanie / zmiana pracy"]
[11,{"$nulls":17},"p12","Możliwość realizacji własnych zainteresowań"]
[12,{"$nulls":17},"p13","Uzyskanie pomocy finansowej"]
[13,{"$nulls":17},"p14","Uzyskanie pomocy rzeczowej"]
[14,{"$nulls":17},"p15","Inne, jakie?"]
[15]
[16]
[17,{"$nulls":17},"Kliknij aby poznać hierarchię"]
[18]
[19]
[20]
[21]
[22,{"$nulls":16},"Hierarchia  1 oznacza potrzebę najważniejszą, a 5 – najmniej ważną"]
[23]
[24,{"$nulls":16},1,{"$f":"'h9'!Z12","v":0},{"$f":"'h9'!AA12","v":0}]
[25,{"$nulls":16},2,{"$f":"'h9'!Z13","v":0},{"$f":"'h9'!AA13","v":0}]
[26,{"$nulls":16},3,{"$f":"'h9'!Z14","v":0},{"$f":"'h9'!AA14","v":0}]
[27,{"$nulls":16},4,{"$f":"'h9'!Z15","v":0},{"$f":"'h9'!AA15","v":0}]
[28,{"$nulls":16},5,{"$f":"'h9'!Z16","v":0},{"$f":"'h9'!AA16","v":0}]
[29]
[30]
[31]
[32]
[33]
[34]
[35]
[36]
[37]
[38]
[39]
[40]
[41]
[42]
[43]
[44]
[45]
[46]
[47]
[48]
[49]
[50]
[51]
[52]
[53]
[54]
[55]
[56]
[57]
[58]
[59]
[60]
[61]
[62]
[63]
[64]
[65]
[66]
[67]
[68]
[69]
[70]
[71]
[72]
[73]
[74]
[75]
[76]
[77]
[78]
[79]
[80]
[81]
[82]
[83]
[84]
[85]
[86]
[87]
[88]
[89]
[90]
[91]
[92]
[93]
[94]
[95]
[96]
[97]
[98]
[99]
[100]
[101]
[102]
[103]
[104]
[105]
[106]
[107]
[108]
[109]
[110]
[111]
[112]
[113]
[114]
[115]
[116]
[117]
[118]
[119]
[120]
[121]
[122]
[123]
[124]
[125]
[126]
[127]
[128]
[129]
[130]
[131]
[132]
[133]
[134]
[135]
[136]
[137]
[138]
[139]
[140]
[141]
[142]
[143]
[144]
[145]
[146]
[147]
[148]
[149]
[150]
[151]
[152]
[153]
[154]
[155]
[156]
[157]
[158]
[159]
[160]
[161]
[162]
[163]
[164]
[165]
[166]
[167]
[168]
[169]
[170]
[171]
[172]
[173]
[174]
[175]
[176]
[177]
[178]
[179]
[180]
[181]
[182]
[183]
[184]
[185]
[186]
[187]
[188]
[189]
[190]
[191]
[192]
[193]
[194]
[195]
[196]
[197]
[198]
[199]
[200]
[201]
[202]
[203]
[204]
[205]
[206]
[207]
[208]
[209]
[210]
[211]
[212]
[213]
[214]
[215]
[216]
[217]
[218]
[219]
[220]
[221]
[222]
[223]
[224]
[225]
[226]
[227]
[228]
[229]
[230]
[231]
[232]
[233]
[234]
[235]
[236]
[237]
[238]
[239]
[240]
[241]
[242]
[243]
[244]
[245]
[246]
[247]
[248]
[249]
[250]
[251]
[252]
[253]
[254]
[255]
[256]
[257]
[258]
[259]
[260]
[261]
[262]
[263]
[264]
[265]
[266]
[267]
[268]
[269]
[270]
[271]
[272]
[273]
[274]
[275]
[276]
[277]
[278]
[279]
[280]
[281]
[282]
[283]
[284]
[285]
[286]
[287]
[288]
[289]
[290]
[291]
[292]
[293]
[294]
[295]
[296]
[297]
[298]
[299]
[300]
[301]
[302]
[303]
[304]
[305]
[306]
[307]
[308]
[309]
[310]
[311]
[312]
[313]
[314]
[315]
[316]
[317]
[318]
[319]
[320]
[321]
[322]
[323]
[324]
[325]
[326]
[327]
[328]
[329]
[330]
[331]
[332]
[333]
[334]
[335]
[336]
[337]
[338]
[339]
[340]
[341]
[342]
[343]
[344]
[345]
[346]
[347]
[348]
[349]
[350]
[351]
[352]
[353]
[354]
[355]
[356]
[357]
[358]
[359]
[360]
[361]
[362]
[363]
[364]
[365]
[366]
[367]
[368]
[369]
[370]
[371]
[372]
[373]
[374]
[375]
[376]
[377]
[378]
[379]
[380]
[381]
[382]
[383]
[384]
[385]
[386]
[387]
[388]
[389]
[390]
[391]
[392]
[393]
[394]
[395]
[396]
[397]
[398]
[399]
[400]
[401]
[402]
[403]
[404]
[405]
[406]
[407]
[408]
[409]
[410]
[411]
[412]
[413]
[414]
[415]
[416]
[417]
[418]
[419]
[420]
[421]
[422]
[423]
[424]
[425]
[426]
[427]
[428]
[429]
[430]
[431]
[432]
[433]
[434]
[435]
[436]
[437]
[438]
[439]
[440]
[441]
[442]
[443]
[444]
[445]
[446]
[447]
[448]
[449]
[450]
[451]
[452]
[453]
[454]
[455]
[456]
[457]
[458]
[459]
[460]
[461]
[462]
[463]
[464]
[465]
[466]
[467]
[468]
[469]
[470]
[471]
[472]
[473]
[474]
[475]
[476]
[477]
[478]
[479]
[480]
[481]
[482]
[483]
[484]
[485]
[486]
[487]
[488]
[489]
[490]
[491]
[492]
[493]
[494]
[495]
[496]
[497]
[498]
[499]
[500]
[501]
[502]
[503]
[504]
[505]
[506]
[507]
[508]
[509]
[510]
[511]
[512]
[513]
[514]
[515]
[516]
[517]
[518]
[519]
[520]
[521]
[522]
[523]
[524]
[525]
[526]
[527]
[528]
[529]
[530]
[531]
[532]
[533]
[534]
[535]
[536]
[537]
[538]
[539]
[540]
[541]
[542]
[543]
[544]
[545]
[546]
[547]
[548]
[549]
[550]
[551]
[552]
[553]
[554]
[555]
[556]
[557]
[558]
[559]
[560]
[561]
[562]
[563]
[564]
[565]
[566]
[567]
[568]
[569]
[570]
[571]
[572]
[573]
[574]
[575]
[576]
[577]
[578]
[579]
[580]
[581]
[582]
[583]
[584]
[585]
[586]
[587]
[588]
[589]
[590]
[591]
[592]
[593]
[594]
[595]
[596]
[597]
[598]
[599]
[600]
[601]
[602]
[603]
[604]
[605]
[606]
[607]
[608]
[609]
[610]
[611]
[612]
[613]
[614]
[615]
[616]
[617]
[618]
[619]
[620]
[621]
[622]
[623]
[624]
[625]
[626]
[627]
[628]
[629]
[630]
[631]
[632]
[633]
[634]
[635]
[636]
[637]
[638]
[639]
[640]
[641]
[642]
[643]
[644]
[645]
[646]
[647]
[648]
[649]
[650]
[651]
[652]
[653]
[654]
[655]
[656]
[657]
[658]
[659]
[660]
[661]
[662]
[663]
[664]
[665]
[666]
[667]
[668]
[669]
[670]
[671]
[672]
[673]
[674]
[675]
[676]
[677]
[678]
[679]
[680]
[681]
[682]
[683]
[684]
[685]
[686]
[687]
[688]
[689]
[690]
[691]
[692]
[693]
[694]
[695]
[696]
[697]
[698]
[699]
[700]
[701]
[702]
[703]
[704]
[705]
[706]
[707]
[708]
[709]
[710]
[711]
[712]
[713]
[714]
[715]
[716]
[717]
[718]
[719]
[720]
[721]
[722]
[723]
[724]
[725]
[726]
[727]
[728]
[729]
[730]
[731]
[732]
[733]
[734]
[735]
[736]
[737]
[738]
[739]
[740]
[741]
[742]
[743]
[744]
[745]
[746]
[747]
[748]
[749]
[750]
[751]
[752]
[753]
[754]
[755]
[756]
[757]
[758]
[759]
[760]
[761]
[762]
[763]
[764]
[765]
[766]
[767]
[768]
[769]
[770]
[771]
[772]
[773]
[774]
[775]
[776]
[777]
[778]
[779]
[780]
[781]
[782]
[783]
[784]
[785]
[786]
[787]
[788]
[789]
[790]
[791]
[792]
[793]
[794]
[795]
[796]
[797]
[798]
[799]
[800]
[801]
[802]
[803]
[804]
[805]
[806]
[807]
[808]
[809]
[810]
[811]
[812]
[813]
[814]
[815]
[816]
[817]
[818]
[819]
[820]
[821]
[822]
[823]
[824]
[825]
[826]
[827]
[828]
[829]
[830]
[831]
[832]
[833]
[834]
[835]
[836]
[837]
[838]
[839]
[840]
[841]
[842]
[843]
[844]
[845]
[846]
[847]
[848]
[849]
[850]
[851]
[852]
[853]
[854]
[855]
[856]
[857]
[858]
[859]
[860]
[861]
[862]
[863]
[864]
[865]
[866]
[867]
[868]
[869]
[870]
[871]
[872]
[873]
[874]
[875]
[876]
[877]
[878]
[879]
[880]
[881]
[882]
[883]
[884]
[885]
[886]
[887]
[888]
[889]
[890]
[891]
[892]
[893]
[894]
[895]
[896]
[897]
[898]
[899]
[900]
[901]
[902]
[903]
[904]
[905]
[906]
[907]
[908]
[909]
[910]
[911]
[912]
[913]
[914]
[915]
[916]
[917]
[918]
[919]
[920]
[921]
[922]
[923]
[924]
[925]
[926]
[927]
[928]
[929]
[930]
[931]
[932]
[933]
[934]
[935]
[936]
[937]
[938]
[939]
[940]
[941]
[942]
[943]
[944]
[945]
[946]
[947]
[948]
[949]
[950]
[951]
[952]
[953]
[954]
[955]
[956]
[957]
[958]
[959]
[960]
[961]
[962]
[963]
[964]
[965]
[966]
[967]
[968]
[969]
[970]
[971]
[972]
[973]
[974]
[975]
[976]
[977]
[978]
[979]
[980]
[981]
[982]
[983]
[984]
[985]
[986]
[987]
[988]
[989]
[990]
[991]
[992]
[993]
[994]
[995]
[996]
[997]
[998]
[999]
[1000]

{"sheet":"h9","index":20,"n_rows":38,"n_cols":27,"rows_kept":38,"hidden":true}
[1,2,3,4,5,6,7,8,9,10,11,12,13,14,15,16,17,18,19,20,21,22,23,24,25,26,27]
[null,{"$f":"Hierarchia_9!B9","v":"p1"},{"$f":"Hierarchia_9!C9","v":"p2"},{"$f":"Hierarchia_9!D9","v":"p3"},{"$f":"Hierarchia_9!E9","v":"p4"},{"$f":"Hierarchia_9!F9","v":"p5"},{"$f":"Hierarchia_9!G9","v":"p6"},{"$f":"Hierarchia_9!H9","v":"p7"},{"$f":"Hierarchia_9!I9","v":"p8"},{"$f":"Hierarchia_9!J9","v":"p9"},{"$f":"Hierarchia_9!K9","v":"p10"},{"$f":"Hierarchia_9!L9","v":"p11"},{"$f":"Hierarchia_9!M9","v":"p12"},{"$f":"Hierarchia_9!N9","v":"p13"},{"$f":"Hierarchia_9!O9","v":"p14"},{"$f":"Hierarchia_9!P9","v":"p15"}]
[1,{"$f":"COUNTIF(Hierarchia_9!B10:B5000,1)","v":0},{"$f":"COUNTIF(Hierarchia_9!C10:C5000,1)","v":0},{"$f":"COUNTIF(Hierarchia_9!D10:D5000,1)","v":0},{"$f":"COUNTIF(Hierarchia_9!E10:E5000,1)","v":0},{"$f":"COUNTIF(Hierarchia_9!F10:F5000,1)","v":0},{"$f":"COUNTIF(Hierarchia_9!G10:G5000,1)","v":0},{"$f":"COUNTIF(Hierarchia_9!H10:H5000,1)","v":0},{"$f":"COUNTIF(Hierarchia_9!I10:I5000,1)","v":0},{"$f":"COUNTIF(Hierarchia_9!J10:J5000,1)","v":0},{"$f":"COUNTIF(Hierarchia_9!K10:K5000,1)","v":0},{"$f":"COUNTIF(Hierarchia_9!L10:L5000,1)","v":0},{"$f":"COUNTIF(Hierarchia_9!M10:M5000,1)","v":0},{"$f":"COUNTIF(Hierarchia_9!N10:N5000,1)","v":0},{"$f":"COUNTIF(Hierarchia_9!O10:O5000,1)","v":0},{"$f":"COUNTIF(Hierarchia_9!P10:P5000,1)","v":0}]
[2,{"$f":"COUNTIF(Hierarchia_9!B10:B5000,2)","v":0},{"$f":"COUNTIF(Hierarchia_9!C10:C5000,2)","v":0},{"$f":"COUNTIF(Hierarchia_9!D10:D5000,2)","v":0},{"$f":"COUNTIF(Hierarchia_9!E10:E5000,2)","v":0},{"$f":"COUNTIF(Hierarchia_9!F10:F5000,2)","v":0},{"$f":"COUNTIF(Hierarchia_9!G10:G5000,2)","v":0},{"$f":"COUNTIF(Hierarchia_9!H10:H5000,2)","v":0},{"$f":"COUNTIF(Hierarchia_9!I10:I5000,2)","v":0},{"$f":"COUNTIF(Hierarchia_9!J10:J5000,2)","v":0},{"$f":"COUNTIF(Hierarchia_9!K10:K5000,2)","v":0},{"$f":"COUNTIF(Hierarchia_9!L10:L5000,2)","v":0},{"$f":"COUNTIF(Hierarchia_9!M10:M5000,2)","v":0},{"$f":"COUNTIF(Hierarchia_9!N10:N5000,2)","v":0},{"$f":"COUNTIF(Hierarchia_9!O10:O5000,2)","v":0},{"$f":"COUNTIF(Hierarchia_9!P10:P5000,2)","v":0}]
[3,{"$f":"COUNTIF(Hierarchia_9!B10:B5000,3)","v":0},{"$f":"COUNTIF(Hierarchia_9!C10:C5000,3)","v":0},{"$f":"COUNTIF(Hierarchia_9!D10:D5000,3)","v":0},{"$f":"COUNTIF(Hierarchia_9!E10:E5000,3)","v":0},{"$f":"COUNTIF(Hierarchia_9!F10:F5000,3)","v":0},{"$f":"COUNTIF(Hierarchia_9!G10:G5000,3)","v":0},{"$f":"COUNTIF(Hierarchia_9!H10:H5000,3)","v":0},{"$f":"COUNTIF(Hierarchia_9!I10:I5000,3)","v":0},{"$f":"COUNTIF(Hierarchia_9!J10:J5000,3)","v":0},{"$f":"COUNTIF(Hierarchia_9!K10:K5000,3)","v":0},{"$f":"COUNTIF(Hierarchia_9!L10:L5000,3)","v":0},{"$f":"COUNTIF(Hierarchia_9!M10:M5000,3)","v":0},{"$f":"COUNTIF(Hierarchia_9!N10:N5000,3)","v":0},{"$f":"COUNTIF(Hierarchia_9!O10:O5000,3)","v":0},{"$f":"COUNTIF(Hierarchia_9!P10:P5000,3)","v":0}]
[4,{"$f":"COUNTIF(Hierarchia_9!B10:B5000,4)","v":0},{"$f":"COUNTIF(Hierarchia_9!C10:C5000,4)","v":0},{"$f":"COUNTIF(Hierarchia_9!D10:D5000,4)","v":0},{"$f":"COUNTIF(Hierarchia_9!E10:E5000,4)","v":0},{"$f":"COUNTIF(Hierarchia_9!F10:F5000,4)","v":0},{"$f":"COUNTIF(Hierarchia_9!G10:G5000,4)","v":0},{"$f":"COUNTIF(Hierarchia_9!H10:H5000,4)","v":0},{"$f":"COUNTIF(Hierarchia_9!I10:I5000,4)","v":0},{"$f":"COUNTIF(Hierarchia_9!J10:J5000,4)","v":0},{"$f":"COUNTIF(Hierarchia_9!K10:K5000,4)","v":0},{"$f":"COUNTIF(Hierarchia_9!L10:L5000,4)","v":0},{"$f":"COUNTIF(Hierarchia_9!M10:M5000,4)","v":0},{"$f":"COUNTIF(Hierarchia_9!N10:N5000,4)","v":0},{"$f":"COUNTIF(Hierarchia_9!O10:O5000,4)","v":0},{"$f":"COUNTIF(Hierarchia_9!P10:P5000,4)","v":0}]
[5,{"$f":"COUNTIF(Hierarchia_9!B10:B5000,5)","v":0},{"$f":"COUNTIF(Hierarchia_9!C10:C5000,5)","v":0},{"$f":"COUNTIF(Hierarchia_9!D10:D5000,5)","v":0},{"$f":"COUNTIF(Hierarchia_9!E10:E5000,5)","v":0},{"$f":"COUNTIF(Hierarchia_9!F10:F5000,5)","v":0},{"$f":"COUNTIF(Hierarchia_9!G10:G5000,5)","v":0},{"$f":"COUNTIF(Hierarchia_9!H10:H5000,5)","v":0},{"$f":"COUNTIF(Hierarchia_9!I10:I5000,5)","v":0},{"$f":"COUNTIF(Hierarchia_9!J10:J5000,5)","v":0},{"$f":"COUNTIF(Hierarchia_9!K10:K5000,5)","v":0},{"$f":"COUNTIF(Hierarchia_9!L10:L5000,5)","v":0},{"$f":"COUNTIF(Hierarchia_9!M10:M5000,5)","v":0},{"$f":"COUNTIF(Hierarchia_9!N10:N5000,5)","v":0},{"$f":"COUNTIF(Hierarchia_9!O10:O5000,5)","v":0},{"$f":"COUNTIF(Hierarchia_9!P10:P5000,5)","v":0}]
[6,{"$f":"Hierarchia_9!$B$4-SUM('h9'!B3:B7)","v":0},{"$f":"Hierarchia_9!$B$4-SUM('h9'!C3:C7)","v":0},{"$f":"Hierarchia_9!$B$4-SUM('h9'!D3:D7)","v":0},{"$f":"Hierarchia_9!$B$4-SUM('h9'!E3:E7)","v":0},{"$f":"Hierarchia_9!$B$4-SUM('h9'!F3:F7)","v":0},{"$f":"Hierarchia_9!$B$4-SUM('h9'!G3:G7)","v":0},{"$f":"Hierarchia_9!$B$4-SUM('h9'!H3:H7)","v":0},{"$f":"Hierarchia_9!$B$4-SUM('h9'!I3:I7)","v":0},{"$f":"Hierarchia_9!$B$4-SUM('h9'!J3:J7)","v":0},{"$f":"Hierarchia_9!$B$4-SUM('h9'!K3:K7)","v":0},{"$f":"Hierarchia_9!$B$4-SUM('h9'!L3:L7)","v":0},{"$f":"Hierarchia_9!$B$4-SUM('h9'!M3:M7)","v":0},{"$f":"Hierarchia_9!$B$4-SUM('h9'!N3:N7)","v":0},{"$f":"Hierarchia_9!$B$4-SUM('h9'!O3:O7)","v":0},{"$f":"Hierarchia_9!$B$4-SUM('h9'!P3:P7)","v":0}]
[]
["Skumulowane"]
[null,{"$f":"B2","v":"p1"},{"$f":"C2","v":"p2"},"p3","p4","p5","p6","p7","p8","p9","p10","p11","p12","p13","p14","p15",{"$nulls":4},"max-s_licz","s","max-s","max","max_licz"]
[1,{"$f":"B3","v":0},0,0,0,0,0,0,0,0,0,0,0,0,0,0,{"$nulls":4},{"$f":"COUNTIF(B12:P12,\">=\"&W12)","v":15},{"$f":"_xlfn.STDEV.P(B12:P12)","v":{"v":0,"d":"0.0"}},{"$f":"MAX(B12:P12)-V12","v":{"v":0,"d":"0.0"}},{"$f":"MAX(B18:P18)","v":0},{"$f":"COUNTIF(B18:P18,X12)","v":0}]
[2,{"$nulls":19},{"$f":"COUNTIF(B13:P13,\">=\"&W13)","v":0},{"$f":"_xlfn.STDEV.P(B13:P13)","v":{"$error":"#DIV/0!"}},{"$f":"MAX(B13:P13)-V13","v":{"$error":"#DIV/0!"}},{"$f":"MAX(B19:P19)","v":0},{"$f":"COUNTIF(B19:P19,X13)","v":0}]
[3,{"$nulls":19},0,{"$error":"#DIV/0!"},{"$error":"#DIV/0!"},0,0]
[4,{"$nulls":19},0,{"$error":"#DIV/0!"},{"$error":"#DIV/0!"},0,0]
[5,{"$nulls":19},0,{"$error":"#DIV/0!"},{"$error":"#DIV/0!"},0,0]
[6,{"$nulls":19},0,{"$error":"#DIV/0!"},{"$error":"#DIV/0!"},{"$f":"MAX(B23:P23)","v":0},{"$f":"COUNTIF(B23:P23,X17)","v":0}]
["max_1"]
["max_2"]
["max_3"]
["max_4"]
["max_5"]
["max_6"]
["p1","Uzyskanie mieszkania"]
["p2","Poprawa warunków mieszkaniowych"]
["p3","Zakup / naprawa samochodu"]
["p4","Możliwość poruszania się poza domem"]
["p5","Zaopatrzenie w przedmioty ortopedyczne, rehabilitacyjne, środki pomocnicze"]
["p6","Zaopatrzenie w leki"]
["p7","Opieka lekarska / medyczna / rehabilitacyjna"]
["p8","Pomoc w czynnościach codziennych"]
["p9","Dostęp do asystenta osoby niepełnosprawnej / opiekuna"]
["p10","Podwyższenie wykształcenia, kwalifikacji zawodowych"]
["p11","Uzyskanie / zmiana pracy"]
["p12","Możliwość realizacji własnych zainteresowań"]
["p13","Uzyskanie pomocy finansowej"]
["p14","Uzyskanie pomocy rzeczowej"]
["p15","Inne, jakie?"]

{"sheet":"Hierarchia_10","index":21,"n_rows":1009,"n_cols":20,"rows_kept":1009,"merged":[[3,3,5,9],[6,18,6,19],[7,18,7,19]]}
[]
["Hierarchia potrzeb których zaspokojenie sprawia największe trudności osobom z niepełnosprawnościami"]
[]
[{"$nulls":3},"Podaj liczbę wszystkich respondentów, którzy odpowiadali \nna pytanie 5 w dziale 6 kwestionariusza, łącznie z tymi osobami, które nie wskazały potrzeb"]
[]
[]
["W poniższej tabeli uzupełnij odpowiedzi respondentów"]
["1 oznacza potrzebę najważniejszą, a 5 – najmniej ważną",{"$nulls":17},"Legenda:"]
["Nr respondenta","p1","p2","p3","p4","p5","p6","p7","p8","p9","p10","p11","p12","p13","p14","p15",null,null,"p1","Uzyskanie mieszkania"]
[1,{"$nulls":17},"p2","Poprawa warunków mieszkaniowych"]
[2,{"$nulls":17},"p3","Zakup / naprawa samochodu"]
[3,{"$nulls":17},"p4","Możliwość poruszania się poza domem"]
[4,{"$nulls":17},"p5","Zaopatrzenie w przedmioty ortopedyczne, rehabilitacyjne, środki pomocnicze"]
[5,{"$nulls":17},"p6","Zaopatrzenie w leki"]
[6,{"$nulls":17},"p7","Opieka lekarska / medyczna / rehabilitacyjna"]
[7,{"$nulls":17},"p8","Pomoc w czynnościach codziennych"]
[8,{"$nulls":17},"p9","Dostęp do asystenta osoby niepełnosprawnej / opiekuna"]
[9,{"$nulls":17},"p10","Podwyższenie wykształcenia, kwalifikacji zawodowych"]
[10,{"$nulls":17},"p11","Uzyskanie / zmiana pracy"]
[11,{"$nulls":17},"p12","Możliwość realizacji własnych zainteresowań"]
[12,{"$nulls":17},"p13","Uzyskanie pomocy finansowej"]
[13,{"$nulls":17},"p14","Uzyskanie pomocy rzeczowej"]
[14,{"$nulls":17},"p15","Inne, jakie?"]
[15]
[16]
[17,{"$nulls":17},"Kliknij aby poznać hierarchię"]
[18]
[19]
[20]
[21]
[22,{"$nulls":16},"Hierarchia  1 oznacza potrzebę najważniejszą, a 5 – najmniej ważną"]
[23]
[24,{"$nulls":16},1,{"$f":"'h10'!Z12","v":0},{"$f":"'h10'!AA12","v":0}]
[25,{"$nulls":16},2,{"$f":"'h10'!Z13","v":0},{"$f":"'h10'!AA13","v":0}]
[26,{"$nulls":16},3,{"$f":"'h10'!Z14","v":0},{"$f":"'h10'!AA14","v":0}]
[27,{"$nulls":16},4,{"$f":"'h10'!Z15","v":0},{"$f":"'h10'!AA15","v":0}]
[28,{"$nulls":16},5,{"$f":"'h10'!Z16","v":0},{"$f":"'h10'!AA16","v":0}]
[29]
[30]
[31]
[32]
[33]
[34]
[35]
[36]
[37]
[38]
[39]
[40]
[41]
[42]
[43]
[44]
[45]
[46]
[47]
[48]
[49]
[50]
[51]
[52]
[53]
[54]
[55]
[56]
[57]
[58]
[59]
[60]
[61]
[62]
[63]
[64]
[65]
[66]
[67]
[68]
[69]
[70]
[71]
[72]
[73]
[74]
[75]
[76]
[77]
[78]
[79]
[80]
[81]
[82]
[83]
[84]
[85]
[86]
[87]
[88]
[89]
[90]
[91]
[92]
[93]
[94]
[95]
[96]
[97]
[98]
[99]
[100]
[101]
[102]
[103]
[104]
[105]
[106]
[107]
[108]
[109]
[110]
[111]
[112]
[113]
[114]
[115]
[116]
[117]
[118]
[119]
[120]
[121]
[122]
[123]
[124]
[125]
[126]
[127]
[128]
[129]
[130]
[131]
[132]
[133]
[134]
[135]
[136]
[137]
[138]
[139]
[140]
[141]
[142]
[143]
[144]
[145]
[146]
[147]
[148]
[149]
[150]
[151]
[152]
[153]
[154]
[155]
[156]
[157]
[158]
[159]
[160]
[161]
[162]
[163]
[164]
[165]
[166]
[167]
[168]
[169]
[170]
[171]
[172]
[173]
[174]
[175]
[176]
[177]
[178]
[179]
[180]
[181]
[182]
[183]
[184]
[185]
[186]
[187]
[188]
[189]
[190]
[191]
[192]
[193]
[194]
[195]
[196]
[197]
[198]
[199]
[200]
[201]
[202]
[203]
[204]
[205]
[206]
[207]
[208]
[209]
[210]
[211]
[212]
[213]
[214]
[215]
[216]
[217]
[218]
[219]
[220]
[221]
[222]
[223]
[224]
[225]
[226]
[227]
[228]
[229]
[230]
[231]
[232]
[233]
[234]
[235]
[236]
[237]
[238]
[239]
[240]
[241]
[242]
[243]
[244]
[245]
[246]
[247]
[248]
[249]
[250]
[251]
[252]
[253]
[254]
[255]
[256]
[257]
[258]
[259]
[260]
[261]
[262]
[263]
[264]
[265]
[266]
[267]
[268]
[269]
[270]
[271]
[272]
[273]
[274]
[275]
[276]
[277]
[278]
[279]
[280]
[281]
[282]
[283]
[284]
[285]
[286]
[287]
[288]
[289]
[290]
[291]
[292]
[293]
[294]
[295]
[296]
[297]
[298]
[299]
[300]
[301]
[302]
[303]
[304]
[305]
[306]
[307]
[308]
[309]
[310]
[311]
[312]
[313]
[314]
[315]
[316]
[317]
[318]
[319]
[320]
[321]
[322]
[323]
[324]
[325]
[326]
[327]
[328]
[329]
[330]
[331]
[332]
[333]
[334]
[335]
[336]
[337]
[338]
[339]
[340]
[341]
[342]
[343]
[344]
[345]
[346]
[347]
[348]
[349]
[350]
[351]
[352]
[353]
[354]
[355]
[356]
[357]
[358]
[359]
[360]
[361]
[362]
[363]
[364]
[365]
[366]
[367]
[368]
[369]
[370]
[371]
[372]
[373]
[374]
[375]
[376]
[377]
[378]
[379]
[380]
[381]
[382]
[383]
[384]
[385]
[386]
[387]
[388]
[389]
[390]
[391]
[392]
[393]
[394]
[395]
[396]
[397]
[398]
[399]
[400]
[401]
[402]
[403]
[404]
[405]
[406]
[407]
[408]
[409]
[410]
[411]
[412]
[413]
[414]
[415]
[416]
[417]
[418]
[419]
[420]
[421]
[422]
[423]
[424]
[425]
[426]
[427]
[428]
[429]
[430]
[431]
[432]
[433]
[434]
[435]
[436]
[437]
[438]
[439]
[440]
[441]
[442]
[443]
[444]
[445]
[446]
[447]
[448]
[449]
[450]
[451]
[452]
[453]
[454]
[455]
[456]
[457]
[458]
[459]
[460]
[461]
[462]
[463]
[464]
[465]
[466]
[467]
[468]
[469]
[470]
[471]
[472]
[473]
[474]
[475]
[476]
[477]
[478]
[479]
[480]
[481]
[482]
[483]
[484]
[485]
[486]
[487]
[488]
[489]
[490]
[491]
[492]
[493]
[494]
[495]
[496]
[497]
[498]
[499]
[500]
[501]
[502]
[503]
[504]
[505]
[506]
[507]
[508]
[509]
[510]
[511]
[512]
[513]
[514]
[515]
[516]
[517]
[518]
[519]
[520]
[521]
[522]
[523]
[524]
[525]
[526]
[527]
[528]
[529]
[530]
[531]
[532]
[533]
[534]
[535]
[536]
[537]
[538]
[539]
[540]
[541]
[542]
[543]
[544]
[545]
[546]
[547]
[548]
[549]
[550]
[551]
[552]
[553]
[554]
[555]
[556]
[557]
[558]
[559]
[560]
[561]
[562]
[563]
[564]
[565]
[566]
[567]
[568]
[569]
[570]
[571]
[572]
[573]
[574]
[575]
[576]
[577]
[578]
[579]
[580]
[581]
[582]
[583]
[584]
[585]
[586]
[587]
[588]
[589]
[590]
[591]
[592]
[593]
[594]
[595]
[596]
[597]
[598]
[599]
[600]
[601]
[602]
[603]
[604]
[605]
[606]
[607]
[608]
[609]
[610]
[611]
[612]
[613]
[614]
[615]
[616]
[617]
[618]
[619]
[620]
[621]
[622]
[623]
[624]
[625]
[626]
[627]
[628]
[629]
[630]
[631]
[632]
[633]
[634]
[635]
[636]
[637]
[638]
[639]
[640]
[641]
[642]
[643]
[644]
[645]
[646]
[647]
[648]
[649]
[650]
[651]
[652]
[653]
[654]
[655]
[656]
[657]
[658]
[659]
[660]
[661]
[662]
[663]
[664]
[665]
[666]
[667]
[668]
[669]
[670]
[671]
[672]
[673]
[674]
[675]
[676]
[677]
[678]
[679]
[680]
[681]
[682]
[683]
[684]
[685]
[686]
[687]
[688]
[689]
[690]
[691]
[692]
[693]
[694]
[695]
[696]
[697]
[698]
[699]
[700]
[701]
[702]
[703]
[704]
[705]
[706]
[707]
[708]
[709]
[710]
[711]
[712]
[713]
[714]
[715]
[716]
[717]
[718]
[719]
[720]
[721]
[722]
[723]
[724]
[725]
[726]
[727]
[728]
[729]
[730]
[731]
[732]
[733]
[734]
[735]
[736]
[737]
[738]
[739]
[740]
[741]
[742]
[743]
[744]
[745]
[746]
[747]
[748]
[749]
[750]
[751]
[752]
[753]
[754]
[755]
[756]
[757]
[758]
[759]
[760]
[761]
[762]
[763]
[764]
[765]
[766]
[767]
[768]
[769]
[770]
[771]
[772]
[773]
[774]
[775]
[776]
[777]
[778]
[779]
[780]
[781]
[782]
[783]
[784]
[785]
[786]
[787]
[788]
[789]
[790]
[791]
[792]
[793]
[794]
[795]
[796]
[797]
[798]
[799]
[800]
[801]
[802]
[803]
[804]
[805]
[806]
[807]
[808]
[809]
[810]
[811]
[812]
[813]
[814]
[815]
[816]
[817]
[818]
[819]
[820]
[821]
[822]
[823]
[824]
[825]
[826]
[827]
[828]
[829]
[830]
[831]
[832]
[833]
[834]
[835]
[836]
[837]
[838]
[839]
[840]
[841]
[842]
[843]
[844]
[845]
[846]
[847]
[848]
[849]
[850]
[851]
[852]
[853]
[854]
[855]
[856]
[857]
[858]
[859]
[860]
[861]
[862]
[863]
[864]
[865]
[866]
[867]
[868]
[869]
[870]
[871]
[872]
[873]
[874]
[875]
[876]
[877]
[878]
[879]
[880]
[881]
[882]
[883]
[884]
[885]
[886]
[887]
[888]
[889]
[890]
[891]
[892]
[893]
[894]
[895]
[896]
[897]
[898]
[899]
[900]
[901]
[902]
[903]
[904]
[905]
[906]
[907]
[908]
[909]
[910]
[911]
[912]
[913]
[914]
[915]
[916]
[917]
[918]
[919]
[920]
[921]
[922]
[923]
[924]
[925]
[926]
[927]
[928]
[929]
[930]
[931]
[932]
[933]
[934]
[935]
[936]
[937]
[938]
[939]
[940]
[941]
[942]
[943]
[944]
[945]
[946]
[947]
[948]
[949]
[950]
[951]
[952]
[953]
[954]
[955]
[956]
[957]
[958]
[959]
[960]
[961]
[962]
[963]
[964]
[965]
[966]
[967]
[968]
[969]
[970]
[971]
[972]
[973]
[974]
[975]
[976]
[977]
[978]
[979]
[980]
[981]
[982]
[983]
[984]
[985]
[986]
[987]
[988]
[989]
[990]
[991]
[992]
[993]
[994]
[995]
[996]
[997]
[998]
[999]
[1000]

{"sheet":"h10","index":22,"n_rows":38,"n_cols":27,"rows_kept":38,"hidden":true}
[1,2,3,4,5,6,7,8,9,10,11,12,13,14,15,16,17,18,19,20,21,22,23,24,25,26,27]
[null,{"$f":"Hierarchia_10!B9","v":"p1"},{"$f":"Hierarchia_10!C9","v":"p2"},{"$f":"Hierarchia_10!D9","v":"p3"},{"$f":"Hierarchia_10!E9","v":"p4"},{"$f":"Hierarchia_10!F9","v":"p5"},{"$f":"Hierarchia_10!G9","v":"p6"},{"$f":"Hierarchia_10!H9","v":"p7"},{"$f":"Hierarchia_10!I9","v":"p8"},{"$f":"Hierarchia_10!J9","v":"p9"},{"$f":"Hierarchia_10!K9","v":"p10"},{"$f":"Hierarchia_10!L9","v":"p11"},{"$f":"Hierarchia_10!M9","v":"p12"},{"$f":"Hierarchia_10!N9","v":"p13"},{"$f":"Hierarchia_10!O9","v":"p14"},{"$f":"Hierarchia_10!P9","v":"p15"}]
[1,{"$f":"COUNTIF(Hierarchia_10!B10:B5000,1)","v":0},{"$f":"COUNTIF(Hierarchia_10!C10:C5000,1)","v":0},{"$f":"COUNTIF(Hierarchia_10!D10:D5000,1)","v":0},{"$f":"COUNTIF(Hierarchia_10!E10:E5000,1)","v":0},{"$f":"COUNTIF(Hierarchia_10!F10:F5000,1)","v":0},{"$f":"COUNTIF(Hierarchia_10!G10:G5000,1)","v":0},{"$f":"COUNTIF(Hierarchia_10!H10:H5000,1)","v":0},{"$f":"COUNTIF(Hierarchia_10!I10:I5000,1)","v":0},{"$f":"COUNTIF(Hierarchia_10!J10:J5000,1)","v":0},{"$f":"COUNTIF(Hierarchia_10!K10:K5000,1)","v":0},{"$f":"COUNTIF(Hierarchia_10!L10:L5000,1)","v":0},{"$f":"COUNTIF(Hierarchia_10!M10:M5000,1)","v":0},{"$f":"COUNTIF(Hierarchia_10!N10:N5000,1)","v":0},{"$f":"COUNTIF(Hierarchia_10!O10:O5000,1)","v":0},{"$f":"COUNTIF(Hierarchia_10!P10:P5000,1)","v":0}]
[2,{"$f":"COUNTIF(Hierarchia_10!B10:B5000,2)","v":0},{"$f":"COUNTIF(Hierarchia_10!C10:C5000,2)","v":0},{"$f":"COUNTIF(Hierarchia_10!D10:D5000,2)","v":0},{"$f":"COUNTIF(Hierarchia_10!E10:E5000,2)","v":0},{"$f":"COUNTIF(Hierarchia_10!F10:F5000,2)","v":0},{"$f":"COUNTIF(Hierarchia_10!G10:G5000,2)","v":0},{"$f":"COUNTIF(Hierarchia_10!H10:H5000,2)","v":0},{"$f":"COUNTIF(Hierarchia_10!I10:I5000,2)","v":0},{"$f":"COUNTIF(Hierarchia_10!J10:J5000,2)","v":0},{"$f":"COUNTIF(Hierarchia_10!K10:K5000,2)","v":0},{"$f":"COUNTIF(Hierarchia_10!L10:L5000,2)","v":0},{"$f":"COUNTIF(Hierarchia_10!M10:M5000,2)","v":0},{"$f":"COUNTIF(Hierarchia_10!N10:N5000,2)","v":0},{"$f":"COUNTIF(Hierarchia_10!O10:O5000,2)","v":0},{"$f":"COUNTIF(Hierarchia_10!P10:P5000,2)","v":0}]
[3,{"$f":"COUNTIF(Hierarchia_10!B10:B5000,3)","v":0},{"$f":"COUNTIF(Hierarchia_10!C10:C5000,3)","v":0},{"$f":"COUNTIF(Hierarchia_10!D10:D5000,3)","v":0},{"$f":"COUNTIF(Hierarchia_10!E10:E5000,3)","v":0},{"$f":"COUNTIF(Hierarchia_10!F10:F5000,3)","v":0},{"$f":"COUNTIF(Hierarchia_10!G10:G5000,3)","v":0},{"$f":"COUNTIF(Hierarchia_10!H10:H5000,3)","v":0},{"$f":"COUNTIF(Hierarchia_10!I10:I5000,3)","v":0},{"$f":"COUNTIF(Hierarchia_10!J10:J5000,3)","v":0},{"$f":"COUNTIF(Hierarchia_10!K10:K5000,3)","v":0},{"$f":"COUNTIF(Hierarchia_10!L10:L5000,3)","v":0},{"$f":"COUNTIF(Hierarchia_10!M10:M5000,3)","v":0},{"$f":"COUNTIF(Hierarchia_10!N10:N5000,3)","v":0},{"$f":"COUNTIF(Hierarchia_10!O10:O5000,3)","v":0},{"$f":"COUNTIF(Hierarchia_10!P10:P5000,3)","v":0}]
[4,{"$f":"COUNTIF(Hierarchia_10!B10:B5000,4)","v":0},{"$f":"COUNTIF(Hierarchia_10!C10:C5000,4)","v":0},{"$f":"COUNTIF(Hierarchia_10!D10:D5000,4)","v":0},{"$f":"COUNTIF(Hierarchia_10!E10:E5000,4)","v":0},{"$f":"COUNTIF(Hierarchia_10!F10:F5000,4)","v":0},{"$f":"COUNTIF(Hierarchia_10!G10:G5000,4)","v":0},{"$f":"COUNTIF(Hierarchia_10!H10:H5000,4)","v":0},{"$f":"COUNTIF(Hierarchia_10!I10:I5000,4)","v":0},{"$f":"COUNTIF(Hierarchia_10!J10:J5000,4)","v":0},{"$f":"COUNTIF(Hierarchia_10!K10:K5000,4)","v":0},{"$f":"COUNTIF(Hierarchia_10!L10:L5000,4)","v":0},{"$f":"COUNTIF(Hierarchia_10!M10:M5000,4)","v":0},{"$f":"COUNTIF(Hierarchia_10!N10:N5000,4)","v":0},{"$f":"COUNTIF(Hierarchia_10!O10:O5000,4)","v":0},{"$f":"COUNTIF(Hierarchia_10!P10:P5000,4)","v":0}]
[5,{"$f":"COUNTIF(Hierarchia_10!B10:B5000,5)","v":0},{"$f":"COUNTIF(Hierarchia_10!C10:C5000,5)","v":0},{"$f":"COUNTIF(Hierarchia_10!D10:D5000,5)","v":0},{"$f":"COUNTIF(Hierarchia_10!E10:E5000,5)","v":0},{"$f":"COUNTIF(Hierarchia_10!F10:F5000,5)","v":0},{"$f":"COUNTIF(Hierarchia_10!G10:G5000,5)","v":0},{"$f":"COUNTIF(Hierarchia_10!H10:H5000,5)","v":0},{"$f":"COUNTIF(Hierarchia_10!I10:I5000,5)","v":0},{"$f":"COUNTIF(Hierarchia_10!J10:J5000,5)","v":0},{"$f":"COUNTIF(Hierarchia_10!K10:K5000,5)","v":0},{"$f":"COUNTIF(Hierarchia_10!L10:L5000,5)","v":0},{"$f":"COUNTIF(Hierarchia_10!M10:M5000,5)","v":0},{"$f":"COUNTIF(Hierarchia_10!N10:N5000,5)","v":0},{"$f":"COUNTIF(Hierarchia_10!O10:O5000,5)","v":0},{"$f":"COUNTIF(Hierarchia_10!P10:P5000,5)","v":0}]
[6,{"$f":"Hierarchia_10!$B$4-SUM('h10'!B3:B7)","v":0},{"$f":"Hierarchia_10!$B$4-SUM('h10'!C3:C7)","v":0},{"$f":"Hierarchia_10!$B$4-SUM('h10'!D3:D7)","v":0},{"$f":"Hierarchia_10!$B$4-SUM('h10'!E3:E7)","v":0},{"$f":"Hierarchia_10!$B$4-SUM('h10'!F3:F7)","v":0},{"$f":"Hierarchia_10!$B$4-SUM('h10'!G3:G7)","v":0},{"$f":"Hierarchia_10!$B$4-SUM('h10'!H3:H7)","v":0},{"$f":"Hierarchia_10!$B$4-SUM('h10'!I3:I7)","v":0},{"$f":"Hierarchia_10!$B$4-SUM('h10'!J3:J7)","v":0},{"$f":"Hierarchia_10!$B$4-SUM('h10'!K3:K7)","v":0},{"$f":"Hierarchia_10!$B$4-SUM('h10'!L3:L7)","v":0},{"$f":"Hierarchia_10!$B$4-SUM('h10'!M3:M7)","v":0},{"$f":"Hierarchia_10!$B$4-SUM('h10'!N3:N7)","v":0},{"$f":"Hierarchia_10!$B$4-SUM('h10'!O3:O7)","v":0},{"$f":"Hierarchia_10!$B$4-SUM('h10'!P3:P7)","v":0}]
[]
["Skumulowane"]
[null,{"$f":"B2","v":"p1"},{"$f":"C2","v":"p2"},"p3","p4","p5","p6","p7","p8","p9","p10","p11","p12","p13","p14","p15",{"$nulls":4},"max-s_licz","s","max-s","max","max_licz"]
[1,{"$f":"B3","v":0},0,0,0,0,0,0,0,0,0,0,0,0,0,0,{"$nulls":4},{"$f":"COUNTIF(B12:P12,\">=\"&W12)","v":15},{"$f":"_xlfn.STDEV.P(B12:P12)","v":{"v":0,"d":"0.0"}},{"$f":"MAX(B12:P12)-V12","v":{"v":0,"d":"0.0"}},{"$f":"MAX(B18:P18)","v":0},{"$f":"COUNTIF(B18:P18,X12)","v":0}]
[2,{"$nulls":19},{"$f":"COUNTIF(B13:P13,\">=\"&W13)","v":0},{"$f":"_xlfn.STDEV.P(B13:P13)","v":{"$error":"#DIV/0!"}},{"$f":"MAX(B13:P13)-V13","v":{"$error":"#DIV/0!"}},0,0]
[3,{"$nulls":19},0,{"$error":"#DIV/0!"},{"$error":"#DIV/0!"},0,0]
[4,{"$nulls":19},0,{"$error":"#DIV/0!"},{"$error":"#DIV/0!"},0,0]
[5,{"$nulls":19},0,{"$error":"#DIV/0!"},{"$error":"#DIV/0!"},0,0]
[6,{"$nulls":19},0,{"$error":"#DIV/0!"},{"$error":"#DIV/0!"},0,0]
["max_1"]
["max_2"]
["max_3"]
["max_4"]
["max_5"]
["max_6"]
["p1","Uzyskanie mieszkania"]
["p2","Poprawa warunków mieszkaniowych"]
["p3","Zakup / naprawa samochodu"]
["p4","Możliwość poruszania się poza domem"]
["p5","Zaopatrzenie w przedmioty ortopedyczne, rehabilitacyjne, środki pomocnicze"]
["p6","Zaopatrzenie w leki"]
["p7","Opieka lekarska / medyczna / rehabilitacyjna"]
["p8","Pomoc w czynnościach codziennych"]
["p9","Dostęp do asystenta osoby niepełnosprawnej / opiekuna"]
["p10","Podwyższenie wykształcenia, kwalifikacji zawodowych"]
["p11","Uzyskanie / zmiana pracy"]
["p12","Możliwość realizacji własnych zainteresowań"]
["p13","Uzyskanie pomocy finansowej"]
["p14","Uzyskanie pomocy rzeczowej"]
["p15","Inne, jakie?"]